BEGIN:VCALENDAR
VERSION:2.0
PRODID:-//Kurikan Lakkitehdas - ECPv6.15.20//NONSGML v1.0//EN
CALSCALE:GREGORIAN
METHOD:PUBLISH
X-ORIGINAL-URL:https://kurikanlakkitehdas.fi
X-WR-CALDESC:Tapahtumat Kurikan Lakkitehdas
REFRESH-INTERVAL;VALUE=DURATION:PT1H
X-Robots-Tag:noindex
X-PUBLISHED-TTL:PT1H
BEGIN:VTIMEZONE
TZID:Europe/Helsinki
BEGIN:DAYLIGHT
TZOFFSETFROM:+0200
TZOFFSETTO:+0300
TZNAME:EEST
DTSTART:20240331T010000
END:DAYLIGHT
BEGIN:STANDARD
TZOFFSETFROM:+0300
TZOFFSETTO:+0200
TZNAME:EET
DTSTART:20241027T010000
END:STANDARD
BEGIN:DAYLIGHT
TZOFFSETFROM:+0200
TZOFFSETTO:+0300
TZNAME:EEST
DTSTART:20250330T010000
END:DAYLIGHT
BEGIN:STANDARD
TZOFFSETFROM:+0300
TZOFFSETTO:+0200
TZNAME:EET
DTSTART:20251026T010000
END:STANDARD
BEGIN:DAYLIGHT
TZOFFSETFROM:+0200
TZOFFSETTO:+0300
TZNAME:EEST
DTSTART:20260329T010000
END:DAYLIGHT
BEGIN:STANDARD
TZOFFSETFROM:+0300
TZOFFSETTO:+0200
TZNAME:EET
DTSTART:20261025T010000
END:STANDARD
END:VTIMEZONE
BEGIN:VEVENT
DTSTART;VALUE=DATE:20251011
DTEND;VALUE=DATE:20251012
DTSTAMP:20260419T172711
CREATED:20250811T093323Z
LAST-MODIFIED:20250811T093323Z
UID:19465-1760140800-1760227199@kurikanlakkitehdas.fi
SUMMARY:Kullervo X HÄJYT
DESCRIPTION:Häjyt on kolmesta eteläpohjalaisesta räppäristä (Kullervo\, Pasanen\, Huutis) sekä tuottaja Otsosta koostuva ryhmä\, joka on noussut maakuntaräpin keulakuvaksi ennennäkemättömällä tavalla. Häjyjen musiikissa kuuluu pohjalaisen vaurauden lähteet: kova ja rehellinen työ\, itsepäisyys ja lantaisten housunpunttien rahakas tuoksu. \nSyksyllä julkaistava debyyttialbumi paketoi yhteen vuoden aikana esitellyn nousukiidon: kappaleet kuten Hulluu ja Häjyy\, Tukka Takana ja Häjyä antavat esimakua yhtyeen monipuolisesta saundista. Saundimaailma ammentaa niin West Coast -kuin myös stadionräpistä\, mutta kaikki on käännetty lakeuksien kielelle. Häjyt ei matki jenkkiräppiä\, vaan rakentaa omaa kuvastoa\, jossa kotiseutu on tärkein. \nYhtyeen aiemmat singlet ovat keränneet satojatuhansia kuunteluita Spotifyssa ja nousseet viraalilistoille omalaatuista markkinointiaan hyödyntäen. Häjyjen live-esiintymiset ovat täynnä paikallisylpeyttä ja energiaa! \nShowtime 23\nLiput ennakkoon 13€ ja ovelta 15€\nK18
URL:https://kurikanlakkitehdas.fi/tapahtuma/kullervo-x-hajyt/
LOCATION:Makasiinin Baari\, Laurintie 28\, Kurikka\, 61300\, Finland
CATEGORIES:Makasiinin Baari
ATTACH;FMTTYPE=application/pdf:https://kurikanlakkitehdas.fi/wp-content/uploads/2025/08/Hajyt-Logo.pdf
END:VEVENT
BEGIN:VEVENT
DTSTART;VALUE=DATE:20251025
DTEND;VALUE=DATE:20251026
DTSTAMP:20260419T172711
CREATED:20250826T102828Z
LAST-MODIFIED:20250826T102828Z
UID:19526-1761350400-1761436799@kurikanlakkitehdas.fi
SUMMARY:Kekri Fest & Feast
DESCRIPTION:Kekri Fest & Feast palaa jälleen Kurikan Makasiinilla. Tule kokemaan täysin erilainen päivä kekrimyyjäisten maagisessa ilmapiirissä\, syömään kekrilounas ja juhlimaan kanssamme pilkkuun asti iltajuhlassa.  \nKekrilounas Wanhalla Asemalla klo 12-16\, hinta 22€/aikuinen\nKekrimyyjäiset Makasiinilla klo 12-17 (vapaa pääsy)\nLenaLumo tuliesitys klo 16 \nIltatapahtuma Makasiinilla klo 21.30 eteenpäin\, liput 15€\nK-18\nLuvassa:\nKajos\nLenaLumo tuliesitys ja YXpila-art tanssiduo\nLiverituaali\nKallomäki
URL:https://kurikanlakkitehdas.fi/tapahtuma/kekri-fest-feast-2/
LOCATION:Makasiinin Baari\, Laurintie 28\, Kurikka\, 61300\, Finland
CATEGORIES:Makasiinin Baari
ATTACH;FMTTYPE=image/jpeg:https://kurikanlakkitehdas.fi/wp-content/uploads/2025/08/kekri-scaled.jpg
END:VEVENT
END:VCALENDAR