BEGIN:VCALENDAR
VERSION:2.0
PRODID:-//Kurikan Lakkitehdas - ECPv6.15.20//NONSGML v1.0//EN
CALSCALE:GREGORIAN
METHOD:PUBLISH
X-ORIGINAL-URL:https://kurikanlakkitehdas.fi
X-WR-CALDESC:Tapahtumat Kurikan Lakkitehdas
REFRESH-INTERVAL;VALUE=DURATION:PT1H
X-Robots-Tag:noindex
X-PUBLISHED-TTL:PT1H
BEGIN:VTIMEZONE
TZID:Europe/Helsinki
BEGIN:DAYLIGHT
TZOFFSETFROM:+0200
TZOFFSETTO:+0300
TZNAME:EEST
DTSTART:20240331T010000
END:DAYLIGHT
BEGIN:STANDARD
TZOFFSETFROM:+0300
TZOFFSETTO:+0200
TZNAME:EET
DTSTART:20241027T010000
END:STANDARD
BEGIN:DAYLIGHT
TZOFFSETFROM:+0200
TZOFFSETTO:+0300
TZNAME:EEST
DTSTART:20250330T010000
END:DAYLIGHT
BEGIN:STANDARD
TZOFFSETFROM:+0300
TZOFFSETTO:+0200
TZNAME:EET
DTSTART:20251026T010000
END:STANDARD
BEGIN:DAYLIGHT
TZOFFSETFROM:+0200
TZOFFSETTO:+0300
TZNAME:EEST
DTSTART:20260329T010000
END:DAYLIGHT
BEGIN:STANDARD
TZOFFSETFROM:+0300
TZOFFSETTO:+0200
TZNAME:EET
DTSTART:20261025T010000
END:STANDARD
END:VTIMEZONE
BEGIN:VEVENT
DTSTART;VALUE=DATE:20250503
DTEND;VALUE=DATE:20250504
DTSTAMP:20260420T011318
CREATED:20250318T081206Z
LAST-MODIFIED:20250318T081206Z
UID:18234-1746230400-1746316799@kurikanlakkitehdas.fi
SUMMARY:MIETAA: Paluu 80-luvulle! SKÄDÄM
DESCRIPTION:MIETAA: Paluu 80-luvulle! SKÄDÄM \n”Siitä kauan jo on kun lähdit katsomaan maailmaa…” \nTämä artisti ei paljoa esittelyjä kaipaa. Yksi odotetuimmista ja toivotuimmista aristeista tekee paluun Mietaalle!\nDJ:t 100% 80’S\nKlo 20-1.30 \nSKÄDÄM Live!\nDJ Salsa Sinisalo (Kasari Radio)\nDJ Tony (HitMix)\nDJ Jake The One (DiscoTarget)\nDJ R.CuBe (Mietaa)\nDJ Mikki (Mietaa) \nEnnakkoliput 23€\, ovelta 25€\nEnnakkolipunmyynti Keskiviikkoon 30.04.2025 klo 00.00 saakka.\nK18 \nVirallisena jatkopaikkana Makasiini\, jonne pääsee Mietaan leimalla ilmaiseksi sisälle.
URL:https://kurikanlakkitehdas.fi/tapahtuma/mietaa-paluu-80-luvulle-skadam/
LOCATION:Mietaan Nuorisoseura\, Mietaantie 392\, Kurikka\, 61370\, Finland
CATEGORIES:Mietaan Nuorisoseura
ATTACH;FMTTYPE=image/jpeg:https://kurikanlakkitehdas.fi/wp-content/uploads/2025/03/skakdammietaa.jpg
END:VEVENT
BEGIN:VEVENT
DTSTART;VALUE=DATE:20250524
DTEND;VALUE=DATE:20250525
DTSTAMP:20260420T011318
CREATED:20250102T104831Z
LAST-MODIFIED:20250519T050054Z
UID:17876-1748044800-1748131199@kurikanlakkitehdas.fi
SUMMARY:The 69 Eyes
DESCRIPTION:The 69 Eyes on vuonna 1989 Helsingissä perustettu rock-yhtye. Sen musiikkityyliin liitetään usein määritelmät sleaze rock ja goottirock. Yhtyeen vuonna 2004 julkaistu Devils-levy sijoittui ensimmäisellä myyntiviikollaan Suomen albumilistan ensimmäiseksi\, kuten 69 Eyesin kaksi aiempaa albumiakin ja myöhempi Angels. \nK-18\nShowtime 23\nliput ennakkoon 32€ ja ovelta 35€\nEnnakkoliput tulevat myyntiin 24.3.2025 klo 12
URL:https://kurikanlakkitehdas.fi/tapahtuma/the-69-eyes/
LOCATION:Makasiinin Baari\, Laurintie 28\, Kurikka\, 61300\, Finland
CATEGORIES:Makasiinin Baari
ATTACH;FMTTYPE=image/jpeg:https://kurikanlakkitehdas.fi/wp-content/uploads/2025/01/69.jpg
END:VEVENT
END:VCALENDAR