BEGIN:VCALENDAR
VERSION:2.0
PRODID:-//Kurikan Lakkitehdas - ECPv6.15.20//NONSGML v1.0//EN
CALSCALE:GREGORIAN
METHOD:PUBLISH
X-WR-CALNAME:Kurikan Lakkitehdas
X-ORIGINAL-URL:https://kurikanlakkitehdas.fi
X-WR-CALDESC:Tapahtumat Kurikan Lakkitehdas
REFRESH-INTERVAL;VALUE=DURATION:PT1H
X-Robots-Tag:noindex
X-PUBLISHED-TTL:PT1H
BEGIN:VTIMEZONE
TZID:Europe/Helsinki
BEGIN:DAYLIGHT
TZOFFSETFROM:+0200
TZOFFSETTO:+0300
TZNAME:EEST
DTSTART:20240331T010000
END:DAYLIGHT
BEGIN:STANDARD
TZOFFSETFROM:+0300
TZOFFSETTO:+0200
TZNAME:EET
DTSTART:20241027T010000
END:STANDARD
BEGIN:DAYLIGHT
TZOFFSETFROM:+0200
TZOFFSETTO:+0300
TZNAME:EEST
DTSTART:20250330T010000
END:DAYLIGHT
BEGIN:STANDARD
TZOFFSETFROM:+0300
TZOFFSETTO:+0200
TZNAME:EET
DTSTART:20251026T010000
END:STANDARD
BEGIN:DAYLIGHT
TZOFFSETFROM:+0200
TZOFFSETTO:+0300
TZNAME:EEST
DTSTART:20260329T010000
END:DAYLIGHT
BEGIN:STANDARD
TZOFFSETFROM:+0300
TZOFFSETTO:+0200
TZNAME:EET
DTSTART:20261025T010000
END:STANDARD
END:VTIMEZONE
BEGIN:VEVENT
DTSTART;VALUE=DATE:20250412
DTEND;VALUE=DATE:20250413
DTSTAMP:20260420T041805
CREATED:20250108T071624Z
LAST-MODIFIED:20250108T071624Z
UID:17890-1744416000-1744502399@kurikanlakkitehdas.fi
SUMMARY:Riuska
DESCRIPTION:Riuska on Etelä-Pohjanmaalta kotoisin olevan yhtye\, joka sekoittaa rokkia\, heviä ja kansanmusiikkia pohjalaiseen mentaliteettiin.  \nShowtime 23\nLiput 8€
URL:https://kurikanlakkitehdas.fi/tapahtuma/riuska/
LOCATION:Makasiinin Baari\, Laurintie 28\, Kurikka\, 61300\, Finland
CATEGORIES:Makasiinin Baari
ATTACH;FMTTYPE=image/jpeg:https://kurikanlakkitehdas.fi/wp-content/uploads/2025/01/riuska.jpg
END:VEVENT
BEGIN:VEVENT
DTSTART;VALUE=DATE:20250418
DTEND;VALUE=DATE:20250419
DTSTAMP:20260420T041805
CREATED:20250121T061049Z
LAST-MODIFIED:20250121T061049Z
UID:17908-1744934400-1745020799@kurikanlakkitehdas.fi
SUMMARY:LocoBand
DESCRIPTION:Bilettääkö!?\nNo niin pitääkin\, nimittäin meininkiä piisaa LocoBandin tasokkaan bilemusan tahdissa!\nSoitamme jalkineen alle menevää musiikkia\, klassikoista päivän hitteihin\, ammattitaitoisen viidestä muusikoista koostuvan yhtyeemme voimin.\nTule tsekkaamaan paikanpäälle!\n-LocoBand- \nShowtime 23\nLiput 10€\nK-18
URL:https://kurikanlakkitehdas.fi/tapahtuma/locoband/
LOCATION:Makasiinin Baari\, Laurintie 28\, Kurikka\, 61300\, Finland
CATEGORIES:Makasiinin Baari
ATTACH;FMTTYPE=image/jpeg:https://kurikanlakkitehdas.fi/wp-content/uploads/2025/01/Photo-LocoBand.jpeg
END:VEVENT
BEGIN:VEVENT
DTSTART;VALUE=DATE:20250430
DTEND;VALUE=DATE:20250501
DTSTAMP:20260420T041805
CREATED:20250327T094833Z
LAST-MODIFIED:20250327T094833Z
UID:18591-1745971200-1746057599@kurikanlakkitehdas.fi
SUMMARY:Makasiinin vappu; Bilebändi Bilejuna
DESCRIPTION:Bilejuna on kirkkainta kärkeä edustava ammattitason bilebändi\, joka vie raiteillaan unohtumattomalle bilematkalle. Tässä junassa ei makuuvaunuja tarvita\, sillä kyydissä kuullaan kaikkien aikojen parhaita poimintoja rokista räppiin\, diskosta poppiin sekä tunnetuimpia hittejä sovitettuna nerokkaasti yhteen. Hyppää siis kyytiin ja nauti matkasta! \nK-18\nShowtime 23\nLiput 14€
URL:https://kurikanlakkitehdas.fi/tapahtuma/makasiinin-vappu-bilebandi-bilejuna/
LOCATION:Makasiinin Baari\, Laurintie 28\, Kurikka\, 61300\, Finland
CATEGORIES:Makasiinin Baari
ATTACH;FMTTYPE=image/png:https://kurikanlakkitehdas.fi/wp-content/uploads/2023/03/BJ2022_letter-1440x960-1.png
END:VEVENT
END:VCALENDAR