BEGIN:VCALENDAR
VERSION:2.0
PRODID:-//Kurikan Lakkitehdas - ECPv6.15.20//NONSGML v1.0//EN
CALSCALE:GREGORIAN
METHOD:PUBLISH
X-ORIGINAL-URL:https://kurikanlakkitehdas.fi
X-WR-CALDESC:Tapahtumat Kurikan Lakkitehdas
REFRESH-INTERVAL;VALUE=DURATION:PT1H
X-Robots-Tag:noindex
X-PUBLISHED-TTL:PT1H
BEGIN:VTIMEZONE
TZID:Europe/Helsinki
BEGIN:DAYLIGHT
TZOFFSETFROM:+0200
TZOFFSETTO:+0300
TZNAME:EEST
DTSTART:20230326T010000
END:DAYLIGHT
BEGIN:STANDARD
TZOFFSETFROM:+0300
TZOFFSETTO:+0200
TZNAME:EET
DTSTART:20231029T010000
END:STANDARD
BEGIN:DAYLIGHT
TZOFFSETFROM:+0200
TZOFFSETTO:+0300
TZNAME:EEST
DTSTART:20240331T010000
END:DAYLIGHT
BEGIN:STANDARD
TZOFFSETFROM:+0300
TZOFFSETTO:+0200
TZNAME:EET
DTSTART:20241027T010000
END:STANDARD
BEGIN:DAYLIGHT
TZOFFSETFROM:+0200
TZOFFSETTO:+0300
TZNAME:EEST
DTSTART:20250330T010000
END:DAYLIGHT
BEGIN:STANDARD
TZOFFSETFROM:+0300
TZOFFSETTO:+0200
TZNAME:EET
DTSTART:20251026T010000
END:STANDARD
END:VTIMEZONE
BEGIN:VEVENT
DTSTART;VALUE=DATE:20241206
DTEND;VALUE=DATE:20241207
DTSTAMP:20260420T090955
CREATED:20240624T065018Z
LAST-MODIFIED:20241105T194520Z
UID:15265-1733443200-1733529599@kurikanlakkitehdas.fi
SUMMARY:Virve Rosti
DESCRIPTION:Meistä riippumattomista syistä Virve Rostin keikka joudutaan siirtämään. Uusi päivämäärä on 6.12.2024. Tapahtumaan ostetut liput käyvät suoraan uudelle päivämäärälle. Mikäli haluat palauttaa lippusi laita sähköpostia juha@kurikanlakkitehdas.fi 15.9.2024 mennessä.  \nIkinuori energiapakkaus on kiertänyt viihdyttämässä lauluillaan suomalaisia jo viidellä vuosikymmenellä ja hän keikkailee edelleen aktiivisesti ravintoloissa\, tapahtumissa ja yksityistilaisuuksissa. \nTänä vuonna 65-vuotisjuhliaan viettävä Virve Rosti nähdään uudella Vain Elämää -ohjelman 14. tuotantokaudella \nEnergiapakkaus ja rocklady on parhaimmillaan hillitöntä iloittelua Loyals orkesterinsa kanssa. \nTapahtuma on k-18\nShowtime 23\nLiput ennakkoon 28€ ja ovelta 30€\nEnnakkoliput tulevat myyntiin 5.8 klo 12\nEnnakkoliput ovat saatavilla keikkapäivänä klo 18 saakka osoitteesta makasiininbaari.fi
URL:https://kurikanlakkitehdas.fi/tapahtuma/virve-rosti/
LOCATION:Makasiinin Baari\, Laurintie 28\, Kurikka\, 61300\, Finland
CATEGORIES:Makasiinin Baari
ATTACH;FMTTYPE=image/jpeg:https://kurikanlakkitehdas.fi/wp-content/uploads/2024/06/vikirosti.jpg
END:VEVENT
BEGIN:VEVENT
DTSTART;VALUE=DATE:20241207
DTEND;VALUE=DATE:20241208
DTSTAMP:20260420T090955
CREATED:20240624T082603Z
LAST-MODIFIED:20241105T194448Z
UID:15285-1733529600-1733615999@kurikanlakkitehdas.fi
SUMMARY:Ylävire
DESCRIPTION:Ylävire. Rokkia\, rakkautta ja hyväntuulista musiikkia. Kappaleissamme lauletaan niin ilon ja riemun tunteista kuin hieman vakavemmista aiheista liittyen elämäämme maapallolla. \nKappaleemme kertovat siitä mitä olemme omin silmin nähneet tai korvamme ovat kuulleet. Kappaleet syntyvät milloin mistäkin\, joskus ne kertovat ystävistämme\, joskus ne kertovat meistä tai joskus ne kertovat laajemmista maailmankaikkeuteen liittyvistä asioista. Pohdimme vakavin mielin mihin maailma ympärillämme kehittyy\, seuraavana hetkenä nauramme kippurassa yhdessä ja muistelemme menneitä muistoja ja kuinka olemme päätyneet pisteeseen jossa nyt olemme. Jaamme paljon samoja arvoja sekä olemme kokeneet asioita paljon yhdessä. Opimme jatkuvasti uutta ja haluamme niin tehdä tulevaisuudessakin.\nMusiikkiamme on kuvailtu positiiviseksi ja hyvän mielen musiikiksi. Se saa ihmiset hymyilemään\, pomppimaan ja kyynelehtimään. Melodiat ovat tarttuvia\, sanat nokkelia ja sovitukset ainutlaatuisia. \nTapahtuma on k-18\nShowtime 23\nLiput 8€\nEnnakkoliput ovat saataville keikkapäivänä klo 18 saakka osoitteessa makasiininbaari.fi
URL:https://kurikanlakkitehdas.fi/tapahtuma/ylavire/
LOCATION:Makasiinin Baari\, Laurintie 28\, Kurikka\, 61300\, Finland
CATEGORIES:Makasiinin Baari
ATTACH;FMTTYPE=image/jpeg:https://kurikanlakkitehdas.fi/wp-content/uploads/2024/06/ylavire.jpg
END:VEVENT
BEGIN:VEVENT
DTSTART;VALUE=DATE:20241214
DTEND;VALUE=DATE:20241215
DTSTAMP:20260420T090955
CREATED:20240624T084812Z
LAST-MODIFIED:20241214T145227Z
UID:15289-1734134400-1734220799@kurikanlakkitehdas.fi
SUMMARY:Steve’n’Seagulls
DESCRIPTION:Steve’n’Seagulls on vuonna 2010 perustettu suomalaisyhtye. Bändin musiikkia on kuvailtu ja yritetty lokeroida monin tavoin\, mutta lähimpänä lienevät newgrass\, country\, rock\, ja ainakin soitinnuksen osalta myös bluegrass. Keikoilla nähtävä soitinarsenaali on alusta asti ollut erittäin laaja; banjo\, mandoliini\, rummut\, kontrabasso\, haitari\, kitara\, huilu ja muut soittimet vaihtuvat bändiläisten käsissä välillä jopa lennosta.  Ajan myötä yhtyeestä on hioutunut timantinkova ja tunnelman laipioon nostava kokonaisuus\, joka kiertää ympäri maapallon välittämässä yleisölle musiikin ilosanomaa suoraan kylmästä pohjolasta. Jos yhtye aluksi tunnettiin rock- ja metal-klassikoiden uudelleen sovittamisesta\, on yhtye kolmella viimeisellä levyllään esitellyt kansainväliselle yleisölleen myös omaa tuotantoa.\nJoka kolkassa yleisöstä tuntuu huokuvan sama tunne; bändin keikoilla viihdytään\, pidetään hauskaa ja nautitaan ainutlaatuisesta musiikillisesta keitoksesta! \nTapahtuma on k-18\nShowtime 23\nLiput ennakkoon 28€ ja ovelta 30€\nEnnakkoliput tulevat myyntiin 14.10 klo 12\nEnnakkoliput ovat saatavilla keikkapäivänä klo 18 saakka osoitteessa makasiininbaari.fi
URL:https://kurikanlakkitehdas.fi/tapahtuma/stevenseagulls/
LOCATION:Makasiinin Baari\, Laurintie 28\, Kurikka\, 61300\, Finland
CATEGORIES:Makasiinin Baari
ATTACH;FMTTYPE=image/jpeg:https://kurikanlakkitehdas.fi/wp-content/uploads/2024/06/steven-seagulls-scaled.jpg
END:VEVENT
BEGIN:VEVENT
DTSTART;VALUE=DATE:20241221
DTEND;VALUE=DATE:20241222
DTSTAMP:20260420T090955
CREATED:20240624T081618Z
LAST-MODIFIED:20241105T194336Z
UID:15281-1734739200-1734825599@kurikanlakkitehdas.fi
SUMMARY:Aurora
DESCRIPTION:Kotimaisen reggaepopin kuningatar Aurora on tunnettu letkeästä musiikistaan\, aurinkoisista keikoista ja valtaisista hiteistään. \nHänen esikoissinglensä Eilisen aurinko julkaistiin vuonna 2014 levy-yhtiö Sony Musicin kautta. Toinen single Se soi ylsi julkaistiin samana vuonna ja single striimasi kultaa. Huipputuottaja Sakke Aallon tuottama artistin esikoisalbumi Kadotaan kaupunkiin julkaistiin tammikuussa 2015 ja on myös ylittänyt kultalevyrajan. Albumi oli ehdolla Emma Gaalassa vuoden 2015 pop-levyksi. Aurora oli Emma Gaalassa ehdolla myös vuoden 2015 naissolistiksi ja yleisöäänestyksessä vuoden artistiksi. Artistin toinen albumi ”Valtakunta” -levy julkaistiin vuonna 2017\, jolta hiteiksi nousivat Kaikki mitä näät jaTäydelliset -kappaleet. \nTapahtuma on k-18\nShowtime 23\nLiput ennakkoon 10€ ovelta 12€\nEnnakkoliput saatavilla kaikkapäivänä klo 18 saakka osoitteessa makasiininbaari.fi
URL:https://kurikanlakkitehdas.fi/tapahtuma/aurora/
LOCATION:Makasiinin Baari\, Laurintie 28\, Kurikka\, 61300\, Finland
CATEGORIES:Makasiinin Baari
ATTACH;FMTTYPE=image/jpeg:https://kurikanlakkitehdas.fi/wp-content/uploads/2024/06/Aurora_promok1_kuvaaja_Bifu.jpg
END:VEVENT
BEGIN:VEVENT
DTSTART;VALUE=DATE:20241225
DTEND;VALUE=DATE:20241226
DTSTAMP:20260420T090955
CREATED:20240624T085710Z
LAST-MODIFIED:20241105T194255Z
UID:15294-1735084800-1735171199@kurikanlakkitehdas.fi
SUMMARY:Tuppu's Acoustic Experience
DESCRIPTION:Tuppu’s Acoustic Experience tarjoilee erittäin hyvän musiikillisen kattauksen lisäksi elämäniloa ja bilemieltä! \nBändi koostuu kolmesta laulusta\, akustisesta kitarasta ja Loota percussionista! \nEsitämme kaikkien tuntemaa bilemusaa!\nJoten homma toimii pomminvarmasti paikassa kuin paikassa! \nTapahtuma on k-18\nShowtime 23\nLiput 8€\nEnnakkoliput ovat saatavilla keikkapäivänä klo 18 saakka osoitteessa makasiininbaari.fi
URL:https://kurikanlakkitehdas.fi/tapahtuma/tuppus-acoustic-experience/
LOCATION:Makasiinin Baari\, Laurintie 28\, Kurikka\, 61300\, Finland
CATEGORIES:Makasiinin Baari
ATTACH;FMTTYPE=image/jpeg:https://kurikanlakkitehdas.fi/wp-content/uploads/2024/06/tuppu.jpg
END:VEVENT
BEGIN:VEVENT
DTSTART;VALUE=DATE:20241231
DTEND;VALUE=DATE:20250101
DTSTAMP:20260420T090955
CREATED:20240624T090922Z
LAST-MODIFIED:20241217T062113Z
UID:15298-1735603200-1735689599@kurikanlakkitehdas.fi
SUMMARY:Remix
DESCRIPTION:Remix on porilainen bilebändi\, joka on keikkaillut ympäri Suomea jo 15-vuotta. Tämän Suomen some-seuratuimman bilebändin keikkasetti on koottu juuri niistä biiseistä\, jotka juhliva kansa haluaa kuulla! \nTapahtuma on k-18\nShowtime 24\nLiput 12€\nEnnakkoliput ovat saatavilla keikkapäivänä klo 18 saakka osoitteessa makasiininbaari.fi
URL:https://kurikanlakkitehdas.fi/tapahtuma/remix/
LOCATION:Makasiinin Baari\, Laurintie 28\, Kurikka\, 61300\, Finland
CATEGORIES:Makasiinin Baari
ATTACH;FMTTYPE=image/jpeg:https://kurikanlakkitehdas.fi/wp-content/uploads/2024/06/Remix_group-scaled.jpg
END:VEVENT
END:VCALENDAR