BEGIN:VCALENDAR
VERSION:2.0
PRODID:-//Kurikan Lakkitehdas - ECPv6.15.20//NONSGML v1.0//EN
CALSCALE:GREGORIAN
METHOD:PUBLISH
X-ORIGINAL-URL:https://kurikanlakkitehdas.fi
X-WR-CALDESC:Tapahtumat Kurikan Lakkitehdas
REFRESH-INTERVAL;VALUE=DURATION:PT1H
X-Robots-Tag:noindex
X-PUBLISHED-TTL:PT1H
BEGIN:VTIMEZONE
TZID:Europe/Helsinki
BEGIN:DAYLIGHT
TZOFFSETFROM:+0200
TZOFFSETTO:+0300
TZNAME:EEST
DTSTART:20230326T010000
END:DAYLIGHT
BEGIN:STANDARD
TZOFFSETFROM:+0300
TZOFFSETTO:+0200
TZNAME:EET
DTSTART:20231029T010000
END:STANDARD
BEGIN:DAYLIGHT
TZOFFSETFROM:+0200
TZOFFSETTO:+0300
TZNAME:EEST
DTSTART:20240331T010000
END:DAYLIGHT
BEGIN:STANDARD
TZOFFSETFROM:+0300
TZOFFSETTO:+0200
TZNAME:EET
DTSTART:20241027T010000
END:STANDARD
BEGIN:DAYLIGHT
TZOFFSETFROM:+0200
TZOFFSETTO:+0300
TZNAME:EEST
DTSTART:20250330T010000
END:DAYLIGHT
BEGIN:STANDARD
TZOFFSETFROM:+0300
TZOFFSETTO:+0200
TZNAME:EET
DTSTART:20251026T010000
END:STANDARD
END:VTIMEZONE
BEGIN:VEVENT
DTSTART;VALUE=DATE:20241102
DTEND;VALUE=DATE:20241103
DTSTAMP:20260420T103826
CREATED:20240909T080335Z
LAST-MODIFIED:20240909T081843Z
UID:16290-1730505600-1730591999@kurikanlakkitehdas.fi
SUMMARY:Kekri Fest & Feast
DESCRIPTION:Kekri Fest & Feast \nAikataulu \npäivätapahtuma:\nklo 12 rumpukulkue (Kurikan tori-Makasiini)\nklo 12-16 sadonkorjuulounas Wanha Asema\nklo 12-17 Kekrimyyjäiset\, Makasiini\nklo 16 Hekate´s Fire tuliesitys\, Makasiini (ulkona)\n***\niltapahtuma:\nklo 19.30 Musta jooga\, Makasiini (HUOM. liput myydään erikseen ja tulevat myyntiin myöhemmin\, seuraa ilmoittelua)\nklo 22 Hekate´s Fire & Kallomäki (ulkona)\nklo 24 Kallomäki
URL:https://kurikanlakkitehdas.fi/tapahtuma/kekri-fest-feast/
LOCATION:Makasiinin Baari\, Laurintie 28\, Kurikka\, 61300\, Finland
CATEGORIES:Makasiinin Baari
ATTACH;FMTTYPE=image/png:https://kurikanlakkitehdas.fi/wp-content/uploads/2024/09/1-1.png
END:VEVENT
BEGIN:VEVENT
DTSTART;VALUE=DATE:20241116
DTEND;VALUE=DATE:20241117
DTSTAMP:20260420T103826
CREATED:20240624T074558Z
LAST-MODIFIED:20241105T194704Z
UID:15273-1731715200-1731801599@kurikanlakkitehdas.fi
SUMMARY:Ollie
DESCRIPTION:Ollie on suomalainen pop-artisti. Artisti on julkaissut urallaan kaksi albumia Villi sydän ja Laulut pimeän jälkeen. Ensimmäinen albumi rikkoi platinarajan. \nArtisti on myös huomioitu palkintoehdokkuuksilla\,  joista Emma-ehdokkuudet kuvastavat hyvin Ollien kasvua artistina. Vuonna 2018 hän oli ehdolla vuoden tulokkaaksi ”Villi sydän” -esikoislevyllään. Vuonna 2020 laulaja oli puolestaan noussut jo vuoden iskelmän ehdokkaaksi. \nTyylikkäänä ja karismaattisena esiintyjänä tunnettu Ollie syvensi suosiotaan viime vuonna ilmestyneellä ”Laulut pimeän jälkeen” -pitkäsoitollaan. Hänen materiaalinsa on sekoitus tanssittavaa\, tunteisiin vetoavaa iskelmää ja poppia. Ollien isoimpiin hitteihin lukeutuvat biisit kuten Ongelma\, Älä riko mua enää\, Sä et oo sä\, Naimisiin\, Terkkui exille\, Vaan me ja Valot. Tähän mennessä ilmestyneet kaksi albumia ovat keränneet yli 32 miljoonaa striimausta. Hänet tunnetaan myös viraalihiteiksi nousseista mashup-videoistaan. \nTapahtuma on k-18\nShowtime 23\nLiput 8€\nEnnakkoliput ovat saatavilla keikkapäivänä klo 18 saakka osoitteessa makasiininbaari.fi
URL:https://kurikanlakkitehdas.fi/tapahtuma/ollie/
LOCATION:Makasiinin Baari\, Laurintie 28\, Kurikka\, 61300\, Finland
CATEGORIES:Makasiinin Baari
ATTACH;FMTTYPE=image/jpeg:https://kurikanlakkitehdas.fi/wp-content/uploads/2024/06/Ollie-promo3-scaled-1.jpg
END:VEVENT
BEGIN:VEVENT
DTSTART;VALUE=DATE:20241123
DTEND;VALUE=DATE:20241124
DTSTAMP:20260420T103826
CREATED:20240624T075837Z
LAST-MODIFIED:20241105T194628Z
UID:15277-1732320000-1732406399@kurikanlakkitehdas.fi
SUMMARY:Peer Günt
DESCRIPTION:Menestykseen Peer Günt ponkaisi vuonna 1984 Rockin SM-kilpailuissa\, joissa kilpailivat Peer Güntin lisäksi mm. Kolmas Nainen. Debyyttialbumin Peer Günt (1985) jälkeen levyjä ilmestyi tasaiseen tahtiin aina 90-luvun puoleenväliin saakka. Bändi piti taukoa vuosituhannen vaihteessa\, mutta teki paluun vuonna 2005 albumilla No Piercing\, No Tattoo peräti yhdentoista vuoden levytystauon jälkeen. Vuonna 2006 yhtye palasi esiintymislavoille uudella kokoonpanolla\, ja sen jälkeen se on julkaissut albumit Guts and Glory (2007)\, Buck the Odds (2009) sekä livelevyn Live Today\, Gone Tomorrow (2011). \nPeer Günt on menestyksekkään uransa ajan kulkenut omaa heavy-rock’n’blues -polkuaan\, ja bändillä on takanaan tuhansia soitettuja keikkoja. Tämä vaatimaton – mutta tinkimätön – yhtye on soittanut itsensä suomalaisten sydämiin rehellisellä rock’n’rollilla ja rautaisella livemeiningillä. Yhtyeen tunnetuimpia kappaleita ovat mm. Backseat\, Bad Boys are here\, Bartender ja I Don’t Wanna Be a Rock’n’Roll Star. \nVuonna 2016 Peer Günt vietti 40-vuotisjuhlavuottaan! Näin kitaristi-laulaja Timo Nikki kertoi 40th Anniversary Tourin keikoista: ”Fiilikset on hyvät ja ollaan valmiit panemaan kaikkemme peliin\, jotta jengi saa vastinetta ostamalleen lipulle. Keskitytään triobändin vahvuuksiin\, eli pelkästään musiikkiin – kuten aina ennenkin – eli mitään sirkustemppuja ei ole odotettavissa. Keikoilla esitetään Peer Güntin musiikkia alusta tähän päivään. Tämä on paitsi yhtyeemme 40-vuotisjuhlavuosi myös mun\, Saken ja Peten 10-vuotisjuhlarundi.” \nTapahtuma on k-18\nShowtime 23\nLiput ennakkoon 28€ ja ovelta 30€\nEnnakkoliput tulevat myyntiin 15.9 klo 12\nEnnakkoliput ovat saatavilla keikkapäivänä klo 18 saakka osoitteessa makasiininbaari.fi
URL:https://kurikanlakkitehdas.fi/tapahtuma/peer-gunt/
LOCATION:Makasiinin Baari\, Laurintie 28\, Kurikka\, 61300\, Finland
CATEGORIES:Makasiinin Baari
ATTACH;FMTTYPE=image/jpeg:https://kurikanlakkitehdas.fi/wp-content/uploads/2024/06/peergunt_2009-large-1.jpg
END:VEVENT
BEGIN:VEVENT
DTSTART;VALUE=DATE:20241130
DTEND;VALUE=DATE:20241201
DTSTAMP:20260420T103826
CREATED:20240913T132845Z
LAST-MODIFIED:20241105T194555Z
UID:16322-1732924800-1733011199@kurikanlakkitehdas.fi
SUMMARY:Kaiken kansan pikkujoulut; Not So Rock BIG BAND
DESCRIPTION:Kaiken kansan pikkujoulut tarjoilee Not So Rock ft.. BIG BAND!! Tämä yhteenkuuluvuuden\, ihmisten juhla on jälleen täällä💥😍💖 \nPikkujouluhuuruinen musiikkispektaakkeli tekee paluun Kurikan kuumimpaan menomestaan Makasiinin baariin 💥💥 \nYhteislauluja\, hauskanpitoa\, joulun odotusta\, tiukkaa soitantaa ja tulisia trumpetteja. Ja tottakai joulupukki\, jouludrinkkejä sekä tonttulakit tietty!! Ja lisää buustia alkuiltaan tuo joulupukin dildomusabingo!!\nTätä iltaa et halua missata koska täällä on kaikki!!  \nOsta lippusi ennakkoon sillä tälläkään kertaa niitä ei kaikille riitä! Be there or be squirrel!!\nTapahtuma on k-18 \nIllan ohjelma:\nklo 21 lipunmyynti\nklo 22 dildomusabingo\nnoin klo 23 Not So Rock BIG BAND \nLiput ennakkoon 15€
URL:https://kurikanlakkitehdas.fi/tapahtuma/kaiken-kansan-pikkujoulut-not-so-rock-big-band/
LOCATION:Makasiinin Baari\, Laurintie 28\, Kurikka\, 61300\, Finland
CATEGORIES:Makasiinin Baari
ATTACH;FMTTYPE=image/jpeg:https://kurikanlakkitehdas.fi/wp-content/uploads/2024/09/Juliste-30.11.2024-scaled.jpg
END:VEVENT
END:VCALENDAR