BEGIN:VCALENDAR
VERSION:2.0
PRODID:-//Kurikan Lakkitehdas - ECPv6.15.20//NONSGML v1.0//EN
CALSCALE:GREGORIAN
METHOD:PUBLISH
X-ORIGINAL-URL:https://kurikanlakkitehdas.fi
X-WR-CALDESC:Tapahtumat Kurikan Lakkitehdas
REFRESH-INTERVAL;VALUE=DURATION:PT1H
X-Robots-Tag:noindex
X-PUBLISHED-TTL:PT1H
BEGIN:VTIMEZONE
TZID:Europe/Helsinki
BEGIN:DAYLIGHT
TZOFFSETFROM:+0200
TZOFFSETTO:+0300
TZNAME:EEST
DTSTART:20230326T010000
END:DAYLIGHT
BEGIN:STANDARD
TZOFFSETFROM:+0300
TZOFFSETTO:+0200
TZNAME:EET
DTSTART:20231029T010000
END:STANDARD
BEGIN:DAYLIGHT
TZOFFSETFROM:+0200
TZOFFSETTO:+0300
TZNAME:EEST
DTSTART:20240331T010000
END:DAYLIGHT
BEGIN:STANDARD
TZOFFSETFROM:+0300
TZOFFSETTO:+0200
TZNAME:EET
DTSTART:20241027T010000
END:STANDARD
BEGIN:DAYLIGHT
TZOFFSETFROM:+0200
TZOFFSETTO:+0300
TZNAME:EEST
DTSTART:20250330T010000
END:DAYLIGHT
BEGIN:STANDARD
TZOFFSETFROM:+0300
TZOFFSETTO:+0200
TZNAME:EET
DTSTART:20251026T010000
END:STANDARD
END:VTIMEZONE
BEGIN:VEVENT
DTSTART;VALUE=DATE:20241012
DTEND;VALUE=DATE:20241013
DTSTAMP:20260420T121318
CREATED:20240822T170333Z
LAST-MODIFIED:20240827T052748Z
UID:16132-1728691200-1728777599@kurikanlakkitehdas.fi
SUMMARY:Oktoberfest by Pauli Hanhiniemi
DESCRIPTION:Oktoberfesteillä perinteisesti nautitaan oluesta särpimineen\, tunnelmoidaan hyvän musiikin tahtiin ja pukeudutaan perinteisiin saksalaisiin asuihin.  \nTätä luvassa Aseman Markilla lauantaina 12.10.2024 \nOhjelma\n🤠\nKlo 20-22 Wanhan Aseman Oktoberfest bufee:\nmarinoidut kasvikset\npunajuurta ja vuohenjuustoa\nsienisalaatti\n***\njuustoinen juuresolutkeitto\nolutmallasleipä\n***\nomena-kaalipaistos\npaahdetut perunat\nmakkaralajitelma\nBBQ-lihapullat\n***\nomenapiirakka ja vaniljavaahto\nkahvi\, tee\nhinta 25€\n🤠\nKlo 20-22 KULO oluiden maistatusta Makasiinilla\, panimotyöntekijä paikalla kertomassa oluista\n🤠\nKlo 22.30 arvonta\, johon voin osallistua koko päivän Makasiinilla. Tällöin pitää olla paikalla noutamassa palkintoja\n🤠\nKlo 23 Pauli Hanhiniemi MAT 20€\n🤠\n… jonka jälkeen disco ja bileet jatkuu 03.30 saakka \nTässä Makasiinin ensimmäiset Oktoberfestit\, tästä tulee hauskaa!! 😍😍😍
URL:https://kurikanlakkitehdas.fi/tapahtuma/octoberfest-by-pauli-hanhiniemi/
LOCATION:Makasiinin Baari\, Laurintie 28\, Kurikka\, 61300\, Finland
CATEGORIES:Makasiinin Baari
ATTACH;FMTTYPE=image/png:https://kurikanlakkitehdas.fi/wp-content/uploads/2024/08/Pauli.png
END:VEVENT
BEGIN:VEVENT
DTSTART;VALUE=DATE:20241019
DTEND;VALUE=DATE:20241020
DTSTAMP:20260420T121318
CREATED:20240828T072931Z
LAST-MODIFIED:20240828T072931Z
UID:16163-1729296000-1729382399@kurikanlakkitehdas.fi
SUMMARY:Thö Bulizongs
DESCRIPTION:Thö Bulizongs on kuusihenkinen\n”koronabändi”\, joka nimensä mukaan on saanut alkunsa korona-ajoilta. Settilistalta löytyy jalan alle menevää iskelmää/poppia suomeksi orkan omaleimaisella tyylillä. Jammaustakuu!!  \nShowtime 23\nLiput 5€
URL:https://kurikanlakkitehdas.fi/tapahtuma/tho-bulizongs/
LOCATION:Makasiinin Baari\, Laurintie 28\, Kurikka\, 61300\, Finland
CATEGORIES:Makasiinin Baari
ATTACH;FMTTYPE=image/jpeg:https://kurikanlakkitehdas.fi/wp-content/uploads/2024/08/image1.jpeg
END:VEVENT
BEGIN:VEVENT
DTSTART;VALUE=DATE:20241026
DTEND;VALUE=DATE:20241027
DTSTAMP:20260420T121318
CREATED:20240624T070119Z
LAST-MODIFIED:20240624T070119Z
UID:15269-1729900800-1729987199@kurikanlakkitehdas.fi
SUMMARY:Village Crew
DESCRIPTION:Lauantaina 26.10 Makasiinilla kajahtaa Jalahjärveltä\, kun bilebändi Village Crew valtaa lavan!  \nVillage Crew on vuonna 2022 perustettu\, Etelä-Pohjalainen bilepumppu\, jonka repertuaari on varsinainen runsauden sarvi. Vaikka bändi onkin tuore\, on miehistö täyttänyt esiintymislauteita usealla vuosikymmenellä. Settilistalta löytyy uusimpia radiohittejä\, UMK-materiaalia\, pop- ja rockbiittejä. Bileklassikot eri vuosikymmeniltä eivät jätä kenenkään lanteita kylmiksi. Rennon letkeä tunnelma taattu. \nBändin kokoonpano on:\nJuha Luhtanen laulu\, kitara\, saksofoni\nTomi Ranto basso\, laulu\nVille Siro rummut\, koskettimet\nNiilo Rinta-Harri kitara\, laulu\, alttotorvi \nShowtime 23\, kesto 2x45minuuttia\nLiput 7€
URL:https://kurikanlakkitehdas.fi/tapahtuma/village-crew/
LOCATION:Makasiinin Baari\, Laurintie 28\, Kurikka\, 61300\, Finland
CATEGORIES:Makasiinin Baari
ATTACH;FMTTYPE=image/png:https://kurikanlakkitehdas.fi/wp-content/uploads/2024/06/villagecrew-1024x384-1.png
END:VEVENT
END:VCALENDAR