BEGIN:VCALENDAR
VERSION:2.0
PRODID:-//Kurikan Lakkitehdas - ECPv6.15.20//NONSGML v1.0//EN
CALSCALE:GREGORIAN
METHOD:PUBLISH
X-ORIGINAL-URL:https://kurikanlakkitehdas.fi
X-WR-CALDESC:Tapahtumat Kurikan Lakkitehdas
REFRESH-INTERVAL;VALUE=DURATION:PT1H
X-Robots-Tag:noindex
X-PUBLISHED-TTL:PT1H
BEGIN:VTIMEZONE
TZID:Europe/Helsinki
BEGIN:DAYLIGHT
TZOFFSETFROM:+0200
TZOFFSETTO:+0300
TZNAME:EEST
DTSTART:20230326T010000
END:DAYLIGHT
BEGIN:STANDARD
TZOFFSETFROM:+0300
TZOFFSETTO:+0200
TZNAME:EET
DTSTART:20231029T010000
END:STANDARD
BEGIN:DAYLIGHT
TZOFFSETFROM:+0200
TZOFFSETTO:+0300
TZNAME:EEST
DTSTART:20240331T010000
END:DAYLIGHT
BEGIN:STANDARD
TZOFFSETFROM:+0300
TZOFFSETTO:+0200
TZNAME:EET
DTSTART:20241027T010000
END:STANDARD
BEGIN:DAYLIGHT
TZOFFSETFROM:+0200
TZOFFSETTO:+0300
TZNAME:EEST
DTSTART:20250330T010000
END:DAYLIGHT
BEGIN:STANDARD
TZOFFSETFROM:+0300
TZOFFSETTO:+0200
TZNAME:EET
DTSTART:20251026T010000
END:STANDARD
END:VTIMEZONE
BEGIN:VEVENT
DTSTART;VALUE=DATE:20240803
DTEND;VALUE=DATE:20240804
DTSTAMP:20260420T163521
CREATED:20240416T121622Z
LAST-MODIFIED:20240802T111549Z
UID:14724-1722643200-1722729599@kurikanlakkitehdas.fi
SUMMARY:MIETAA & DISCO TARGET esittää: Paluu 80-luvulle!
DESCRIPTION:MIETAA & DISCO TARGET esittää: Paluu 80-luvulle!\nDen Harrow LIVE! (ITA)\nDJ/Producer ROBERTO TURATTI (ITA)\nHost & DJ Salsa Sinisalo (KASARI)\nDJ’s Jake & R.Kuutio (DiscoTarget)\nDJ Mikki & MIETAAN Legendat (MIETAA) \nLiput 25€\nLippuja rajoitetusti\nEnnakkolipulla varmistat sisäänpääsyn
URL:https://kurikanlakkitehdas.fi/tapahtuma/mietaa-disco-target-esittaa-paluu-80-luvulle/
LOCATION:Mietaan Nuorisoseura\, Mietaantie 392\, Kurikka\, 61370\, Finland
CATEGORIES:Mietaan Nuorisoseura
ATTACH;FMTTYPE=image/jpeg:https://kurikanlakkitehdas.fi/wp-content/uploads/2024/04/Messenger_creation_029e4432-42a7-4115-847d-7b7df556544a.jpeg
END:VEVENT
BEGIN:VEVENT
DTSTART;TZID=Europe/Helsinki:20240816T180000
DTEND;TZID=Europe/Helsinki:20240818T020000
DTSTAMP:20260420T163521
CREATED:20240221T071842Z
LAST-MODIFIED:20240816T103738Z
UID:13995-1723831200-1723946400@kurikanlakkitehdas.fi
SUMMARY:Rytmiraide 2024
DESCRIPTION:Rytmiraide on monipuolisen ja hyvän musiikin festivaali Kurikassa 16.-17.8.2024. \nKurikan Vanhalla Asemalla järjestettävä kaksipäiväinen festivaali tarjoaa hyvän musiikin lisäksi hyvää ruokaa sekä loistavan yleisön. Intiimi tunnelma Risto-veturin varjossa luo konstailemattoman ja samalla ainutlaatuisen festivaalikokemuksen. Pieni on kaunista. \nPerjantaina Telttalavalla Beatmore\, Klamydia ja Telaketju.\nLauantaina kahdella lavalla Airi’s\, Marjo Leinonen & Bublicans\, Mount Mary\, The Rythmbreakers ja Jonna Tervomaa.\nLisätietoja www.rytmiraide.fi \nMaksuvälineinä lippukaupassa käyvät myös epassi ja smartum. Liput toimitetaan sähköpostitse. Kurikan Lakkitehtaalta tulee kaksi sähköpostia; toinen on tilausvahvistus ja toinen QR-koodillinen pääsylippu. Mikäli sähköposteja ei tule\, luultavasti antamasi sähköpostiosoite oli virheellinen. Tarkista myös roskaposti. Ongelmissa ole yhteydessä juha@kurikanlakkitehdas.fi\nAvaathan qr-koodillisen lipun valmiiksi saapuessasi lippujen tarkistukseen. \nEarly Bird -liput myynnissä rajoitetun ajan\, 21.2. – 17.3.\nPerjantai 16.8. 35 €\nLauantai 17.8. 35 €\n2-päivän lippu 70 € \nEnnakkoliput 18.3. alkaen\nPerjantai 16.8. 40 €\nLauantai 17.8. 40 €\n2-päivän lippu 75 € \nHintoihin lisätään palvelumaksu 1\,50€/lippu.
URL:https://kurikanlakkitehdas.fi/tapahtuma/rytmiraide-2024/
LOCATION:Makasiinin Baari\, Laurintie 28\, Kurikka\, 61300\, Finland
CATEGORIES:Makasiinin Baari
ATTACH;FMTTYPE=image/jpeg:https://kurikanlakkitehdas.fi/wp-content/uploads/2024/02/Rytmiraide-1.jpg
END:VEVENT
END:VCALENDAR