BEGIN:VCALENDAR
VERSION:2.0
PRODID:-//Kurikan Lakkitehdas - ECPv6.15.20//NONSGML v1.0//EN
CALSCALE:GREGORIAN
METHOD:PUBLISH
X-WR-CALNAME:Kurikan Lakkitehdas
X-ORIGINAL-URL:https://kurikanlakkitehdas.fi
X-WR-CALDESC:Tapahtumat Kurikan Lakkitehdas
REFRESH-INTERVAL;VALUE=DURATION:PT1H
X-Robots-Tag:noindex
X-PUBLISHED-TTL:PT1H
BEGIN:VTIMEZONE
TZID:Europe/Helsinki
BEGIN:DAYLIGHT
TZOFFSETFROM:+0200
TZOFFSETTO:+0300
TZNAME:EEST
DTSTART:20230326T010000
END:DAYLIGHT
BEGIN:STANDARD
TZOFFSETFROM:+0300
TZOFFSETTO:+0200
TZNAME:EET
DTSTART:20231029T010000
END:STANDARD
BEGIN:DAYLIGHT
TZOFFSETFROM:+0200
TZOFFSETTO:+0300
TZNAME:EEST
DTSTART:20240331T010000
END:DAYLIGHT
BEGIN:STANDARD
TZOFFSETFROM:+0300
TZOFFSETTO:+0200
TZNAME:EET
DTSTART:20241027T010000
END:STANDARD
BEGIN:DAYLIGHT
TZOFFSETFROM:+0200
TZOFFSETTO:+0300
TZNAME:EEST
DTSTART:20250330T010000
END:DAYLIGHT
BEGIN:STANDARD
TZOFFSETFROM:+0300
TZOFFSETTO:+0200
TZNAME:EET
DTSTART:20251026T010000
END:STANDARD
END:VTIMEZONE
BEGIN:VEVENT
DTSTART;VALUE=DATE:20240601
DTEND;VALUE=DATE:20240602
DTSTAMP:20260420T174452
CREATED:20231115T120337Z
LAST-MODIFIED:20240503T111352Z
UID:12455-1717200000-1717286399@kurikanlakkitehdas.fi
SUMMARY:Aliisa Syrjä
DESCRIPTION:Aliisa Syrjä on laulaja-lauluntekijä\, jonka sävellykset ja tekstit vievät mukanaan jonnekin sinne\, missä surun ja onnen rajat ovat häilyvät ja mannerlaatat jyrisevät jalkojen alla. Debyyttisinglellään Tää tunne hurmannut Aliisa sanoittaa\, säveltää ja on myös mukana biisien tuotannoissa. Artisti valittiin mukaan YleX Läpimurto-listaukseen keväällä 2023\, jossa hän sijoittui huikeasti toiseksi. Aliisan kultaa striimannut debyyttialbumi Höyheniä ja saaria julkaistiin lokakuussa 2023. Parhaiten artistina Aliisaa kuvaa se\, että hänen lauluissaan klassikkokirjojen järkälemäinen ja filosofinen sisältö yhdistyy nuoren ihmisen elämään sekä perinteinen lauluntekijyys nykypäivään. \nShowtime 23\nLiput ennakkoon 23€\, ovelta 25€
URL:https://kurikanlakkitehdas.fi/tapahtuma/aliisa-syrja/
LOCATION:Makasiinin Baari\, Laurintie 28\, Kurikka\, 61300\, Finland
CATEGORIES:Makasiinin Baari
ATTACH;FMTTYPE=image/jpeg:https://kurikanlakkitehdas.fi/wp-content/uploads/2023/11/DSC04065_preview.jpg
END:VEVENT
END:VCALENDAR