BEGIN:VCALENDAR
VERSION:2.0
PRODID:-//Kurikan Lakkitehdas - ECPv6.15.20//NONSGML v1.0//EN
CALSCALE:GREGORIAN
METHOD:PUBLISH
X-WR-CALNAME:Kurikan Lakkitehdas
X-ORIGINAL-URL:https://kurikanlakkitehdas.fi
X-WR-CALDESC:Tapahtumat Kurikan Lakkitehdas
REFRESH-INTERVAL;VALUE=DURATION:PT1H
X-Robots-Tag:noindex
X-PUBLISHED-TTL:PT1H
BEGIN:VTIMEZONE
TZID:Europe/Helsinki
BEGIN:DAYLIGHT
TZOFFSETFROM:+0200
TZOFFSETTO:+0300
TZNAME:EEST
DTSTART:20230326T010000
END:DAYLIGHT
BEGIN:STANDARD
TZOFFSETFROM:+0300
TZOFFSETTO:+0200
TZNAME:EET
DTSTART:20231029T010000
END:STANDARD
BEGIN:DAYLIGHT
TZOFFSETFROM:+0200
TZOFFSETTO:+0300
TZNAME:EEST
DTSTART:20240331T010000
END:DAYLIGHT
BEGIN:STANDARD
TZOFFSETFROM:+0300
TZOFFSETTO:+0200
TZNAME:EET
DTSTART:20241027T010000
END:STANDARD
BEGIN:DAYLIGHT
TZOFFSETFROM:+0200
TZOFFSETTO:+0300
TZNAME:EEST
DTSTART:20250330T010000
END:DAYLIGHT
BEGIN:STANDARD
TZOFFSETFROM:+0300
TZOFFSETTO:+0200
TZNAME:EET
DTSTART:20251026T010000
END:STANDARD
END:VTIMEZONE
BEGIN:VEVENT
DTSTART;VALUE=DATE:20240406
DTEND;VALUE=DATE:20240407
DTSTAMP:20260421T004656
CREATED:20231115T113557Z
LAST-MODIFIED:20231115T113557Z
UID:12441-1712361600-1712447999@kurikanlakkitehdas.fi
SUMMARY:Pääesiintyjät
DESCRIPTION:Vuonna 1993 maamme valloitti vanhojen Suomi-filmien heinälatoromantiikasta ja rockabillystä tyyliään ammentava Pääesiintyjät-yhtye\, jonka kappaleet Sua aattelen ja Iiris soivat tiiviisti radioaalloilla. Yhtye julkaisi yhden albumin nimeltä Pitkäsoitto ja katosi saman tien kuvioista. Yhtyeestä muodostui vuosien varrella kulttibändi\, jota pyydettiin toistuvasti palaamaan keikoille. \nPääesiintyjät teki vihdoin toivotun paluun lavoille keväällä 2019 ja helmikuussa 2020 päivänvalon näki uusi Pääesiintyjät-albumi Lättähatun paluu\, joka valittiin mm. paikallisradioiden kuukauden levyksi ja osoitti että bändi on pitkän tauon jälkeen edelleen iskussa. Vuoden 2022 Pääesiintyjät aloitti julkaisemalla hittisinglen Kaunis Veera\, joka on saanut paljon radiosoittoa useilla eri asemilla.\nPääesiintyjien järjestyksessään kolmas albumi Lauluja laitakaupungilta julkaistiin helmikuussa 2022 ja se sai varsin innostuneen vastaanoton\, niin kuuntelijoiden kuin mediankin keskuudessa ja valittiin mm. paikallisradioiden kuukauden levyksi. Myös musiikkiteollisuus huomasi albumin isosti\, sillä Lauluja laitakaupungilta oli ehdolla vuoden 2022 Iskelmä-Emman voittajaksi helmikuun Emma Gaalassa. \nShowtime 23\nLiput ennakkoon 15€\, ovelta 17€
URL:https://kurikanlakkitehdas.fi/tapahtuma/paaesiintyjat/
LOCATION:Makasiinin Baari\, Laurintie 28\, Kurikka\, 61300\, Finland
CATEGORIES:Makasiinin Baari
ATTACH;FMTTYPE=image/jpeg:https://kurikanlakkitehdas.fi/wp-content/uploads/2023/11/PAAESIINTYJAT___LG_2067-scaled-1.jpg
END:VEVENT
BEGIN:VEVENT
DTSTART;VALUE=DATE:20240413
DTEND;VALUE=DATE:20240414
DTSTAMP:20260421T004656
CREATED:20240220T105043Z
LAST-MODIFIED:20240220T105229Z
UID:14023-1712966400-1713052799@kurikanlakkitehdas.fi
SUMMARY:HENNA PELTONEN & SOFIA FIIA SHOW!
DESCRIPTION:Nyt Suomeen on lanseerattu jotain uutta ja odotettua🤩\nNais Dj duo\, joka soittaa parasta ja suosituinta ysärihenkistä musiikkia\, tanssii ja haippaa sekä tuo parhaat bileet tapahtumaan kuin tapahtumaan!\nDj show sisältää parasta ja soitetuinta musiikkia\, tanssikoreografioita\, juontamista sekä paljon visuaalista meininkiä. \nShowtime 23-02.30\nLiput 10€
URL:https://kurikanlakkitehdas.fi/tapahtuma/henna-peltonen-sofia-fiia-show/
LOCATION:Makasiinin Baari\, Laurintie 28\, Kurikka\, 61300\, Finland
CATEGORIES:Makasiinin Baari
ATTACH;FMTTYPE=image/jpeg:https://kurikanlakkitehdas.fi/wp-content/uploads/2024/02/401102774_817802470353711_7157550085210613856_n.jpg
END:VEVENT
BEGIN:VEVENT
DTSTART;VALUE=DATE:20240427
DTEND;VALUE=DATE:20240428
DTSTAMP:20260421T004656
CREATED:20231115T103643Z
LAST-MODIFIED:20240427T151508Z
UID:12418-1714176000-1714262399@kurikanlakkitehdas.fi
SUMMARY:Ressu Redford LOPPUUNMYYTY
DESCRIPTION:Jo vuosikymmenien ajan suomalaisia musiikillaan viihdyttänyt Ressu Redford teki menestyksekkään paluun soolomusiikin pariin tammikuussa 2019. Onnistuneiden singlejulkaisujen lisäksi Ressu Redford hurmasi suomalaiset Vain elämää -tv-ohjelmassa ja julkaisi uuden albuminsa Hölmö sydän lokakuussa 2021. Kyseinen levy on artistin uran kannalta merkityksellinen\, sillä viimeksi albumillinen soolomusiikkia Ressu Redfordilta on saatu yli kymmenen vuotta sitten. Ressu Redfordin kaikkien aikojen tunnetuimpiin kappaleisiin lukeutuvat muun muassa klassikkohitit Älä mee\, Kuusi kuuta & Saturnuksen renkaat ja Kuka on se oikea. \nShowtime klo 23\nLiput ennakkoon 35€\, ovelta 37€
URL:https://kurikanlakkitehdas.fi/tapahtuma/ressu-redford/
LOCATION:Makasiinin Baari\, Laurintie 28\, Kurikka\, 61300\, Finland
CATEGORIES:Makasiinin Baari
ATTACH;FMTTYPE=image/jpeg:https://kurikanlakkitehdas.fi/wp-content/uploads/2023/11/395630161_836947355097767_8428233149192570897_n.jpg
END:VEVENT
BEGIN:VEVENT
DTSTART;VALUE=DATE:20240430
DTEND;VALUE=DATE:20240501
DTSTAMP:20260421T004656
CREATED:20231115T114701Z
LAST-MODIFIED:20231115T114701Z
UID:12447-1714435200-1714521599@kurikanlakkitehdas.fi
SUMMARY:Amanda Harkimo & DJ Snabu
DESCRIPTION:Dj Amanda Harkimo on asiakaspalveluhenkinen dj\, joka spiikkaa tarvittaessa ja pitää huolen siitä\, että juhlissasi soi asianmukainen musiikki. Hän soittanut levyjä jo vuodesta 2007. \nAmandan biisivalintoja olet voinut kuulla yökerhokeikkojen lisäksi Jokereiden peleissä. Amanda toimii yökerho- ja yrityskeikkojensa lisäksi Jokereiden residenssi-dj:nä. Amanda on ollut kahdesti Suomessa järjestettyjen jääkiekon MM-kisojen virallinen DJ. \nAmanda  on tullut tunnetuksi mm. Viidakon Tähtöset tv-ohjelman voittajana\, Big Brother -tv-ohjelman kilpailijana ja Martina ja hengenpelastajat -ohjelman toisen kauden kilpailijana. \nTämä Dj hallitsee niin  yökerhojen tanssilattiat täyttävät hittibiisit\, kuin myös tarvittaessa rockin\, hiphopin ja suomipopin. \nShowtime 23\nLiput 12€
URL:https://kurikanlakkitehdas.fi/tapahtuma/amanda-harkimo-dj-snabu/
LOCATION:Makasiinin Baari\, Laurintie 28\, Kurikka\, 61300\, Finland
CATEGORIES:Makasiinin Baari
ATTACH;FMTTYPE=image/jpeg:https://kurikanlakkitehdas.fi/wp-content/uploads/2023/11/dj-amanda-harkimo-1920x1098-1.jpg
END:VEVENT
END:VCALENDAR