BEGIN:VCALENDAR
VERSION:2.0
PRODID:-//Kurikan Lakkitehdas - ECPv6.15.20//NONSGML v1.0//EN
CALSCALE:GREGORIAN
METHOD:PUBLISH
X-ORIGINAL-URL:https://kurikanlakkitehdas.fi
X-WR-CALDESC:Tapahtumat Kurikan Lakkitehdas
REFRESH-INTERVAL;VALUE=DURATION:PT1H
X-Robots-Tag:noindex
X-PUBLISHED-TTL:PT1H
BEGIN:VTIMEZONE
TZID:Europe/Helsinki
BEGIN:DAYLIGHT
TZOFFSETFROM:+0200
TZOFFSETTO:+0300
TZNAME:EEST
DTSTART:20220327T010000
END:DAYLIGHT
BEGIN:STANDARD
TZOFFSETFROM:+0300
TZOFFSETTO:+0200
TZNAME:EET
DTSTART:20221030T010000
END:STANDARD
BEGIN:DAYLIGHT
TZOFFSETFROM:+0200
TZOFFSETTO:+0300
TZNAME:EEST
DTSTART:20230326T010000
END:DAYLIGHT
BEGIN:STANDARD
TZOFFSETFROM:+0300
TZOFFSETTO:+0200
TZNAME:EET
DTSTART:20231029T010000
END:STANDARD
BEGIN:DAYLIGHT
TZOFFSETFROM:+0200
TZOFFSETTO:+0300
TZNAME:EEST
DTSTART:20240331T010000
END:DAYLIGHT
BEGIN:STANDARD
TZOFFSETFROM:+0300
TZOFFSETTO:+0200
TZNAME:EET
DTSTART:20241027T010000
END:STANDARD
END:VTIMEZONE
BEGIN:VEVENT
DTSTART;VALUE=DATE:20231103
DTEND;VALUE=DATE:20231104
DTSTAMP:20260421T085337
CREATED:20230515T123039Z
LAST-MODIFIED:20230927T131220Z
UID:9101-1698969600-1699055999@kurikanlakkitehdas.fi
SUMMARY:LOPPUUNMYYTY Käärijä
DESCRIPTION:Vaihtoehtorapin mielenkiintoisin nouseva nimi Käärijä on kerännyt omintakeisella tyylillään kuulijakuntaa niin keikoilla\, somessa kuin suoratoistopalveluissa –  ja kehityskäyrä on ollut koko ajan nousujohdanteinen. Käärijä voitti vuoden 2023 Uuden Musiikin Kilpailun ylivoimaisella äänivyöryllä\, ja valikoitui Suomen Euroviisuedustajaksi Cha Cha Cha -kappaleellaan. Cha Cha Cha takoi ennätyksiä jo ensimmäisenä päivänä julkaisustaan\, kun kappale rikkoi UMK-kilpailukappaleiden ensimmäisen päivän striimiennätyksen 147 000 striimillään. \nShowtime 23\nLOPPUUNMYYTY
URL:https://kurikanlakkitehdas.fi/tapahtuma/kaarija/
LOCATION:Makasiinin Baari\, Laurintie 28\, Kurikka\, 61300\, Finland
CATEGORIES:Makasiinin Baari
ATTACH;FMTTYPE=image/jpeg:https://kurikanlakkitehdas.fi/wp-content/uploads/2023/05/kaarijapromokuva-2.jpg
END:VEVENT
BEGIN:VEVENT
DTSTART;VALUE=DATE:20231104
DTEND;VALUE=DATE:20231105
DTSTAMP:20260421T085337
CREATED:20230308T102629Z
LAST-MODIFIED:20230308T102629Z
UID:8243-1699056000-1699142399@kurikanlakkitehdas.fi
SUMMARY:Petri Nyqård
DESCRIPTION:Petri Nygård on aurinkolaseistaan ja kalastajahatustaan tunnettu artisti\, jonka biisejä harvat myöntävät kuuntelevansa\, vaikka todellisuudessa kaikki osaavat niiden sanat ulkoa. Kaikkien bileiden pääartistina ja viikonloppujen listaykkösenäkin tunnettu Nygård on pitkän linjan rap-artisti\, joka saa räntäsateenkin keskellä ihmiset bilettämään. \nYli 20 vuotisen uran aikana Petri Nygård on julkaissut lukuisia räväköistä sanoituksista tunnettuja hittejä\, kuten Selvä päivä\, Nössö\, Märkää ja Pannaan Suomi kuntoon\, joita on striimattu suoratoistopalveluissa lähes 250 miljoonaa kertaa. Petrin viimeisin albumiALASTON SUÅMI oli jättimenestys\, sillä se striimasi nelinkertaista platinaa jo ennen julkaisuaan. Lavashow’ssa heittäytyvä tamperelainen rääväsuu on palkittu myös Vuoden yllättäjä -Emmalla sekä nähty telkkarissa Masked Singer Suomi -sarjassa. \nShowtime 23\nLiput ennakkoon 33 € ovelta 35 €
URL:https://kurikanlakkitehdas.fi/tapahtuma/petri-nyqard/
LOCATION:Makasiinin Baari\, Laurintie 28\, Kurikka\, 61300\, Finland
CATEGORIES:Makasiinin Baari
ATTACH;FMTTYPE=image/jpeg:https://kurikanlakkitehdas.fi/wp-content/uploads/2023/03/nygard_press1-scaled-1.jpg
END:VEVENT
BEGIN:VEVENT
DTSTART;VALUE=DATE:20231110
DTEND;VALUE=DATE:20231111
DTSTAMP:20260421T085337
CREATED:20230727T093142Z
LAST-MODIFIED:20231110T072503Z
UID:9722-1699574400-1699660799@kurikanlakkitehdas.fi
SUMMARY:PERUTTU Timo Rautiainen & Jussi Lampi
DESCRIPTION:KEIKKA PERUTTU SAIRASTAPAUKSEN TAKIA. PAHOITTELEMME TILANNETTA. Ennakkolipun ostaneille palautetaan rahat. Laita sähköpostia juha@kurikanlakkitehdas.fi.  \nTimo Rautiaisen soolo-ohjelmisto pitää sisällään Timon uran tärkeimpien kappaleiden lisäksi tarkoin valittuja suomalaisen kansanmusiikin helmiä sekä otteita maamme kevyen musiikin historiasta. Jokaisella laululla on hyvä syy tulla esitetyksi ja ne syyt tulet kuulemaan Timon keikan monisanaisissa välispiikeissä – luvassa on taustoitettuja tarinoita Suomesta ja suomalaisista. Rautiainen esiintyy sekä soolona että yhdessä näyttelijä Jussi Lampin kanssa. \nShowtime 23\nLiput ennakkoon 12€
URL:https://kurikanlakkitehdas.fi/tapahtuma/timo-rautiainen-jussi-lampi/
LOCATION:Makasiinin Baari\, Laurintie 28\, Kurikka\, 61300\, Finland
CATEGORIES:Makasiinin Baari
ATTACH;FMTTYPE=image/jpeg:https://kurikanlakkitehdas.fi/wp-content/uploads/2023/07/rautiainenlampi-press1-scaled.jpg
END:VEVENT
BEGIN:VEVENT
DTSTART;VALUE=DATE:20231111
DTEND;VALUE=DATE:20231112
DTSTAMP:20260421T085337
CREATED:20230308T094651Z
LAST-MODIFIED:20230308T094651Z
UID:8223-1699660800-1699747199@kurikanlakkitehdas.fi
SUMMARY:Baddingtones
DESCRIPTION:Baddingtones – parhaat menobiisit vuosien varrelta. \nShowtime 23\nLiput ennakkoon 14 € ovelta 15 €
URL:https://kurikanlakkitehdas.fi/tapahtuma/baddingtones/
LOCATION:Makasiinin Baari\, Laurintie 28\, Kurikka\, 61300\, Finland
CATEGORIES:Makasiinin Baari
ATTACH;FMTTYPE=image/jpeg:https://kurikanlakkitehdas.fi/wp-content/uploads/2023/03/320164506_1200244197261421_4351852054673216117_n.jpg
END:VEVENT
BEGIN:VEVENT
DTSTART;VALUE=DATE:20231118
DTEND;VALUE=DATE:20231119
DTSTAMP:20260421T085337
CREATED:20230308T095316Z
LAST-MODIFIED:20230308T095316Z
UID:8227-1700265600-1700351999@kurikanlakkitehdas.fi
SUMMARY:Retropop
DESCRIPTION:Elektronista suomipoppia Mansesta. \nLiput ennakkoon 13 € ja ovelta 15 €
URL:https://kurikanlakkitehdas.fi/tapahtuma/retropop/
LOCATION:Makasiinin Baari\, Laurintie 28\, Kurikka\, 61300\, Finland
CATEGORIES:Makasiinin Baari
ATTACH;FMTTYPE=image/jpeg:https://kurikanlakkitehdas.fi/wp-content/uploads/2023/03/281329987_10158874907603176_5510036865519366824_n.jpg
END:VEVENT
BEGIN:VEVENT
DTSTART;VALUE=DATE:20231124
DTEND;VALUE=DATE:20231125
DTSTAMP:20260421T085337
CREATED:20230908T072839Z
LAST-MODIFIED:20230908T072839Z
UID:11112-1700784000-1700870399@kurikanlakkitehdas.fi
SUMMARY:Mariska
DESCRIPTION:Laulaja-lauluntekijä Mariskan jo kaksikymmentä vuotta kestänyt ura suomalaisen populaarimusiikin parissa on ollut menestyksekäs. Hänet tunnetaan muun muassa hiteistä Kukkurukuu\, Liekki\, Minä liityin sinuun ja Terveisin\, Doris. Monipuolinen Mariska on myös julkaissut runoteoksia\, toiminut kääntäjänä ja ansioitunut useiden muiden artistien megahittien sanoittajana. Mariska on julkaissut 7 albumia omalla nimellään sekä kaksi albumia Mariska & Pahat Sudet -yhtyeen kanssa. \nVuonna 2022 Mariska palkittiin Reino Helismaa -palkinnolla. \nShowtime 23\nLiput ennakkoon 35 €
URL:https://kurikanlakkitehdas.fi/tapahtuma/mariska/
LOCATION:Makasiinin Baari\, Laurintie 28\, Kurikka\, 61300\, Finland
CATEGORIES:Makasiinin Baari
ATTACH;FMTTYPE=image/jpeg:https://kurikanlakkitehdas.fi/wp-content/uploads/2023/09/Mariska-960x640-1.jpg
END:VEVENT
BEGIN:VEVENT
DTSTART;VALUE=DATE:20231125
DTEND;VALUE=DATE:20231126
DTSTAMP:20260421T085337
CREATED:20230131T094255Z
LAST-MODIFIED:20230131T094451Z
UID:7210-1700870400-1700956799@kurikanlakkitehdas.fi
SUMMARY:Melrose
DESCRIPTION:Melrose on vuonna 1981 perustettu rock-yhtye\, joka on musiikissaan yhdistänyt perusrockia rockabillyyn ja rock’n’rolliin. Tämän timanttisen rock-orkesterin edellisestä studiolevystä on kulunut yli kymmenen vuotta\, jonka aikana bändi on keikkaillut ahkerasti ja säännöllisesti ympäri maailmaa\, pääsääntöisesti kotimaassa. Tämä rock-trio tunnetaankin loistavasta livemeiningistä\, joka tehoaa yhä vain faneihin pajasta ja paikasta riippumatta.  \nShowtime 23\nLiput 23 €
URL:https://kurikanlakkitehdas.fi/tapahtuma/melrose/
LOCATION:Makasiinin Baari\, Laurintie 28\, Kurikka\, 61300\, Finland
CATEGORIES:Makasiinin Baari
ATTACH;FMTTYPE=image/jpeg:https://kurikanlakkitehdas.fi/wp-content/uploads/2023/01/melrose-press-scaled.jpg
END:VEVENT
END:VCALENDAR