BEGIN:VCALENDAR
VERSION:2.0
PRODID:-//Kurikan Lakkitehdas - ECPv6.15.20//NONSGML v1.0//EN
CALSCALE:GREGORIAN
METHOD:PUBLISH
X-WR-CALNAME:Kurikan Lakkitehdas
X-ORIGINAL-URL:https://kurikanlakkitehdas.fi
X-WR-CALDESC:Tapahtumat Kurikan Lakkitehdas
REFRESH-INTERVAL;VALUE=DURATION:PT1H
X-Robots-Tag:noindex
X-PUBLISHED-TTL:PT1H
BEGIN:VTIMEZONE
TZID:Europe/Helsinki
BEGIN:DAYLIGHT
TZOFFSETFROM:+0200
TZOFFSETTO:+0300
TZNAME:EEST
DTSTART:20220327T010000
END:DAYLIGHT
BEGIN:STANDARD
TZOFFSETFROM:+0300
TZOFFSETTO:+0200
TZNAME:EET
DTSTART:20221030T010000
END:STANDARD
BEGIN:DAYLIGHT
TZOFFSETFROM:+0200
TZOFFSETTO:+0300
TZNAME:EEST
DTSTART:20230326T010000
END:DAYLIGHT
BEGIN:STANDARD
TZOFFSETFROM:+0300
TZOFFSETTO:+0200
TZNAME:EET
DTSTART:20231029T010000
END:STANDARD
BEGIN:DAYLIGHT
TZOFFSETFROM:+0200
TZOFFSETTO:+0300
TZNAME:EEST
DTSTART:20240331T010000
END:DAYLIGHT
BEGIN:STANDARD
TZOFFSETFROM:+0300
TZOFFSETTO:+0200
TZNAME:EET
DTSTART:20241027T010000
END:STANDARD
END:VTIMEZONE
BEGIN:VEVENT
DTSTART;VALUE=DATE:20230506
DTEND;VALUE=DATE:20230507
DTSTAMP:20260421T175159
CREATED:20221102T102943Z
LAST-MODIFIED:20221127T144106Z
UID:5731-1683331200-1683417599@kurikanlakkitehdas.fi
SUMMARY:Päivi Lepistö & Daffy Terävä
DESCRIPTION:Muunmuassa Movetronista ja Tähdet\, tähdet 2020 -ohjelmasta tuttu\nPäivi Lepistö\, sekä Yö-yhtyeessä 14 vuotta soittanut kitaristi\nDaffy Terävä\, muodostavat monipuolisen duon.\nOhjelmistoon on valittu teitä viihdyttämään akustisia versioita Movetronin hiteistä\, sekä myös Päivin omasta tuotannosta. Yö -yhtyeen kappaleet tuovat muistoja mieleen ja lisänä klassikot Elton Johnista Madonnan kautta Whitesnakeen kruunaavat illan. Ja emmehän unohda Tähdet\, tähdet -iltoja\, jospa sieltä olisi tarttunut jotain matkaan myös. \nShowtime 23\nLiput 12 €
URL:https://kurikanlakkitehdas.fi/tapahtuma/paivi-lepisto-daffy-terava/
LOCATION:Makasiinin Baari\, Laurintie 28\, Kurikka\, 61300\, Finland
CATEGORIES:Makasiinin Baari
ATTACH;FMTTYPE=image/webp:https://kurikanlakkitehdas.fi/wp-content/uploads/2022/11/Paivi-Lepisto-promokuva-musta-keinonahka-1128x1460-1.webp
END:VEVENT
BEGIN:VEVENT
DTSTART;VALUE=DATE:20230513
DTEND;VALUE=DATE:20230514
DTSTAMP:20260421T175159
CREATED:20221102T103755Z
LAST-MODIFIED:20221127T144150Z
UID:5735-1683936000-1684022399@kurikanlakkitehdas.fi
SUMMARY:Aleksanteri Hakaniemi
DESCRIPTION:Huhtikuussa 2020 laulaja-lauluntekijä Aleksanteri Hakaniemi oli tullut tienristeykseen.\nTakana oli kaksi levyä\, liuta kulta- ja platinasinkkuja\, massiivista medianäkyvyyttä\, gaalaehdokkuuksia ja -esiintymisiä sekä satoja keikkoja ympäri Suomen. Kahdeksan vuotta artistin elämää vailla taukoja tai lomia oli antanut paljon\, mutta lopulta vienyt kaiken. Aleksanteri teki päätöksen hypätä sivuun artistiuraltaan ja tutustua itseensä. Aleksanteri ilmoitti tauosta levy-yhtiölle\, keikkamyyjille ja faneilleen\, poisti kaiken vanhan sisällönsä ja vaihtoi tauon ajaksi älypuhelimensa puhelimeen\, jossa ei ollut internettiä. \nTauon tuoma paineeton tila synnytti tukun uusia lauluja. Kiinnostavaa oli\, että ne tulivat eri lähtökohdista kuin aiemmin. Nyt uusia biisejä on syntynyt jo levyllisen verran vanhan yhteistyökumppanin\, tuottaja Rafael Elivuon ja mentori Pekka Ruuskan avustuksella. Aleksanterin paluusingle Bonsaipuu julkaistiin perjantaina 5.maaliskuuta 2021. \nShowtime 23\nLiput 15 €
URL:https://kurikanlakkitehdas.fi/tapahtuma/aleksanteri-hakaniemi/
LOCATION:Makasiinin Baari\, Laurintie 28\, Kurikka\, 61300\, Finland
CATEGORIES:Makasiinin Baari
ATTACH;FMTTYPE=image/jpeg:https://kurikanlakkitehdas.fi/wp-content/uploads/2022/11/ale-4.jpg
END:VEVENT
BEGIN:VEVENT
DTSTART;VALUE=DATE:20230519
DTEND;VALUE=DATE:20230520
DTSTAMP:20260421T175159
CREATED:20230131T092838Z
LAST-MODIFIED:20230131T093014Z
UID:7206-1684454400-1684540799@kurikanlakkitehdas.fi
SUMMARY:Kirkkovene
DESCRIPTION:Alunperin Ripsipiirakka -tribuuttiorkesteriksi perustettu yhtye on tunnettu ennen kaikkea punk rockiksi käännetyistä covereistaan\, mutta ovat he saaneet aikaan myös kolme albumillista omia kappaleita.  \nShowtime 23\nLiput 13 €
URL:https://kurikanlakkitehdas.fi/tapahtuma/kirkkovene/
LOCATION:Makasiinin Baari\, Laurintie 28\, Kurikka\, 61300\, Finland
CATEGORIES:Makasiinin Baari
ATTACH;FMTTYPE=image/jpeg:https://kurikanlakkitehdas.fi/wp-content/uploads/2023/01/308791237_496922589109350_4399032528311652401_n.jpg
END:VEVENT
BEGIN:VEVENT
DTSTART;VALUE=DATE:20230520
DTEND;VALUE=DATE:20230521
DTSTAMP:20260421T175159
CREATED:20221220T101024Z
LAST-MODIFIED:20221220T101024Z
UID:6749-1684540800-1684627199@kurikanlakkitehdas.fi
SUMMARY:Enkelit DUO
DESCRIPTION:Enkelit Duo soittaa vauhdikasta ja erittäin hyväntuulista Manserokkia! Tämä parivaljakko ei jätä kylmäksi ketään; sen takaavat Jussin humoristiset ja hyväntuuliset välispiikit! Enkelit Duo on varmasti yksi Suomen parhaimpia ja kovatasoisimpia keikkailevia duoja. Kaikilla on hauskaa\, väki tanssii ja laulaa mukana ja kassakone kilisee. \nSolisti Jussi Aaltonen on tullut tunnetuksi Mustat Enkelit yhtyeen keulakuvana ja moninaisista toimistaan nuorten ja etenkin sotaveteraanien hyväksi. Päivätyökseen lähihoitajan ammatissa päihdetyöntekijänä työskentelevä Aaltonen tunnetaan myös Rauhanturvaajakomennuksestaan Etelä-Libanonin ”tulihelvettiin”. \nEnkelit Duon kokoonpanossa toisena osapuolena kitarassa ja laulussa on todella karismaattinen ja upeaääninen Jay Lewis. Jay Lewis tunnetaan laajalti sekä maailmalla mainetta niittäneenä kuin myös kotimaisissa kokoonpanoissa; mm. Yössä pitkään vaikuttaneena supersympaattisena rokkarina. \nDuon keikoilla soi rehellinen Manserock. Enkeleiden omaa tuotantoa\, Jay Lewisin tuotantoa\, Jussin enomiehen; Pate Mustajärven soolotuotantoa sekä Popedaa\, Yötä ja Juicea sekä saattaapi jokunen englanninkielinenkin rockbiisikin löytyä höystettynä Jussin legendaarisilla välispiikeillä joissa kannustetaan kansaa nauttimaan riittävissä määrin talon antimia. Soveltuu erinomaisesti ravintoloihin\, tapahtumiin ja yksityistilaisuuksiin. Duolla mukana komppikone\, eli meno on taattua alusta loppuun asti erinomaisilla taustoilla. Kuulostaa kuin paikalla olisi isokin bändi.  \nJussi Aaltonen – laulu\, kitara\nJay Lewis – kitara\, laulu \nShowtime 23\nLiput 12 €
URL:https://kurikanlakkitehdas.fi/tapahtuma/enkelit-duo/
LOCATION:Makasiinin Baari\, Laurintie 28\, Kurikka\, 61300\, Finland
CATEGORIES:Makasiinin Baari
ATTACH;FMTTYPE=image/png:https://kurikanlakkitehdas.fi/wp-content/uploads/2022/12/Enkelit-Duo-20.5.2023.png
END:VEVENT
BEGIN:VEVENT
DTSTART;VALUE=DATE:20230527
DTEND;VALUE=DATE:20230528
DTSTAMP:20260421T175159
CREATED:20221102T110407Z
LAST-MODIFIED:20221127T144406Z
UID:5743-1685145600-1685231999@kurikanlakkitehdas.fi
SUMMARY:DJ ICE K
DESCRIPTION:DJ ICE K\nDJ since 1994\n– Love to DJ\n– Dance Music 4 Life \nShowtime 23\nLiput 15 €
URL:https://kurikanlakkitehdas.fi/tapahtuma/dj-ice-k/
LOCATION:Makasiinin Baari\, Laurintie 28\, Kurikka\, 61300\, Finland
CATEGORIES:Makasiinin Baari
ATTACH;FMTTYPE=image/jpeg:https://kurikanlakkitehdas.fi/wp-content/uploads/2022/11/2M9h_hkJKnABw9r9XJhTA6.jpg
END:VEVENT
END:VCALENDAR