BEGIN:VCALENDAR
VERSION:2.0
PRODID:-//Kurikan Lakkitehdas - ECPv6.15.20//NONSGML v1.0//EN
CALSCALE:GREGORIAN
METHOD:PUBLISH
X-ORIGINAL-URL:https://kurikanlakkitehdas.fi
X-WR-CALDESC:Tapahtumat Kurikan Lakkitehdas
REFRESH-INTERVAL;VALUE=DURATION:PT1H
X-Robots-Tag:noindex
X-PUBLISHED-TTL:PT1H
BEGIN:VTIMEZONE
TZID:Europe/Helsinki
BEGIN:DAYLIGHT
TZOFFSETFROM:+0200
TZOFFSETTO:+0300
TZNAME:EEST
DTSTART:20220327T010000
END:DAYLIGHT
BEGIN:STANDARD
TZOFFSETFROM:+0300
TZOFFSETTO:+0200
TZNAME:EET
DTSTART:20221030T010000
END:STANDARD
BEGIN:DAYLIGHT
TZOFFSETFROM:+0200
TZOFFSETTO:+0300
TZNAME:EEST
DTSTART:20230326T010000
END:DAYLIGHT
BEGIN:STANDARD
TZOFFSETFROM:+0300
TZOFFSETTO:+0200
TZNAME:EET
DTSTART:20231029T010000
END:STANDARD
BEGIN:DAYLIGHT
TZOFFSETFROM:+0200
TZOFFSETTO:+0300
TZNAME:EEST
DTSTART:20240331T010000
END:DAYLIGHT
BEGIN:STANDARD
TZOFFSETFROM:+0300
TZOFFSETTO:+0200
TZNAME:EET
DTSTART:20241027T010000
END:STANDARD
END:VTIMEZONE
BEGIN:VEVENT
DTSTART;VALUE=DATE:20230204
DTEND;VALUE=DATE:20230205
DTSTAMP:20260421T220543
CREATED:20221102T084246Z
LAST-MODIFIED:20221127T142852Z
UID:5681-1675468800-1675555199@kurikanlakkitehdas.fi
SUMMARY:Stargazers
DESCRIPTION:Bändin ohjelmistoon kuuluu covereita kasari hardrocksita sekä hevistä. \n\nShowtime 23\nLiput 12 €
URL:https://kurikanlakkitehdas.fi/tapahtuma/stargazers/
LOCATION:Makasiinin Baari\, Laurintie 28\, Kurikka\, 61300\, Finland
CATEGORIES:Makasiinin Baari
ATTACH;FMTTYPE=image/jpeg:https://kurikanlakkitehdas.fi/wp-content/uploads/2022/11/stargazers.jpg
END:VEVENT
BEGIN:VEVENT
DTSTART;VALUE=DATE:20230214
DTEND;VALUE=DATE:20230215
DTSTAMP:20260421T220543
CREATED:20230103T132309Z
LAST-MODIFIED:20230103T142517Z
UID:7000-1676332800-1676419199@kurikanlakkitehdas.fi
SUMMARY:Ystävänpäivä päivällinen Wanhalla Asemalla
DESCRIPTION:Anna hetki aikaa arjen keskellä rakkaalle tai ystävälle Wanhan Aseman Ystävänpäivä päivällisellä tiistaina 14.1 klo 16-20:  \nalkujuoma  \nlempeän tulinen bataattikeitto\nfocaccio aseman yrttilevitteellä  \nylikypsää naudan rintaa ja punaviinikastiketta\nperunagratiini\nuunipunajuurta ja vuohenjuustoa  \ntiramisu\nkahvi\, tee \nHinta kahdelle henkilölle 60 €\nHinta yhdelle henkilölle 32 €
URL:https://kurikanlakkitehdas.fi/tapahtuma/ystavanpaiva-paivallinen-wanhalla-asemalla/
LOCATION:Wanha Asema\, Laurintie 28\, Kurikka\, 61300\, Suomi
CATEGORIES:Kurikan Wanha-asema
ATTACH;FMTTYPE=image/jpeg:https://kurikanlakkitehdas.fi/wp-content/uploads/2023/01/IMG-20230103-WA00061.jpg
END:VEVENT
BEGIN:VEVENT
DTSTART;VALUE=DATE:20230218
DTEND;VALUE=DATE:20230219
DTSTAMP:20260421T220543
CREATED:20221102T090101Z
LAST-MODIFIED:20230218T082517Z
UID:5685-1676678400-1676764799@kurikanlakkitehdas.fi
SUMMARY:Movetron
DESCRIPTION:Kyllä\, 25 vuotta täynnä ja bändi on ihan superhyvässä iskussa. Tämä johtuu siitä\, että biisit kestävät aikaa ja me ollaan aika moni eletty niiden kanssa. Soundi on tätä päivää. Tämä bändi elää ikuisesti. \nShowtime 23\nLiput 20 €
URL:https://kurikanlakkitehdas.fi/tapahtuma/movetron/
LOCATION:Makasiinin Baari\, Laurintie 28\, Kurikka\, 61300\, Finland
CATEGORIES:Makasiinin Baari
ATTACH;FMTTYPE=image/jpeg:https://kurikanlakkitehdas.fi/wp-content/uploads/2022/11/move-kuva-2d-Edit-768x1075-1.jpg
END:VEVENT
BEGIN:VEVENT
DTSTART;VALUE=DATE:20230225
DTEND;VALUE=DATE:20230226
DTSTAMP:20260421T220543
CREATED:20221102T091725Z
LAST-MODIFIED:20221127T143214Z
UID:5689-1677283200-1677369599@kurikanlakkitehdas.fi
SUMMARY:Janne Hurme Duo
DESCRIPTION:Kattavan ja monipuolisen uran tehnyt Janne Hurme julkaisi vuonna 1995 Kirje-albuminsa\, jonka nimibiisi räjäytti Hurmeen uran rakettimaisen nousuun.\nJanne Hurmeen uraan on mahtunut Kirje-jättihitin lisäksi unohtumattomia kappaleita aina Tinasormuksesta Postikorttiin\, eikä myöskään miehen hard rock -puolta esimerkiksi jo kuopatun Dream Asylum -yhtyeen ja viime vuonna upeat 20 vuotta täyttäneen Human Temple -kokoonpanon vokalistinakaan ole syytä unohtaa. \nShowtime 23\nLiput 13 €
URL:https://kurikanlakkitehdas.fi/tapahtuma/janne-hurme-duo/
LOCATION:Makasiinin Baari\, Laurintie 28\, Kurikka\, 61300\, Finland
CATEGORIES:Makasiinin Baari
ATTACH;FMTTYPE=image/jpeg:https://kurikanlakkitehdas.fi/wp-content/uploads/2022/11/hurme007-scaled.jpg
END:VEVENT
END:VCALENDAR