BEGIN:VCALENDAR
VERSION:2.0
PRODID:-//Kurikan Lakkitehdas - ECPv6.15.20//NONSGML v1.0//EN
CALSCALE:GREGORIAN
METHOD:PUBLISH
X-ORIGINAL-URL:https://kurikanlakkitehdas.fi
X-WR-CALDESC:Tapahtumat Kurikan Lakkitehdas
REFRESH-INTERVAL;VALUE=DURATION:PT1H
X-Robots-Tag:noindex
X-PUBLISHED-TTL:PT1H
BEGIN:VTIMEZONE
TZID:Europe/Helsinki
BEGIN:DAYLIGHT
TZOFFSETFROM:+0200
TZOFFSETTO:+0300
TZNAME:EEST
DTSTART:20240331T010000
END:DAYLIGHT
BEGIN:STANDARD
TZOFFSETFROM:+0300
TZOFFSETTO:+0200
TZNAME:EET
DTSTART:20241027T010000
END:STANDARD
BEGIN:DAYLIGHT
TZOFFSETFROM:+0200
TZOFFSETTO:+0300
TZNAME:EEST
DTSTART:20250330T010000
END:DAYLIGHT
BEGIN:STANDARD
TZOFFSETFROM:+0300
TZOFFSETTO:+0200
TZNAME:EET
DTSTART:20251026T010000
END:STANDARD
BEGIN:DAYLIGHT
TZOFFSETFROM:+0200
TZOFFSETTO:+0300
TZNAME:EEST
DTSTART:20260329T010000
END:DAYLIGHT
BEGIN:STANDARD
TZOFFSETFROM:+0300
TZOFFSETTO:+0200
TZNAME:EET
DTSTART:20261025T010000
END:STANDARD
END:VTIMEZONE
BEGIN:VEVENT
DTSTART;VALUE=DATE:20251205
DTEND;VALUE=DATE:20251206
DTSTAMP:20260419T152420
CREATED:20250902T054048Z
LAST-MODIFIED:20250902T054048Z
UID:19553-1764892800-1764979199@kurikanlakkitehdas.fi
SUMMARY:Lemmentaikurit
DESCRIPTION:Lemmentaikurien biisit kertovat tarinoita suomalaisille rakkaista aiheista eli alkoholipitoisten juomien nauttimisesta (”röpöttelystä”\, ”dokaamisesta” jne.) sekä kahden ihmisen välisestä intiimistä kanssakäymisestä (”vieteriin viilaamisesta”\, ”vaakamambosta” jne). Musiikillisesti yhtye seikkailee jossain 80 & 90 -luvun dancepopin ja iskelmän välisessä rytmiviidakossa. \nShowtime 23\nK-18\nLiput 10€
URL:https://kurikanlakkitehdas.fi/tapahtuma/lemmentaikurit/
LOCATION:Makasiinin Baari\, Laurintie 28\, Kurikka\, 61300\, Finland
CATEGORIES:Makasiinin Baari
ATTACH;FMTTYPE=image/jpeg:https://kurikanlakkitehdas.fi/wp-content/uploads/2025/09/lemmentaikurit.jpg
END:VEVENT
END:VCALENDAR