BEGIN:VCALENDAR
VERSION:2.0
PRODID:-//Kurikan Lakkitehdas - ECPv6.15.20//NONSGML v1.0//EN
CALSCALE:GREGORIAN
METHOD:PUBLISH
X-ORIGINAL-URL:https://kurikanlakkitehdas.fi
X-WR-CALDESC:Tapahtumat Kurikan Lakkitehdas
REFRESH-INTERVAL;VALUE=DURATION:PT1H
X-Robots-Tag:noindex
X-PUBLISHED-TTL:PT1H
BEGIN:VTIMEZONE
TZID:Europe/Helsinki
BEGIN:DAYLIGHT
TZOFFSETFROM:+0200
TZOFFSETTO:+0300
TZNAME:EEST
DTSTART:20240331T010000
END:DAYLIGHT
BEGIN:STANDARD
TZOFFSETFROM:+0300
TZOFFSETTO:+0200
TZNAME:EET
DTSTART:20241027T010000
END:STANDARD
BEGIN:DAYLIGHT
TZOFFSETFROM:+0200
TZOFFSETTO:+0300
TZNAME:EEST
DTSTART:20250330T010000
END:DAYLIGHT
BEGIN:STANDARD
TZOFFSETFROM:+0300
TZOFFSETTO:+0200
TZNAME:EET
DTSTART:20251026T010000
END:STANDARD
BEGIN:DAYLIGHT
TZOFFSETFROM:+0200
TZOFFSETTO:+0300
TZNAME:EEST
DTSTART:20260329T010000
END:DAYLIGHT
BEGIN:STANDARD
TZOFFSETFROM:+0300
TZOFFSETTO:+0200
TZNAME:EET
DTSTART:20261025T010000
END:STANDARD
END:VTIMEZONE
BEGIN:VEVENT
DTSTART;VALUE=DATE:20250927
DTEND;VALUE=DATE:20250928
DTSTAMP:20260419T203205
CREATED:20250819T063308Z
LAST-MODIFIED:20250819T063308Z
UID:19510-1758931200-1759017599@kurikanlakkitehdas.fi
SUMMARY:Antivalent
DESCRIPTION:Antivalent on modernin alternative rockin viisikko\, joka yhdistää musiikissaan raskaat sävelet\, pehmeät melodiat ja syvälle iskevät teemat. Yhtyeen kansainvälinen ja latautunut soundi vangitsee kuulijan ja vie matkalle läpi elämän ja tunteiden vuoristoradan.  \nRadiosoittoa aina Cityltä Rockille usealla kappaleella saanut\, YleX Nosteessa dominoinut sekä festivaalilavoillakin nähty yhtye on uransa aikana julkaissut useiden singlehittien ja EP:n lisäksi albumikokonaisuuden ”Lifelong”\, jolla saavutti kiitosta myös kriitikoiden mielissä  \nJulkaisujensa tiimoilta yhtye onkin sekä myynyt kotipaikkakuntansa Bar 15:n loppuun että jakanut lavan suurten kotimaisten artistien\, kuten Von Hertzen Brothersin\, SARAn ja Shiraz Lanen kanssa.  \nRunsaiden klubi-keikkojen lisäksi myös festivaalit ovat tuttuja ja turvallisia\, joista esimerkkinä toimikoon Provinssi-yleisön sydämien valtaus. Jo energisen musiikkinsa kaveriksi bändi tarjoilee vähintään yhtä energisen liveshown\, joka kokonaisuutena valloittaa niin visuaalisesti kuin auditiivisestikin. \nAntivalent\nOmar Zouiter (Laulu)\nOskari Grahn (Kitara)\nTomi Latvala (Basso)\nSanteri Norrbacka (Koskettimet)\nOlli-Pekka Perttu (Rummut) \nShowtime 23\nLiput 8€\nK-18
URL:https://kurikanlakkitehdas.fi/tapahtuma/antivalent/
LOCATION:Makasiinin Baari\, Laurintie 28\, Kurikka\, 61300\, Finland
CATEGORIES:Makasiinin Baari
ATTACH;FMTTYPE=image/jpeg:https://kurikanlakkitehdas.fi/wp-content/uploads/2025/08/498167152_1313018194162084_5851002330079946716_n.jpg
END:VEVENT
END:VCALENDAR