BEGIN:VCALENDAR
VERSION:2.0
PRODID:-//Kurikan Lakkitehdas - ECPv6.15.20//NONSGML v1.0//EN
CALSCALE:GREGORIAN
METHOD:PUBLISH
X-ORIGINAL-URL:https://kurikanlakkitehdas.fi
X-WR-CALDESC:Tapahtumat Kurikan Lakkitehdas
REFRESH-INTERVAL;VALUE=DURATION:PT1H
X-Robots-Tag:noindex
X-PUBLISHED-TTL:PT1H
BEGIN:VTIMEZONE
TZID:Europe/Helsinki
BEGIN:DAYLIGHT
TZOFFSETFROM:+0200
TZOFFSETTO:+0300
TZNAME:EEST
DTSTART:20240331T010000
END:DAYLIGHT
BEGIN:STANDARD
TZOFFSETFROM:+0300
TZOFFSETTO:+0200
TZNAME:EET
DTSTART:20241027T010000
END:STANDARD
BEGIN:DAYLIGHT
TZOFFSETFROM:+0200
TZOFFSETTO:+0300
TZNAME:EEST
DTSTART:20250330T010000
END:DAYLIGHT
BEGIN:STANDARD
TZOFFSETFROM:+0300
TZOFFSETTO:+0200
TZNAME:EET
DTSTART:20251026T010000
END:STANDARD
BEGIN:DAYLIGHT
TZOFFSETFROM:+0200
TZOFFSETTO:+0300
TZNAME:EEST
DTSTART:20260329T010000
END:DAYLIGHT
BEGIN:STANDARD
TZOFFSETFROM:+0300
TZOFFSETTO:+0200
TZNAME:EET
DTSTART:20261025T010000
END:STANDARD
END:VTIMEZONE
BEGIN:VEVENT
DTSTART;VALUE=DATE:20250926
DTEND;VALUE=DATE:20250927
DTSTAMP:20260419T202333
CREATED:20250902T061706Z
LAST-MODIFIED:20250902T061706Z
UID:19557-1758844800-1758931199@kurikanlakkitehdas.fi
SUMMARY:MÄSÄ DUO Wanha Asema
DESCRIPTION:Parasta Paikalliselta -viikonlopun kunniaksi perjantai-iltana Wanhalla Asemalla soittaa Mäsä Duo!  \nOvet auki klo 20\nShowtime klo 21 \nKeittiöstä:\nTalon kanaleipä ranskalaisilla/salaatilla 18€\nMetsästäjänleipä ranskalaisilla/salaatilla 18€ \nLiput 12€\nLippuja rajoitettu määrä. Myynnissä verkkokaupassa \nMadventuresin Mad music maailmanmusiikkikirjassakin mainittu MäSä-Duo on perustettu vuonna 2014. Etelä-pohjalaispastorit jakavat ilosanomaansa jae kerrallaan Unohda tuomionpasuunat\, nauti ennemminkin armollisen rakkauden julistuksesta ja anna etelä-pohjalaisen miehen kokea lohtua\, toivoa ja uskoa omimmassa interiöörissään. \nMäSä-Duo yhdistelee uutta ja vanhaa perinnettä ronskilla etelaäpohjalaisella otteella. Kaustislaisen Kyösti Järvelän tiukka pelimanniote viulussa kohtaa lapualaisen Lauri Kotamäen rytmikkään hanurismin. Miesten soitossa ja laulussa on vauhtia ja vaarallisia tilanteita aidolla pelimanniotteella. Ohjelmisto koostuu pääosin uudelleen sovitetuista kansanmusiikikappaleista suomen eri alueilta. Ohjelmistoon kuuluu vanhoilta mestareilta opittuja lauluja\, rekilauluja\, kupletteja pelimannisävelmiä ja sikermiä.
URL:https://kurikanlakkitehdas.fi/tapahtuma/masa-duo-wanha-asema/
LOCATION:Wanha Asema\, Laurintie 28\, Kurikka\, 61300\, Suomi
CATEGORIES:Kurikan Wanha-asema
ATTACH;FMTTYPE=image/webp:https://kurikanlakkitehdas.fi/wp-content/uploads/2025/09/Soittokuva_Masa_2017.webp
END:VEVENT
END:VCALENDAR