BEGIN:VCALENDAR
VERSION:2.0
PRODID:-//Kurikan Lakkitehdas - ECPv6.15.20//NONSGML v1.0//EN
CALSCALE:GREGORIAN
METHOD:PUBLISH
X-WR-CALNAME:Kurikan Lakkitehdas
X-ORIGINAL-URL:https://kurikanlakkitehdas.fi
X-WR-CALDESC:Tapahtumat Kurikan Lakkitehdas
REFRESH-INTERVAL;VALUE=DURATION:PT1H
X-Robots-Tag:noindex
X-PUBLISHED-TTL:PT1H
BEGIN:VTIMEZONE
TZID:Europe/Helsinki
BEGIN:DAYLIGHT
TZOFFSETFROM:+0200
TZOFFSETTO:+0300
TZNAME:EEST
DTSTART:20240331T010000
END:DAYLIGHT
BEGIN:STANDARD
TZOFFSETFROM:+0300
TZOFFSETTO:+0200
TZNAME:EET
DTSTART:20241027T010000
END:STANDARD
BEGIN:DAYLIGHT
TZOFFSETFROM:+0200
TZOFFSETTO:+0300
TZNAME:EEST
DTSTART:20250330T010000
END:DAYLIGHT
BEGIN:STANDARD
TZOFFSETFROM:+0300
TZOFFSETTO:+0200
TZNAME:EET
DTSTART:20251026T010000
END:STANDARD
BEGIN:DAYLIGHT
TZOFFSETFROM:+0200
TZOFFSETTO:+0300
TZNAME:EEST
DTSTART:20260329T010000
END:DAYLIGHT
BEGIN:STANDARD
TZOFFSETFROM:+0300
TZOFFSETTO:+0200
TZNAME:EET
DTSTART:20261025T010000
END:STANDARD
END:VTIMEZONE
BEGIN:VEVENT
DTSTART;VALUE=DATE:20250816
DTEND;VALUE=DATE:20250817
DTSTAMP:20260419T215149
CREATED:20250706T093457Z
LAST-MODIFIED:20250706T093457Z
UID:19422-1755302400-1755388799@kurikanlakkitehdas.fi
SUMMARY:Berry Rockers
DESCRIPTION:Berry Rockers on keväällä 2022 perustettu rockabilly-orkesteri. Bändi on saanut alkunsa vuonna 2018 Pekka Kelton ja Tuomo Tupen yhteisestä haaveesta perustaa bändi. Monen kokoonpanon ja monen eri genren jälkeen päädyttiin rockabillyyn\, mikä oli molempien suuri intohimo.\nKeväällä 2025 julkaistiin yhtyeen ensimmäinen pitkäsoitto Live At Skogsby. \nBerry Rockers vie kuulijan takaisin 50-luvulle. Luvassa ajan klassikoita\, omaa tuotantoa sekä muunnelmia uudemmista kappaleista rock’n’roll-tyyliin \nShowtime 23\nLiput 8€
URL:https://kurikanlakkitehdas.fi/tapahtuma/berry-rockers/
LOCATION:Makasiinin Baari\, Laurintie 28\, Kurikka\, 61300\, Finland
CATEGORIES:Makasiinin Baari
ATTACH;FMTTYPE=image/jpeg:https://kurikanlakkitehdas.fi/wp-content/uploads/2025/07/IMG_7258.jpeg
END:VEVENT
END:VCALENDAR