BEGIN:VCALENDAR
VERSION:2.0
PRODID:-//Kurikan Lakkitehdas - ECPv6.15.20//NONSGML v1.0//EN
CALSCALE:GREGORIAN
METHOD:PUBLISH
X-WR-CALNAME:Kurikan Lakkitehdas
X-ORIGINAL-URL:https://kurikanlakkitehdas.fi
X-WR-CALDESC:Tapahtumat Kurikan Lakkitehdas
REFRESH-INTERVAL;VALUE=DURATION:PT1H
X-Robots-Tag:noindex
X-PUBLISHED-TTL:PT1H
BEGIN:VTIMEZONE
TZID:Europe/Helsinki
BEGIN:DAYLIGHT
TZOFFSETFROM:+0200
TZOFFSETTO:+0300
TZNAME:EEST
DTSTART:20240331T010000
END:DAYLIGHT
BEGIN:STANDARD
TZOFFSETFROM:+0300
TZOFFSETTO:+0200
TZNAME:EET
DTSTART:20241027T010000
END:STANDARD
BEGIN:DAYLIGHT
TZOFFSETFROM:+0200
TZOFFSETTO:+0300
TZNAME:EEST
DTSTART:20250330T010000
END:DAYLIGHT
BEGIN:STANDARD
TZOFFSETFROM:+0300
TZOFFSETTO:+0200
TZNAME:EET
DTSTART:20251026T010000
END:STANDARD
BEGIN:DAYLIGHT
TZOFFSETFROM:+0200
TZOFFSETTO:+0300
TZNAME:EEST
DTSTART:20260329T010000
END:DAYLIGHT
BEGIN:STANDARD
TZOFFSETFROM:+0300
TZOFFSETTO:+0200
TZNAME:EET
DTSTART:20261025T010000
END:STANDARD
END:VTIMEZONE
BEGIN:VEVENT
DTSTART;VALUE=DATE:20250726
DTEND;VALUE=DATE:20250727
DTSTAMP:20260419T233511
CREATED:20250706T094651Z
LAST-MODIFIED:20250712T115424Z
UID:19426-1753488000-1753574399@kurikanlakkitehdas.fi
SUMMARY:Onniteekki DJ´s feat MegaMiika
DESCRIPTION:RETRO DISCO@MAKASIINI KURIKKA FEAT DJ MEGAMIIKA\nLa 26.7.2025 klo 22-04\nLiput: ennakkoon 10€ ja ovelta 12€ \nValmistaudu kesän energisimpään retroiltaan!Kurikan Makasiini muuttuu lauantaina 26.7. todelliseksi aikakoneeksi\, kun ONNITEEKKI DJ’S tuo lavalle legendaarisen Retro Discon – tällä kertaa mukana myös DJ MEGAMIIKA! \nONNITEEKKI DJ’S:\nDJ Tony (tunnettu mm. Hitmixin Retroradio-ohjelmasta) ja DJ Alex L (yli 10 000 DJ-keikkaa!) ovat suomalaisen retrobilekulttuurin ikoneita. Yhdessä he ovat tanssittaneet kansaa jo yli 50 vuoden kokemuksella\, ja nyt he tuovat Kurikkaan parhaat 80-\, 90- ja 00-luvun hitit. \nDJ MEGAMIIKA\, pohjanmaan party-DJ no.1\, täydentää illan kattauksen – luvassa on takuuvarmaa menoa aamuyöhön asti! \nTimetable\nKlo 22.00 – 01.00. DJ Alex L\nKlo 01.00. – 02.30. DJ Tony\nKlo 02.30. – 03.30. DJ Megamiika \nEnnakkoliput Kurikan Lakkitehtaalta 10 € (suosittelemme varaamaan ajoissa!)\, ovelta 12 € \nVaraa lippusi\, kutsu kaverit mukaan ja hyppää mukaan aikamatkalle menneiden vuosikymmenten parhaiden hittien pariin. Tämä ilta jää mieleen – nähdään Makasiinilla! \n#onniteekkidjs #kurikanmakasiini #retrodisko #bileet #djtony #djalexl #djmegamiika #ysäri #kasari #nollari
URL:https://kurikanlakkitehdas.fi/tapahtuma/onniteekki-djs-feat-megamiika/
LOCATION:Makasiinin Baari\, Laurintie 28\, Kurikka\, 61300\, Finland
CATEGORIES:Makasiinin Baari
ATTACH;FMTTYPE=image/png:https://kurikanlakkitehdas.fi/wp-content/uploads/2025/07/My-project.png
END:VEVENT
END:VCALENDAR