BEGIN:VCALENDAR
VERSION:2.0
PRODID:-//Kurikan Lakkitehdas - ECPv6.15.20//NONSGML v1.0//EN
CALSCALE:GREGORIAN
METHOD:PUBLISH
X-WR-CALNAME:Kurikan Lakkitehdas
X-ORIGINAL-URL:https://kurikanlakkitehdas.fi
X-WR-CALDESC:Tapahtumat Kurikan Lakkitehdas
REFRESH-INTERVAL;VALUE=DURATION:PT1H
X-Robots-Tag:noindex
X-PUBLISHED-TTL:PT1H
BEGIN:VTIMEZONE
TZID:Europe/Helsinki
BEGIN:DAYLIGHT
TZOFFSETFROM:+0200
TZOFFSETTO:+0300
TZNAME:EEST
DTSTART:20240331T010000
END:DAYLIGHT
BEGIN:STANDARD
TZOFFSETFROM:+0300
TZOFFSETTO:+0200
TZNAME:EET
DTSTART:20241027T010000
END:STANDARD
BEGIN:DAYLIGHT
TZOFFSETFROM:+0200
TZOFFSETTO:+0300
TZNAME:EEST
DTSTART:20250330T010000
END:DAYLIGHT
BEGIN:STANDARD
TZOFFSETFROM:+0300
TZOFFSETTO:+0200
TZNAME:EET
DTSTART:20251026T010000
END:STANDARD
BEGIN:DAYLIGHT
TZOFFSETFROM:+0200
TZOFFSETTO:+0300
TZNAME:EEST
DTSTART:20260329T010000
END:DAYLIGHT
BEGIN:STANDARD
TZOFFSETFROM:+0300
TZOFFSETTO:+0200
TZNAME:EET
DTSTART:20261025T010000
END:STANDARD
END:VTIMEZONE
BEGIN:VEVENT
DTSTART;VALUE=DATE:20250430
DTEND;VALUE=DATE:20250501
DTSTAMP:20260420T023920
CREATED:20250327T094833Z
LAST-MODIFIED:20250327T094833Z
UID:18591-1745971200-1746057599@kurikanlakkitehdas.fi
SUMMARY:Makasiinin vappu; Bilebändi Bilejuna
DESCRIPTION:Bilejuna on kirkkainta kärkeä edustava ammattitason bilebändi\, joka vie raiteillaan unohtumattomalle bilematkalle. Tässä junassa ei makuuvaunuja tarvita\, sillä kyydissä kuullaan kaikkien aikojen parhaita poimintoja rokista räppiin\, diskosta poppiin sekä tunnetuimpia hittejä sovitettuna nerokkaasti yhteen. Hyppää siis kyytiin ja nauti matkasta! \nK-18\nShowtime 23\nLiput 14€
URL:https://kurikanlakkitehdas.fi/tapahtuma/makasiinin-vappu-bilebandi-bilejuna/
LOCATION:Makasiinin Baari\, Laurintie 28\, Kurikka\, 61300\, Finland
CATEGORIES:Makasiinin Baari
ATTACH;FMTTYPE=image/png:https://kurikanlakkitehdas.fi/wp-content/uploads/2023/03/BJ2022_letter-1440x960-1.png
END:VEVENT
END:VCALENDAR