BEGIN:VCALENDAR
VERSION:2.0
PRODID:-//Kurikan Lakkitehdas - ECPv6.15.20//NONSGML v1.0//EN
CALSCALE:GREGORIAN
METHOD:PUBLISH
X-ORIGINAL-URL:https://kurikanlakkitehdas.fi
X-WR-CALDESC:Tapahtumat Kurikan Lakkitehdas
REFRESH-INTERVAL;VALUE=DURATION:PT1H
X-Robots-Tag:noindex
X-PUBLISHED-TTL:PT1H
BEGIN:VTIMEZONE
TZID:Europe/Helsinki
BEGIN:DAYLIGHT
TZOFFSETFROM:+0200
TZOFFSETTO:+0300
TZNAME:EEST
DTSTART:20240331T010000
END:DAYLIGHT
BEGIN:STANDARD
TZOFFSETFROM:+0300
TZOFFSETTO:+0200
TZNAME:EET
DTSTART:20241027T010000
END:STANDARD
BEGIN:DAYLIGHT
TZOFFSETFROM:+0200
TZOFFSETTO:+0300
TZNAME:EEST
DTSTART:20250330T010000
END:DAYLIGHT
BEGIN:STANDARD
TZOFFSETFROM:+0300
TZOFFSETTO:+0200
TZNAME:EET
DTSTART:20251026T010000
END:STANDARD
BEGIN:DAYLIGHT
TZOFFSETFROM:+0200
TZOFFSETTO:+0300
TZNAME:EEST
DTSTART:20260329T010000
END:DAYLIGHT
BEGIN:STANDARD
TZOFFSETFROM:+0300
TZOFFSETTO:+0200
TZNAME:EET
DTSTART:20261025T010000
END:STANDARD
END:VTIMEZONE
BEGIN:VEVENT
DTSTART;VALUE=DATE:20250315
DTEND;VALUE=DATE:20250316
DTSTAMP:20260420T054643
CREATED:20250121T062022Z
LAST-MODIFIED:20250311T061812Z
UID:17912-1741996800-1742083199@kurikanlakkitehdas.fi
SUMMARY:RETRO DISCO
DESCRIPTION:RETRO DISCO@MAKASIINI KURIKKA\nLa 15.3.2025 Klo 22.00. – 03.30.\nLiput : 10/12€ \nOnniteekki Dj`s Tony ( Hitmix Retroradio ) & Alex L ( Yli 10 000 Dj keikkaa )  saapuvat Kurikan Makasiinille Retro Discon merkeissä La 15.3.2025.\nClub Onniteekin Legendat tykittävät 80` 90`s & 00`s hittejä läpi yön. \nK-18
URL:https://kurikanlakkitehdas.fi/tapahtuma/retro-disco/
LOCATION:Makasiinin Baari\, Laurintie 28\, Kurikka\, 61300\, Finland
CATEGORIES:Makasiinin Baari
ATTACH;FMTTYPE=image/jpeg:https://kurikanlakkitehdas.fi/wp-content/uploads/2025/01/ODJS_logo.jpg
END:VEVENT
BEGIN:VEVENT
DTSTART;VALUE=DATE:20250315
DTEND;VALUE=DATE:20250316
DTSTAMP:20260420T054643
CREATED:20250127T063110Z
LAST-MODIFIED:20250127T082211Z
UID:17964-1741996800-1742083199@kurikanlakkitehdas.fi
SUMMARY:MIETAA: Paluu 80-luvulle! BAT & RYYD
DESCRIPTION:MIETAA: Paluu 80-luvulle! BAT & RYYD\nklo 20-01.30 \nDJ Jake The One (DiscoTarget)\nDJ Jytä (Mietaa)\nDJ R.CuBe (Mietaa)\nDJ Mikki (Mietaa) \nMietaan lipulla/leimalla Makasiiniin jatkoille! Onniteekki DJ’s 90’S avoinna 04 saakka. \nEnnakkomyynti 07.03.2025 klo 00.00 saakka.\nK-18
URL:https://kurikanlakkitehdas.fi/tapahtuma/mietaa-paluu-80-luvulle-bat-ryyd/
CATEGORIES:Mietaan Nuorisoseura
ATTACH;FMTTYPE=image/jpeg:https://kurikanlakkitehdas.fi/wp-content/uploads/2025/01/Mietaa-15.3-bat-ryyd-banner.jpg
END:VEVENT
END:VCALENDAR