BEGIN:VCALENDAR
VERSION:2.0
PRODID:-//Kurikan Lakkitehdas - ECPv6.15.20//NONSGML v1.0//EN
CALSCALE:GREGORIAN
METHOD:PUBLISH
X-ORIGINAL-URL:https://kurikanlakkitehdas.fi
X-WR-CALDESC:Tapahtumat Kurikan Lakkitehdas
REFRESH-INTERVAL;VALUE=DURATION:PT1H
X-Robots-Tag:noindex
X-PUBLISHED-TTL:PT1H
BEGIN:VTIMEZONE
TZID:Europe/Helsinki
BEGIN:DAYLIGHT
TZOFFSETFROM:+0200
TZOFFSETTO:+0300
TZNAME:EEST
DTSTART:20230326T010000
END:DAYLIGHT
BEGIN:STANDARD
TZOFFSETFROM:+0300
TZOFFSETTO:+0200
TZNAME:EET
DTSTART:20231029T010000
END:STANDARD
BEGIN:DAYLIGHT
TZOFFSETFROM:+0200
TZOFFSETTO:+0300
TZNAME:EEST
DTSTART:20240331T010000
END:DAYLIGHT
BEGIN:STANDARD
TZOFFSETFROM:+0300
TZOFFSETTO:+0200
TZNAME:EET
DTSTART:20241027T010000
END:STANDARD
BEGIN:DAYLIGHT
TZOFFSETFROM:+0200
TZOFFSETTO:+0300
TZNAME:EEST
DTSTART:20250330T010000
END:DAYLIGHT
BEGIN:STANDARD
TZOFFSETFROM:+0300
TZOFFSETTO:+0200
TZNAME:EET
DTSTART:20251026T010000
END:STANDARD
END:VTIMEZONE
BEGIN:VEVENT
DTSTART;VALUE=DATE:20241225
DTEND;VALUE=DATE:20241226
DTSTAMP:20260420T103437
CREATED:20240624T085710Z
LAST-MODIFIED:20241105T194255Z
UID:15294-1735084800-1735171199@kurikanlakkitehdas.fi
SUMMARY:Tuppu's Acoustic Experience
DESCRIPTION:Tuppu’s Acoustic Experience tarjoilee erittäin hyvän musiikillisen kattauksen lisäksi elämäniloa ja bilemieltä! \nBändi koostuu kolmesta laulusta\, akustisesta kitarasta ja Loota percussionista! \nEsitämme kaikkien tuntemaa bilemusaa!\nJoten homma toimii pomminvarmasti paikassa kuin paikassa! \nTapahtuma on k-18\nShowtime 23\nLiput 8€\nEnnakkoliput ovat saatavilla keikkapäivänä klo 18 saakka osoitteessa makasiininbaari.fi
URL:https://kurikanlakkitehdas.fi/tapahtuma/tuppus-acoustic-experience/
LOCATION:Makasiinin Baari\, Laurintie 28\, Kurikka\, 61300\, Finland
CATEGORIES:Makasiinin Baari
ATTACH;FMTTYPE=image/jpeg:https://kurikanlakkitehdas.fi/wp-content/uploads/2024/06/tuppu.jpg
END:VEVENT
END:VCALENDAR