BEGIN:VCALENDAR
VERSION:2.0
PRODID:-//Kurikan Lakkitehdas - ECPv6.15.20//NONSGML v1.0//EN
CALSCALE:GREGORIAN
METHOD:PUBLISH
X-WR-CALNAME:Kurikan Lakkitehdas
X-ORIGINAL-URL:https://kurikanlakkitehdas.fi
X-WR-CALDESC:Tapahtumat Kurikan Lakkitehdas
REFRESH-INTERVAL;VALUE=DURATION:PT1H
X-Robots-Tag:noindex
X-PUBLISHED-TTL:PT1H
BEGIN:VTIMEZONE
TZID:Europe/Helsinki
BEGIN:DAYLIGHT
TZOFFSETFROM:+0200
TZOFFSETTO:+0300
TZNAME:EEST
DTSTART:20230326T010000
END:DAYLIGHT
BEGIN:STANDARD
TZOFFSETFROM:+0300
TZOFFSETTO:+0200
TZNAME:EET
DTSTART:20231029T010000
END:STANDARD
BEGIN:DAYLIGHT
TZOFFSETFROM:+0200
TZOFFSETTO:+0300
TZNAME:EEST
DTSTART:20240331T010000
END:DAYLIGHT
BEGIN:STANDARD
TZOFFSETFROM:+0300
TZOFFSETTO:+0200
TZNAME:EET
DTSTART:20241027T010000
END:STANDARD
BEGIN:DAYLIGHT
TZOFFSETFROM:+0200
TZOFFSETTO:+0300
TZNAME:EEST
DTSTART:20250330T010000
END:DAYLIGHT
BEGIN:STANDARD
TZOFFSETFROM:+0300
TZOFFSETTO:+0200
TZNAME:EET
DTSTART:20251026T010000
END:STANDARD
END:VTIMEZONE
BEGIN:VEVENT
DTSTART;VALUE=DATE:20240907
DTEND;VALUE=DATE:20240908
DTSTAMP:20260420T145719
CREATED:20240427T063254Z
LAST-MODIFIED:20240624T051539Z
UID:14896-1725667200-1725753599@kurikanlakkitehdas.fi
SUMMARY:Benjamin
DESCRIPTION:Määrätietoisesti kohti kotimaisen pop-kentän kärkeä etenevän Benjamin musiikki on itsevarmempaa\, energisempää ja popimpaa kuin koskaan! Benjamin kannustaa musiikillaan elämään anteeksipyytelemätöntä ja rohkeasti omannäköistä elämää. Diskovivahteisella pop-musiikillaan hurmaava\, poikkeuksellisen lavakarisman omaava artisti villitsee yleisönsä hersyvällä lavashow’llaan. \nArtistin viimeisimpiä julkaisuja ovat kevään 2023 isoimpiin hitteihin lukeutuva\, platinarajan rikkonut Hoida mut -single\, jonka musiikkivideota on katsottu yhteensä myös huimat 1\,5 miljoonaa kertaa. Tätä seurannut Minä-Minä-Maa -single puolestaan toi mukanaan koko artistin uran korkeimman radiolistasijoituksen. \nMonilahjakkaan Benjaminin suurimpia hittejä ovat muun muassa suoraan Spotifyn ykköseksi noussut Naarmuja feat. IBE\, tuplaplatinarajan rikkonut Juon sut pois sekä viraali-ilmiöksi kesällä 2022 räjähtänyt Maija Vilkkumaan Ei-klassikkoon pohjautuva GAY-single. Syksyllä 2022 Benjamin osoitti kunnianhimoisuutensa ja luovuutensa voittamalla Tanssii Tähtien Kanssa -kilpailun. \nShowtime 23\nLiput 25€/27€
URL:https://kurikanlakkitehdas.fi/tapahtuma/benjamin/
LOCATION:Makasiinin Baari\, Laurintie 28\, Kurikka\, 61300\, Finland
CATEGORIES:Makasiinin Baari
ATTACH;FMTTYPE=image/jpeg:https://kurikanlakkitehdas.fi/wp-content/uploads/2024/04/benjamin.jpg
END:VEVENT
END:VCALENDAR