BEGIN:VCALENDAR
VERSION:2.0
PRODID:-//Kurikan Lakkitehdas - ECPv6.15.20//NONSGML v1.0//EN
CALSCALE:GREGORIAN
METHOD:PUBLISH
X-ORIGINAL-URL:https://kurikanlakkitehdas.fi
X-WR-CALDESC:Tapahtumat Kurikan Lakkitehdas
REFRESH-INTERVAL;VALUE=DURATION:PT1H
X-Robots-Tag:noindex
X-PUBLISHED-TTL:PT1H
BEGIN:VTIMEZONE
TZID:Europe/Helsinki
BEGIN:DAYLIGHT
TZOFFSETFROM:+0200
TZOFFSETTO:+0300
TZNAME:EEST
DTSTART:20230326T010000
END:DAYLIGHT
BEGIN:STANDARD
TZOFFSETFROM:+0300
TZOFFSETTO:+0200
TZNAME:EET
DTSTART:20231029T010000
END:STANDARD
BEGIN:DAYLIGHT
TZOFFSETFROM:+0200
TZOFFSETTO:+0300
TZNAME:EEST
DTSTART:20240331T010000
END:DAYLIGHT
BEGIN:STANDARD
TZOFFSETFROM:+0300
TZOFFSETTO:+0200
TZNAME:EET
DTSTART:20241027T010000
END:STANDARD
BEGIN:DAYLIGHT
TZOFFSETFROM:+0200
TZOFFSETTO:+0300
TZNAME:EEST
DTSTART:20250330T010000
END:DAYLIGHT
BEGIN:STANDARD
TZOFFSETFROM:+0300
TZOFFSETTO:+0200
TZNAME:EET
DTSTART:20251026T010000
END:STANDARD
END:VTIMEZONE
BEGIN:VEVENT
DTSTART;VALUE=DATE:20240323
DTEND;VALUE=DATE:20240324
DTSTAMP:20260421T035609
CREATED:20231115T112620Z
LAST-MODIFIED:20240319T141821Z
UID:12435-1711152000-1711238399@kurikanlakkitehdas.fi
SUMMARY:Pauli Hanhiniemi MAT (Melko Akustinen Trio)
DESCRIPTION:Pauli Hanhiniemi MAT (Melko Akustinen Trio) \nLuvassa on Paulin lauluja eri vuosikymmeniltä ja eri yhteyksistä: Kolmatta naista\, Paulin Perunateatteria\, Hehkumoa ja ihan tuorettakin soolomateriaalia. MAT-versiot ovat orgaanisia sovituksia\, mutta laulut ovat säilyttäneet olemuksensa. \nShowtime 23\nLiput ennakkoon 20€\, ovelta 22€
URL:https://kurikanlakkitehdas.fi/tapahtuma/pauli-hanhiniemi-mat-melko-akustinen-trio/
LOCATION:Makasiinin Baari\, Laurintie 28\, Kurikka\, 61300\, Finland
CATEGORIES:Makasiinin Baari
ATTACH;FMTTYPE=image/jpeg:https://kurikanlakkitehdas.fi/wp-content/uploads/2023/11/Hanhiniemi1-scaled-1.jpeg
END:VEVENT
END:VCALENDAR