BEGIN:VCALENDAR
VERSION:2.0
PRODID:-//Kurikan Lakkitehdas - ECPv6.15.20//NONSGML v1.0//EN
CALSCALE:GREGORIAN
METHOD:PUBLISH
X-WR-CALNAME:Kurikan Lakkitehdas
X-ORIGINAL-URL:https://kurikanlakkitehdas.fi
X-WR-CALDESC:Tapahtumat Kurikan Lakkitehdas
REFRESH-INTERVAL;VALUE=DURATION:PT1H
X-Robots-Tag:noindex
X-PUBLISHED-TTL:PT1H
BEGIN:VTIMEZONE
TZID:Europe/Helsinki
BEGIN:DAYLIGHT
TZOFFSETFROM:+0200
TZOFFSETTO:+0300
TZNAME:EEST
DTSTART:20230326T010000
END:DAYLIGHT
BEGIN:STANDARD
TZOFFSETFROM:+0300
TZOFFSETTO:+0200
TZNAME:EET
DTSTART:20231029T010000
END:STANDARD
BEGIN:DAYLIGHT
TZOFFSETFROM:+0200
TZOFFSETTO:+0300
TZNAME:EEST
DTSTART:20240331T010000
END:DAYLIGHT
BEGIN:STANDARD
TZOFFSETFROM:+0300
TZOFFSETTO:+0200
TZNAME:EET
DTSTART:20241027T010000
END:STANDARD
BEGIN:DAYLIGHT
TZOFFSETFROM:+0200
TZOFFSETTO:+0300
TZNAME:EEST
DTSTART:20250330T010000
END:DAYLIGHT
BEGIN:STANDARD
TZOFFSETFROM:+0300
TZOFFSETTO:+0200
TZNAME:EET
DTSTART:20251026T010000
END:STANDARD
END:VTIMEZONE
BEGIN:VEVENT
DTSTART;VALUE=DATE:20240309
DTEND;VALUE=DATE:20240310
DTSTAMP:20260421T035424
CREATED:20231115T110828Z
LAST-MODIFIED:20231115T110828Z
UID:12422-1709942400-1710028799@kurikanlakkitehdas.fi
SUMMARY:Aikakone
DESCRIPTION:Aikakone on suomalainen popyhtye\, joka oli 1990-luvulla yksi Suomen popmusiikin näkyvimpiä ilmiöitä. Aikakone on saanut kaksi kertaa Emma-palkinnon. \nAikakone julkaisi debyyttialbuminsa Tähtikaaren taa vuonna 1995. Se myi triplaplatinaa ja sisälsi läpimurtokappaleet ”Alla vaahterapuun”\, ”Odota”\, ”Taas saan lentää”\, nimikkokappaleen ”Tähtikaaren taa” ja ”Matkustanut oon”\, jotka kaikki saivat runsaasti radiosoittoaikaa. \nShowtime 23\nLiput ennakkoon 24€ ja ovelta 26€
URL:https://kurikanlakkitehdas.fi/tapahtuma/aikakone/
LOCATION:Makasiinin Baari\, Laurintie 28\, Kurikka\, 61300\, Finland
CATEGORIES:Makasiinin Baari
ATTACH;FMTTYPE=image/webp:https://kurikanlakkitehdas.fi/wp-content/uploads/2023/11/aikakone_websize.webp
END:VEVENT
END:VCALENDAR