BEGIN:VCALENDAR
VERSION:2.0
PRODID:-//Kurikan Lakkitehdas - ECPv6.15.20//NONSGML v1.0//EN
CALSCALE:GREGORIAN
METHOD:PUBLISH
X-WR-CALNAME:Kurikan Lakkitehdas
X-ORIGINAL-URL:https://kurikanlakkitehdas.fi
X-WR-CALDESC:Tapahtumat Kurikan Lakkitehdas
REFRESH-INTERVAL;VALUE=DURATION:PT1H
X-Robots-Tag:noindex
X-PUBLISHED-TTL:PT1H
BEGIN:VTIMEZONE
TZID:Europe/Helsinki
BEGIN:DAYLIGHT
TZOFFSETFROM:+0200
TZOFFSETTO:+0300
TZNAME:EEST
DTSTART:20230326T010000
END:DAYLIGHT
BEGIN:STANDARD
TZOFFSETFROM:+0300
TZOFFSETTO:+0200
TZNAME:EET
DTSTART:20231029T010000
END:STANDARD
BEGIN:DAYLIGHT
TZOFFSETFROM:+0200
TZOFFSETTO:+0300
TZNAME:EEST
DTSTART:20240331T010000
END:DAYLIGHT
BEGIN:STANDARD
TZOFFSETFROM:+0300
TZOFFSETTO:+0200
TZNAME:EET
DTSTART:20241027T010000
END:STANDARD
BEGIN:DAYLIGHT
TZOFFSETFROM:+0200
TZOFFSETTO:+0300
TZNAME:EEST
DTSTART:20250330T010000
END:DAYLIGHT
BEGIN:STANDARD
TZOFFSETFROM:+0300
TZOFFSETTO:+0200
TZNAME:EET
DTSTART:20251026T010000
END:STANDARD
END:VTIMEZONE
BEGIN:VEVENT
DTSTART;VALUE=DATE:20240127
DTEND;VALUE=DATE:20240128
DTSTAMP:20260421T070942
CREATED:20231121T071813Z
LAST-MODIFIED:20231121T071813Z
UID:12465-1706313600-1706399999@kurikanlakkitehdas.fi
SUMMARY:Lamourettes
DESCRIPTION:Suomesta puuttui pitkään miesten Chippendales -ryhmää vastaava seksikkään rohkea naisten tanssiryhmä\, joka ei kuitenkaan paljasta aivan kaikkea\, vaan jättää jotain mielikuvituksenkin varaan. Tähän tarpeeseen vastasi Lamourettes -tanssiryhmä. \nLamourettesit esittävät lavalla salaisia miesten fantasiahahmoja: seksikkäitä sairaanhoitajia\, uljaita lentoemoja\, pikkutuhmia koulutyttöjä\, nahka-asuisia valtiattaria\, raudanlujia inttinaisia\, villejä cowboytyttöjä\, kuumia varikkoruusuja…  Tämän lisäksi tytöt vetävät hupimielisiä tapahtumia yleisölle. \nShowtime 23\nLiput 14€
URL:https://kurikanlakkitehdas.fi/tapahtuma/lamourettes/
LOCATION:Makasiinin Baari\, Laurintie 28\, Kurikka\, 61300\, Finland
CATEGORIES:Makasiinin Baari
ATTACH;FMTTYPE=image/jpeg:https://kurikanlakkitehdas.fi/wp-content/uploads/2023/11/lamourettes-ohjelmanaiset-6.434x0.jpg
END:VEVENT
END:VCALENDAR