BEGIN:VCALENDAR
VERSION:2.0
PRODID:-//Kurikan Lakkitehdas - ECPv6.15.20//NONSGML v1.0//EN
CALSCALE:GREGORIAN
METHOD:PUBLISH
X-WR-CALNAME:Kurikan Lakkitehdas
X-ORIGINAL-URL:https://kurikanlakkitehdas.fi
X-WR-CALDESC:Tapahtumat Kurikan Lakkitehdas
REFRESH-INTERVAL;VALUE=DURATION:PT1H
X-Robots-Tag:noindex
X-PUBLISHED-TTL:PT1H
BEGIN:VTIMEZONE
TZID:Europe/Helsinki
BEGIN:DAYLIGHT
TZOFFSETFROM:+0200
TZOFFSETTO:+0300
TZNAME:EEST
DTSTART:20220327T010000
END:DAYLIGHT
BEGIN:STANDARD
TZOFFSETFROM:+0300
TZOFFSETTO:+0200
TZNAME:EET
DTSTART:20221030T010000
END:STANDARD
BEGIN:DAYLIGHT
TZOFFSETFROM:+0200
TZOFFSETTO:+0300
TZNAME:EEST
DTSTART:20230326T010000
END:DAYLIGHT
BEGIN:STANDARD
TZOFFSETFROM:+0300
TZOFFSETTO:+0200
TZNAME:EET
DTSTART:20231029T010000
END:STANDARD
BEGIN:DAYLIGHT
TZOFFSETFROM:+0200
TZOFFSETTO:+0300
TZNAME:EEST
DTSTART:20240331T010000
END:DAYLIGHT
BEGIN:STANDARD
TZOFFSETFROM:+0300
TZOFFSETTO:+0200
TZNAME:EET
DTSTART:20241027T010000
END:STANDARD
END:VTIMEZONE
BEGIN:VEVENT
DTSTART;VALUE=DATE:20231118
DTEND;VALUE=DATE:20231119
DTSTAMP:20260421T102930
CREATED:20230308T095316Z
LAST-MODIFIED:20230308T095316Z
UID:8227-1700265600-1700351999@kurikanlakkitehdas.fi
SUMMARY:Retropop
DESCRIPTION:Elektronista suomipoppia Mansesta. \nLiput ennakkoon 13 € ja ovelta 15 €
URL:https://kurikanlakkitehdas.fi/tapahtuma/retropop/
LOCATION:Makasiinin Baari\, Laurintie 28\, Kurikka\, 61300\, Finland
CATEGORIES:Makasiinin Baari
ATTACH;FMTTYPE=image/jpeg:https://kurikanlakkitehdas.fi/wp-content/uploads/2023/03/281329987_10158874907603176_5510036865519366824_n.jpg
END:VEVENT
END:VCALENDAR