BEGIN:VCALENDAR
VERSION:2.0
PRODID:-//Kurikan Lakkitehdas - ECPv6.15.20//NONSGML v1.0//EN
CALSCALE:GREGORIAN
METHOD:PUBLISH
X-ORIGINAL-URL:https://kurikanlakkitehdas.fi
X-WR-CALDESC:Tapahtumat Kurikan Lakkitehdas
REFRESH-INTERVAL;VALUE=DURATION:PT1H
X-Robots-Tag:noindex
X-PUBLISHED-TTL:PT1H
BEGIN:VTIMEZONE
TZID:Europe/Helsinki
BEGIN:DAYLIGHT
TZOFFSETFROM:+0200
TZOFFSETTO:+0300
TZNAME:EEST
DTSTART:20220327T010000
END:DAYLIGHT
BEGIN:STANDARD
TZOFFSETFROM:+0300
TZOFFSETTO:+0200
TZNAME:EET
DTSTART:20221030T010000
END:STANDARD
BEGIN:DAYLIGHT
TZOFFSETFROM:+0200
TZOFFSETTO:+0300
TZNAME:EEST
DTSTART:20230326T010000
END:DAYLIGHT
BEGIN:STANDARD
TZOFFSETFROM:+0300
TZOFFSETTO:+0200
TZNAME:EET
DTSTART:20231029T010000
END:STANDARD
BEGIN:DAYLIGHT
TZOFFSETFROM:+0200
TZOFFSETTO:+0300
TZNAME:EEST
DTSTART:20240331T010000
END:DAYLIGHT
BEGIN:STANDARD
TZOFFSETFROM:+0300
TZOFFSETTO:+0200
TZNAME:EET
DTSTART:20241027T010000
END:STANDARD
END:VTIMEZONE
BEGIN:VEVENT
DTSTART;VALUE=DATE:20231014
DTEND;VALUE=DATE:20231015
DTSTAMP:20260421T115134
CREATED:20230308T092852Z
LAST-MODIFIED:20230308T092852Z
UID:8210-1697241600-1697327999@kurikanlakkitehdas.fi
SUMMARY:Neili
DESCRIPTION:Neili on nouseva pop-artisti joka on yksi tämän hetken kiehtovimmista nimistä suomen indieskenessä.\n Hän julkaisi ensimmäisen singlensä ”Haittaako” joulukuussa 2020. Toinen julkaisu ”Deja Vu” julkaistiin 30.4.2021. Kolmas single ”Ilmapallot” tuli ulos 20.8.2021 ja neljäs single ”Eräpäivä” 4.2.2022.\n Kappaleet ovat menestyneet  suoratoistopalvelu Spotifyssä sekä saaneet radiosoittoa paikallisilla radiokanavilla.\nSuuremman yleisön tietoisuuteen Neili nousi vuoden 2021 lopulla julkaistessaan yhdessä Miikan kanssa Pimeään -kappaleen.\nHuhtikuussa 2022 Neili valittiin YleX viikon  nosteessa-artistiksi YleX:n uuden musiikin ohjelmaan.\nNeili – nimeä kantava debyyttialbumi julkaistiin 29.4.2022.   \nShowtime 23\nLiput ennakkoon 10 € ovelta 12 €
URL:https://kurikanlakkitehdas.fi/tapahtuma/neili/
LOCATION:Makasiinin Baari\, Laurintie 28\, Kurikka\, 61300\, Finland
CATEGORIES:Makasiinin Baari
ATTACH;FMTTYPE=image/webp:https://kurikanlakkitehdas.fi/wp-content/uploads/2023/03/RMJ_1080x1080_Neili.webp
END:VEVENT
END:VCALENDAR