BEGIN:VCALENDAR
VERSION:2.0
PRODID:-//Kurikan Lakkitehdas - ECPv6.15.20//NONSGML v1.0//EN
CALSCALE:GREGORIAN
METHOD:PUBLISH
X-ORIGINAL-URL:https://kurikanlakkitehdas.fi
X-WR-CALDESC:Tapahtumat Kurikan Lakkitehdas
REFRESH-INTERVAL;VALUE=DURATION:PT1H
X-Robots-Tag:noindex
X-PUBLISHED-TTL:PT1H
BEGIN:VTIMEZONE
TZID:Europe/Helsinki
BEGIN:DAYLIGHT
TZOFFSETFROM:+0200
TZOFFSETTO:+0300
TZNAME:EEST
DTSTART:20220327T010000
END:DAYLIGHT
BEGIN:STANDARD
TZOFFSETFROM:+0300
TZOFFSETTO:+0200
TZNAME:EET
DTSTART:20221030T010000
END:STANDARD
BEGIN:DAYLIGHT
TZOFFSETFROM:+0200
TZOFFSETTO:+0300
TZNAME:EEST
DTSTART:20230326T010000
END:DAYLIGHT
BEGIN:STANDARD
TZOFFSETFROM:+0300
TZOFFSETTO:+0200
TZNAME:EET
DTSTART:20231029T010000
END:STANDARD
BEGIN:DAYLIGHT
TZOFFSETFROM:+0200
TZOFFSETTO:+0300
TZNAME:EEST
DTSTART:20240331T010000
END:DAYLIGHT
BEGIN:STANDARD
TZOFFSETFROM:+0300
TZOFFSETTO:+0200
TZNAME:EET
DTSTART:20241027T010000
END:STANDARD
END:VTIMEZONE
BEGIN:VEVENT
DTSTART;VALUE=DATE:20231007
DTEND;VALUE=DATE:20231008
DTSTAMP:20260421T120139
CREATED:20230308T092149Z
LAST-MODIFIED:20230308T092149Z
UID:8206-1696636800-1696723199@kurikanlakkitehdas.fi
SUMMARY:Skädäm
DESCRIPTION:Aktiiviuransa 1984-1987 jälkeen Skädäm on keikkaillut vain satunnaisesti\, mutta on nyt uuden materiaalin vauhdittamana palannut jäädäkseen. Uusina jäseninä mukana ovat entinen Yö-kitaristi Daffy Terävä ja mm. Popedan riveistä tunnettu kosketinsoittaja Jani Kemppinen. Skädämin suurin hitti Katujen kuningatar muistetaan myös Yön ja Irinan versioina ja Frogley löikin Yö-yhtyeessä rumpua yli vuosikymmenen ajan. Lisäksi bändi on julkaissut klassikot Älä lähde pois\, Ikävä\, Mustat Joutsenet. \nShowtime 23\nLiput ennakkoon 23€ ovelta 25 €
URL:https://kurikanlakkitehdas.fi/tapahtuma/skadam/
LOCATION:Makasiinin Baari\, Laurintie 28\, Kurikka\, 61300\, Finland
CATEGORIES:Makasiinin Baari
END:VEVENT
END:VCALENDAR