BEGIN:VCALENDAR
VERSION:2.0
PRODID:-//Kurikan Lakkitehdas - ECPv6.15.20//NONSGML v1.0//EN
CALSCALE:GREGORIAN
METHOD:PUBLISH
X-ORIGINAL-URL:https://kurikanlakkitehdas.fi
X-WR-CALDESC:Tapahtumat Kurikan Lakkitehdas
REFRESH-INTERVAL;VALUE=DURATION:PT1H
X-Robots-Tag:noindex
X-PUBLISHED-TTL:PT1H
BEGIN:VTIMEZONE
TZID:Europe/Helsinki
BEGIN:DAYLIGHT
TZOFFSETFROM:+0200
TZOFFSETTO:+0300
TZNAME:EEST
DTSTART:20220327T010000
END:DAYLIGHT
BEGIN:STANDARD
TZOFFSETFROM:+0300
TZOFFSETTO:+0200
TZNAME:EET
DTSTART:20221030T010000
END:STANDARD
BEGIN:DAYLIGHT
TZOFFSETFROM:+0200
TZOFFSETTO:+0300
TZNAME:EEST
DTSTART:20230326T010000
END:DAYLIGHT
BEGIN:STANDARD
TZOFFSETFROM:+0300
TZOFFSETTO:+0200
TZNAME:EET
DTSTART:20231029T010000
END:STANDARD
BEGIN:DAYLIGHT
TZOFFSETFROM:+0200
TZOFFSETTO:+0300
TZNAME:EEST
DTSTART:20240331T010000
END:DAYLIGHT
BEGIN:STANDARD
TZOFFSETFROM:+0300
TZOFFSETTO:+0200
TZNAME:EET
DTSTART:20241027T010000
END:STANDARD
END:VTIMEZONE
BEGIN:VEVENT
DTSTART;VALUE=DATE:20230930
DTEND;VALUE=DATE:20231001
DTSTAMP:20260421T120159
CREATED:20230308T091522Z
LAST-MODIFIED:20230308T091522Z
UID:8202-1696032000-1696118399@kurikanlakkitehdas.fi
SUMMARY:Kormus
DESCRIPTION:Pitkänlinjan Suomirock-yhtye Kormus \nVuodesta 2013 asti ahkerasti keikkaillut yhtye on niittänyt mainetta ympäri Suomea energisillä ja hyväntuulisilla keikoillaan ja saanut koottua itselleen vahvan fanikunnan. Tämä bändi ei tunnetusti tee keikkojaan hutiloiden vaan joka keikka on kokemus! Lavalla lentää hiki\, soittimet\, rennot välispiikit ja yleisön päälle hyvällä fiiliksellä käyvä musiikki.\nKormus on julkaissut tiiviiseen tahtiin musiikkia ja suosittuja videoita. Erityisesti loppuvuodesta 2016 julkaistu ”Yhden illan prinsessa” keräsi hienosti valtakunnallista radiosoittoa. Lisäksi kappaleet ”Käyk’ sä usein täällä?” ja ”Taivaskin kirkastuu” ovat keränneet paikallisradioiden soittoa. Uusin singlejulkaisu uusitulla kokoonpanolla on ”KUKAAN EI VIE MULTA ROCK ’N’ ROLLII”.\nKormus esittää keikoillaan omaa materiaaliaan. Koko yhtyeen tuotanto löytyy suoratoistopalveluista. \nShowtime 23\nLiput ennakkoon 12 € ovelta 13 €
URL:https://kurikanlakkitehdas.fi/tapahtuma/kormus/
LOCATION:Makasiinin Baari\, Laurintie 28\, Kurikka\, 61300\, Finland
CATEGORIES:Makasiinin Baari
ATTACH;FMTTYPE=image/jpeg:https://kurikanlakkitehdas.fi/wp-content/uploads/2023/03/KormusStudio-46_685x.jpg
END:VEVENT
END:VCALENDAR