BEGIN:VCALENDAR
VERSION:2.0
PRODID:-//Kurikan Lakkitehdas - ECPv6.15.20//NONSGML v1.0//EN
CALSCALE:GREGORIAN
METHOD:PUBLISH
X-WR-CALNAME:Kurikan Lakkitehdas
X-ORIGINAL-URL:https://kurikanlakkitehdas.fi
X-WR-CALDESC:Tapahtumat Kurikan Lakkitehdas
REFRESH-INTERVAL;VALUE=DURATION:PT1H
X-Robots-Tag:noindex
X-PUBLISHED-TTL:PT1H
BEGIN:VTIMEZONE
TZID:Europe/Helsinki
BEGIN:DAYLIGHT
TZOFFSETFROM:+0200
TZOFFSETTO:+0300
TZNAME:EEST
DTSTART:20220327T010000
END:DAYLIGHT
BEGIN:STANDARD
TZOFFSETFROM:+0300
TZOFFSETTO:+0200
TZNAME:EET
DTSTART:20221030T010000
END:STANDARD
BEGIN:DAYLIGHT
TZOFFSETFROM:+0200
TZOFFSETTO:+0300
TZNAME:EEST
DTSTART:20230326T010000
END:DAYLIGHT
BEGIN:STANDARD
TZOFFSETFROM:+0300
TZOFFSETTO:+0200
TZNAME:EET
DTSTART:20231029T010000
END:STANDARD
BEGIN:DAYLIGHT
TZOFFSETFROM:+0200
TZOFFSETTO:+0300
TZNAME:EEST
DTSTART:20240331T010000
END:DAYLIGHT
BEGIN:STANDARD
TZOFFSETFROM:+0300
TZOFFSETTO:+0200
TZNAME:EET
DTSTART:20241027T010000
END:STANDARD
END:VTIMEZONE
BEGIN:VEVENT
DTSTART;VALUE=DATE:20230923
DTEND;VALUE=DATE:20230924
DTSTAMP:20260421T132732
CREATED:20230308T090306Z
LAST-MODIFIED:20230920T082314Z
UID:8198-1695427200-1695513599@kurikanlakkitehdas.fi
SUMMARY:Uniklubi
DESCRIPTION:Uniklubi nousi suuren yleisön tietoisuuteen 2004 hitillään Rakkautta ja piikkilankaa.\nSamana vuonna julkaistiin Uniklubin debyyttialbumi Rakkautta ja Piikkilankaa. Yhtye myi debyyttialbumillaan reilusti platinaa ja pokkasi samana vuonna Emma-pystin parhaana rock-tulokkaana. Kakkosalbumi Kehä julkaistiin 2005\, ja se jatkoi esikoisalbumin viitoittamalla tiellä yltäen niin ikään platinakantaan.\nBändin seitsemäs studioalbumi Ajan piirtämät kasvot ilmestyi syksyllä vuonna 2020\, ja oli Emma-ehdokkaana Vuoden rock-albumi kategoriassa. \nShowtime 23\nLiput ennakkoon 25 € ovelta 27 €
URL:https://kurikanlakkitehdas.fi/tapahtuma/uniklubi/
LOCATION:Makasiinin Baari\, Laurintie 28\, Kurikka\, 61300\, Finland
CATEGORIES:Makasiinin Baari
END:VEVENT
END:VCALENDAR