BEGIN:VCALENDAR
VERSION:2.0
PRODID:-//Kurikan Lakkitehdas - ECPv6.15.20//NONSGML v1.0//EN
CALSCALE:GREGORIAN
METHOD:PUBLISH
X-WR-CALNAME:Kurikan Lakkitehdas
X-ORIGINAL-URL:https://kurikanlakkitehdas.fi
X-WR-CALDESC:Tapahtumat Kurikan Lakkitehdas
REFRESH-INTERVAL;VALUE=DURATION:PT1H
X-Robots-Tag:noindex
X-PUBLISHED-TTL:PT1H
BEGIN:VTIMEZONE
TZID:Europe/Helsinki
BEGIN:DAYLIGHT
TZOFFSETFROM:+0200
TZOFFSETTO:+0300
TZNAME:EEST
DTSTART:20220327T010000
END:DAYLIGHT
BEGIN:STANDARD
TZOFFSETFROM:+0300
TZOFFSETTO:+0200
TZNAME:EET
DTSTART:20221030T010000
END:STANDARD
BEGIN:DAYLIGHT
TZOFFSETFROM:+0200
TZOFFSETTO:+0300
TZNAME:EEST
DTSTART:20230326T010000
END:DAYLIGHT
BEGIN:STANDARD
TZOFFSETFROM:+0300
TZOFFSETTO:+0200
TZNAME:EET
DTSTART:20231029T010000
END:STANDARD
BEGIN:DAYLIGHT
TZOFFSETFROM:+0200
TZOFFSETTO:+0300
TZNAME:EEST
DTSTART:20240331T010000
END:DAYLIGHT
BEGIN:STANDARD
TZOFFSETFROM:+0300
TZOFFSETTO:+0200
TZNAME:EET
DTSTART:20241027T010000
END:STANDARD
END:VTIMEZONE
BEGIN:VEVENT
DTSTART;VALUE=DATE:20230909
DTEND;VALUE=DATE:20230910
DTSTAMP:20260421T132731
CREATED:20230308T084512Z
LAST-MODIFIED:20230308T084512Z
UID:8189-1694217600-1694303999@kurikanlakkitehdas.fi
SUMMARY:Aarne Tenkanen DUO
DESCRIPTION:Aarne Tapani Tenkanen on suomalainen laulaja ja kuvitteellinen hahmo\, jota esittää Kai ”Kaide” Järvinen. Aarne Tenkanen esiteltiin stadin slangia puhuvana helsinkiläisenä raitiovaununkuljettajana\, jonka kiinnostuksen kohteisiin kuuluvat pääasiassa naiset ja alkoholi. Aarne Tenkanen nousi esiin Gösta Sundqvistin radio-ohjelmasta Koe-eläinpuisto. Taustayhtye Tempuntekijät on kiertänyt Tenkasen mukana keikoilla alusta lähtien.  Viimeisin Aarne Tenkanen -albumi Ymmärrät varmaan vuonna 2014.\nMahtava meno\, tiukka etukeno! \nShowtime 23\nLiput ennakkoon 13 € ovelta 15 €
URL:https://kurikanlakkitehdas.fi/tapahtuma/aarne-tenkanen-duo/
LOCATION:Makasiinin Baari\, Laurintie 28\, Kurikka\, 61300\, Finland
CATEGORIES:Makasiinin Baari
END:VEVENT
END:VCALENDAR