BEGIN:VCALENDAR
VERSION:2.0
PRODID:-//Kurikan Lakkitehdas - ECPv6.15.20//NONSGML v1.0//EN
CALSCALE:GREGORIAN
METHOD:PUBLISH
X-ORIGINAL-URL:https://kurikanlakkitehdas.fi
X-WR-CALDESC:Tapahtumat Kurikan Lakkitehdas
REFRESH-INTERVAL;VALUE=DURATION:PT1H
X-Robots-Tag:noindex
X-PUBLISHED-TTL:PT1H
BEGIN:VTIMEZONE
TZID:Europe/Helsinki
BEGIN:DAYLIGHT
TZOFFSETFROM:+0200
TZOFFSETTO:+0300
TZNAME:EEST
DTSTART:20220327T010000
END:DAYLIGHT
BEGIN:STANDARD
TZOFFSETFROM:+0300
TZOFFSETTO:+0200
TZNAME:EET
DTSTART:20221030T010000
END:STANDARD
BEGIN:DAYLIGHT
TZOFFSETFROM:+0200
TZOFFSETTO:+0300
TZNAME:EEST
DTSTART:20230326T010000
END:DAYLIGHT
BEGIN:STANDARD
TZOFFSETFROM:+0300
TZOFFSETTO:+0200
TZNAME:EET
DTSTART:20231029T010000
END:STANDARD
BEGIN:DAYLIGHT
TZOFFSETFROM:+0200
TZOFFSETTO:+0300
TZNAME:EEST
DTSTART:20240331T010000
END:DAYLIGHT
BEGIN:STANDARD
TZOFFSETFROM:+0300
TZOFFSETTO:+0200
TZNAME:EET
DTSTART:20241027T010000
END:STANDARD
END:VTIMEZONE
BEGIN:VEVENT
DTSTART;VALUE=DATE:20230902
DTEND;VALUE=DATE:20230903
DTSTAMP:20260421T132800
CREATED:20230329T081333Z
LAST-MODIFIED:20230329T081443Z
UID:8477-1693612800-1693699199@kurikanlakkitehdas.fi
SUMMARY:Marilii
DESCRIPTION:Marilii tunnetaan ennen muuta kappaleestaan Nautin Elämästä.  Nautin Elämästä onkin aikamoinen teos. Säveltäjä Viktor Drobysh ja Marilii olivat työskennelleet yhdessä jo jonkin aikaa muiden kappaleiden tiimoilta\, kunnes Viktor heitti laulajalle Nautin Elämästä sävellyksen kysyen\, sopisiko tämä laulajan tyyliin. Pitkä keskustelu sanoittaja Pertti Mäenpään kanssa poiki tekstin\, joka kertoo Mariliin elämänasenteesta. Jos kuuntelet biisin tarkemmin\, saatat huomata\, että Nautin elämästä raidoilla soittaa melkoinen orkesteri ja tallennettuna on jos jonkinmoista ihmisen käsistä ja kurkusta lähtöisin olevaa ääntä. \nShowtime 23\nLiput ennakkoon 12€ ovelta 13€
URL:https://kurikanlakkitehdas.fi/tapahtuma/marilii/
LOCATION:Makasiinin Baari\, Laurintie 28\, Kurikka\, 61300\, Finland
CATEGORIES:Makasiinin Baari
ATTACH;FMTTYPE=image/jpeg:https://kurikanlakkitehdas.fi/wp-content/uploads/2023/03/marilii.jpg
END:VEVENT
END:VCALENDAR