BEGIN:VCALENDAR
VERSION:2.0
PRODID:-//Kurikan Lakkitehdas - ECPv6.15.20//NONSGML v1.0//EN
CALSCALE:GREGORIAN
METHOD:PUBLISH
X-WR-CALNAME:Kurikan Lakkitehdas
X-ORIGINAL-URL:https://kurikanlakkitehdas.fi
X-WR-CALDESC:Tapahtumat Kurikan Lakkitehdas
REFRESH-INTERVAL;VALUE=DURATION:PT1H
X-Robots-Tag:noindex
X-PUBLISHED-TTL:PT1H
BEGIN:VTIMEZONE
TZID:Europe/Helsinki
BEGIN:DAYLIGHT
TZOFFSETFROM:+0200
TZOFFSETTO:+0300
TZNAME:EEST
DTSTART:20220327T010000
END:DAYLIGHT
BEGIN:STANDARD
TZOFFSETFROM:+0300
TZOFFSETTO:+0200
TZNAME:EET
DTSTART:20221030T010000
END:STANDARD
BEGIN:DAYLIGHT
TZOFFSETFROM:+0200
TZOFFSETTO:+0300
TZNAME:EEST
DTSTART:20230326T010000
END:DAYLIGHT
BEGIN:STANDARD
TZOFFSETFROM:+0300
TZOFFSETTO:+0200
TZNAME:EET
DTSTART:20231029T010000
END:STANDARD
BEGIN:DAYLIGHT
TZOFFSETFROM:+0200
TZOFFSETTO:+0300
TZNAME:EEST
DTSTART:20240331T010000
END:DAYLIGHT
BEGIN:STANDARD
TZOFFSETFROM:+0300
TZOFFSETTO:+0200
TZNAME:EET
DTSTART:20241027T010000
END:STANDARD
END:VTIMEZONE
BEGIN:VEVENT
DTSTART;TZID=Europe/Helsinki:20230818T180000
DTEND;TZID=Europe/Helsinki:20230820T020000
DTSTAMP:20260421T145117
CREATED:20230320T091206Z
LAST-MODIFIED:20230813T175313Z
UID:8396-1692381600-1692496800@kurikanlakkitehdas.fi
SUMMARY:Rytmiraide 2023
DESCRIPTION:Rytmiraide 2023 ohjelma:\nPERJANTAI\ntelttalava:\nklo 20 Untamon Perttu & Kakkorin Sahurit\nklo 22 Matti ja Teppo\nklo 00 LeeWings \nLAUANTAI\nmakasiini:\nklo 19 Lumberjacks\nklo 21.30 Jussi Syren and The Groundbreakers \ntelttalava:\nklo 20 Meissa Niang & Dream Steam\nklo 22.30 Funky Finns\nklo 00 Dr. Feelgood \nPidätämme oikeuden muutoksiin.  \nTervetuloa Rytmiraide 2023 -festivaaleille\, vieraat tekevät juhlan! \nLipputilauksen jälkeen saat sähköpostiisi kaksi viestiä. Tilausvahvistuksen sekä toisessa sähköpostissa QR-koodilliset liput. QR-koodit tarkistetaan sisään tullessa.
URL:https://kurikanlakkitehdas.fi/tapahtuma/rytmiraide-2023/
LOCATION:Makasiinin Baari\, Laurintie 28\, Kurikka\, 61300\, Finland
CATEGORIES:Makasiinin Baari
ATTACH;FMTTYPE=image/jpeg:https://kurikanlakkitehdas.fi/wp-content/uploads/2023/03/rytmiraide.jpg
END:VEVENT
END:VCALENDAR