BEGIN:VCALENDAR
VERSION:2.0
PRODID:-//Kurikan Lakkitehdas - ECPv6.15.20//NONSGML v1.0//EN
CALSCALE:GREGORIAN
METHOD:PUBLISH
X-WR-CALNAME:Kurikan Lakkitehdas
X-ORIGINAL-URL:https://kurikanlakkitehdas.fi
X-WR-CALDESC:Tapahtumat Kurikan Lakkitehdas
REFRESH-INTERVAL;VALUE=DURATION:PT1H
X-Robots-Tag:noindex
X-PUBLISHED-TTL:PT1H
BEGIN:VTIMEZONE
TZID:Europe/Helsinki
BEGIN:DAYLIGHT
TZOFFSETFROM:+0200
TZOFFSETTO:+0300
TZNAME:EEST
DTSTART:20220327T010000
END:DAYLIGHT
BEGIN:STANDARD
TZOFFSETFROM:+0300
TZOFFSETTO:+0200
TZNAME:EET
DTSTART:20221030T010000
END:STANDARD
BEGIN:DAYLIGHT
TZOFFSETFROM:+0200
TZOFFSETTO:+0300
TZNAME:EEST
DTSTART:20230326T010000
END:DAYLIGHT
BEGIN:STANDARD
TZOFFSETFROM:+0300
TZOFFSETTO:+0200
TZNAME:EET
DTSTART:20231029T010000
END:STANDARD
BEGIN:DAYLIGHT
TZOFFSETFROM:+0200
TZOFFSETTO:+0300
TZNAME:EEST
DTSTART:20240331T010000
END:DAYLIGHT
BEGIN:STANDARD
TZOFFSETFROM:+0300
TZOFFSETTO:+0200
TZNAME:EET
DTSTART:20241027T010000
END:STANDARD
END:VTIMEZONE
BEGIN:VEVENT
DTSTART;VALUE=DATE:20230805
DTEND;VALUE=DATE:20230806
DTSTAMP:20260421T145116
CREATED:20230308T074348Z
LAST-MODIFIED:20230731T055247Z
UID:8181-1691193600-1691279999@kurikanlakkitehdas.fi
SUMMARY:Yksi Totuus PERUTTU
DESCRIPTION:KEIKKA PERUTTU MEISTÄ RIIPPUMATTOMISTA SYISTÄ  \nSuoratoistopalvelu Spotifyn kautta Yli 50 miljoonaa kuuntelukertaa ja Youtubessa yli 11 miljoonaa katselukertaa keränneen Yksi Totuus yhtyeen muodostavat Mäkki ja Dj Takapotku. Kokoonpano luottaa reseptissään kuolemattomilla laineilla varusteltuun arkiseen suomipoppiin jossa ajattomuus on keskipiste ja tähtäin kansan syvissä riveissä. Yksi Totuus -duon tehosoittoa saaneita suosikkeja ovat muun muassa Vielä Kerran\, Don Juan\, Tsiigaa Sun Perää\, Pakettimatka\, Hedelmäpommi sekä alkuvuodesta 2019 menehtyneen mäkilegenda Matti Nykäsen kanssa julkaistu megahitiksi noussut Suomi. \nshowtime 23\nLiput ennakkoon 15 €\, ovelta 16 €
URL:https://kurikanlakkitehdas.fi/tapahtuma/yksi-totuus/
LOCATION:Makasiinin Baari\, Laurintie 28\, Kurikka\, 61300\, Finland
CATEGORIES:Makasiinin Baari
ATTACH;FMTTYPE=image/jpeg:https://kurikanlakkitehdas.fi/wp-content/uploads/2023/03/YksiTotuus_promo-scaled.jpg
END:VEVENT
BEGIN:VEVENT
DTSTART;VALUE=DATE:20230805
DTEND;VALUE=DATE:20230806
DTSTAMP:20260421T145116
CREATED:20230731T054357Z
LAST-MODIFIED:20230731T054357Z
UID:9842-1691193600-1691279999@kurikanlakkitehdas.fi
SUMMARY:Lord Est
DESCRIPTION:Lord Est on iloinen\, hyvänmielen artisti jonka tunnetuimpia kappaleita ovat mm Hellä ori\, Reggaerekka\, Sun vieres on lämmin\, Ralleissa\, Linko jne. Lukuisat hitit ja energinen esiintyminen takaavat varmasti onnistuneen illan.  \nShowtime 23\nLiput 10 €
URL:https://kurikanlakkitehdas.fi/tapahtuma/lord-est-2/
LOCATION:Makasiinin Baari\, Laurintie 28\, Kurikka\, 61300\, Finland
CATEGORIES:Makasiinin Baari
ATTACH;FMTTYPE=image/jpeg:https://kurikanlakkitehdas.fi/wp-content/uploads/2023/07/lordest_v3.jpeg
END:VEVENT
END:VCALENDAR