BEGIN:VCALENDAR
VERSION:2.0
PRODID:-//Kurikan Lakkitehdas - ECPv6.15.20//NONSGML v1.0//EN
CALSCALE:GREGORIAN
METHOD:PUBLISH
X-WR-CALNAME:Kurikan Lakkitehdas
X-ORIGINAL-URL:https://kurikanlakkitehdas.fi
X-WR-CALDESC:Tapahtumat Kurikan Lakkitehdas
REFRESH-INTERVAL;VALUE=DURATION:PT1H
X-Robots-Tag:noindex
X-PUBLISHED-TTL:PT1H
BEGIN:VTIMEZONE
TZID:Europe/Helsinki
BEGIN:DAYLIGHT
TZOFFSETFROM:+0200
TZOFFSETTO:+0300
TZNAME:EEST
DTSTART:20220327T010000
END:DAYLIGHT
BEGIN:STANDARD
TZOFFSETFROM:+0300
TZOFFSETTO:+0200
TZNAME:EET
DTSTART:20221030T010000
END:STANDARD
BEGIN:DAYLIGHT
TZOFFSETFROM:+0200
TZOFFSETTO:+0300
TZNAME:EEST
DTSTART:20230326T010000
END:DAYLIGHT
BEGIN:STANDARD
TZOFFSETFROM:+0300
TZOFFSETTO:+0200
TZNAME:EET
DTSTART:20231029T010000
END:STANDARD
BEGIN:DAYLIGHT
TZOFFSETFROM:+0200
TZOFFSETTO:+0300
TZNAME:EEST
DTSTART:20240331T010000
END:DAYLIGHT
BEGIN:STANDARD
TZOFFSETFROM:+0300
TZOFFSETTO:+0200
TZNAME:EET
DTSTART:20241027T010000
END:STANDARD
END:VTIMEZONE
BEGIN:VEVENT
DTSTART;VALUE=DATE:20230609
DTEND;VALUE=DATE:20230610
DTSTAMP:20260421T174235
CREATED:20230502T091158Z
LAST-MODIFIED:20230502T091231Z
UID:9005-1686268800-1686355199@kurikanlakkitehdas.fi
SUMMARY:SANA ja tanssijat
DESCRIPTION:Modernia poppia ja räppiä yhdistelevä Sana on suorapuheinen asennemimmi\, jonka musiikissa elämän kipukohdat kääntyvät voimavaroiksi. Vuosia lavoja kiertänyt ja X Factorissakin menestynyt artisti uudisti kokoonpanonsa kitaristin ja rumpalin voimin\, sekä konevetoisen shownsa tanssijoilla. Koko jengi on myös mahdollista nähdä samaan aikaan lavalla. Sana esiintyi tanssijoidensa kanssa 50 Centin Suomen kiertueella loppuvuodesta 2022\, ja oli ehdolla Vuoden oululaiseksi jääden tittelistä vain yhdellä äänellä.\nTANSSIJAT:\nSanan konevetoinen show sai tripla-annoksen girlpoweria kahden tanssijan voimin\, joiden koreografiat saavat vaikutteita useista eri tyylilajeista korostaen jokaisen kappaleen sanomaa tuoden niihin syvyyttä ja vauhtia – varsinkin artistin hypätessä mukaan tanssimaan. \nShowtime 24\nLiput 13€
URL:https://kurikanlakkitehdas.fi/tapahtuma/sana-ja-tanssijat/
LOCATION:Makasiinin Baari\, Laurintie 28\, Kurikka\, 61300\, Finland
CATEGORIES:Makasiinin Baari
ATTACH;FMTTYPE=image/jpeg:https://kurikanlakkitehdas.fi/wp-content/uploads/2023/05/Kuva_Tuuli_Nikki-scaled-1.jpg
END:VEVENT
END:VCALENDAR