BEGIN:VCALENDAR
VERSION:2.0
PRODID:-//Kurikan Lakkitehdas - ECPv6.15.20//NONSGML v1.0//EN
CALSCALE:GREGORIAN
METHOD:PUBLISH
X-ORIGINAL-URL:https://kurikanlakkitehdas.fi
X-WR-CALDESC:Tapahtumat Kurikan Lakkitehdas
REFRESH-INTERVAL;VALUE=DURATION:PT1H
X-Robots-Tag:noindex
X-PUBLISHED-TTL:PT1H
BEGIN:VTIMEZONE
TZID:Europe/Helsinki
BEGIN:DAYLIGHT
TZOFFSETFROM:+0200
TZOFFSETTO:+0300
TZNAME:EEST
DTSTART:20220327T010000
END:DAYLIGHT
BEGIN:STANDARD
TZOFFSETFROM:+0300
TZOFFSETTO:+0200
TZNAME:EET
DTSTART:20221030T010000
END:STANDARD
BEGIN:DAYLIGHT
TZOFFSETFROM:+0200
TZOFFSETTO:+0300
TZNAME:EEST
DTSTART:20230326T010000
END:DAYLIGHT
BEGIN:STANDARD
TZOFFSETFROM:+0300
TZOFFSETTO:+0200
TZNAME:EET
DTSTART:20231029T010000
END:STANDARD
BEGIN:DAYLIGHT
TZOFFSETFROM:+0200
TZOFFSETTO:+0300
TZNAME:EEST
DTSTART:20240331T010000
END:DAYLIGHT
BEGIN:STANDARD
TZOFFSETFROM:+0300
TZOFFSETTO:+0200
TZNAME:EET
DTSTART:20241027T010000
END:STANDARD
END:VTIMEZONE
BEGIN:VEVENT
DTSTART;VALUE=DATE:20230603
DTEND;VALUE=DATE:20230604
DTSTAMP:20260421T175053
CREATED:20221102T111850Z
LAST-MODIFIED:20230601T170711Z
UID:5747-1685750400-1685836799@kurikanlakkitehdas.fi
SUMMARY:Brädi
DESCRIPTION:Brädi on yli 20 vuotta kotimaisen räpin kentällä vaikuttanut\, monissa liemissä keitetty konkari\, jolle mikään esiintymislava Suomessa ei ole vieras. Miehen matka 5th Elementin\, Herrasmiesliigan ja Cheekin keikkaryhmän kautta jo yli vuosikymmenen jatkuneelle\, menestyksekkäälle soolouralle hakee vertaistaan\, ja sen tuoma kokemus takaa\, että keikka\, kuin keikka hoituu rautaisella viihdyttäjän ammattitaidolla.\nBrädi on kuulunut jo pitkään maamme eturivin rap/hiphop -artisteihin\, ja miehen julkaisut napsahtelevat lähes poikkeuksetta jalometallikantaan. Tuplaplatina- hitti ja Suomirap-ikivihreä\, “Lämpöö”\, on saanut platinaista seuraa “Hätähuuto”\, “Kombo”\, “Saturnus” ja ”Nelostie” -singleistä ja ”Happee”\, ”Kotona”\, “Uimaan”\, “Joutsenet” ja ”Keväät” -singlet ovat striimanneet kultaa. Brädi on julkaissut kolme sooloalbumia\, “Repullinen Hiittiä” (2010)\, “Näis Kengis” (2012)\, ja “III” (2014)\, joista kaksi viimeisintä ovat myyneet kultaa. Hänen kappaleitaan on kuunneltu pelkästään Spotifyssa yli 60 miljoonaa kertaa. Tällä hetkellä työn alla on kauan odotettu\, neljäs sooloalbumi.\nYstävällisenä ja sosiaalisena kansanmiehenä tunnettu Brädi on parhaimmillaan livenä\, ja rakastaa mennä sinne\, missä ne oikeat fanit ovat – tavallisen kansan keskellä. Miehen motto kuuluukin: “Vaikutuksen voit tehä kaukaakin – mut vaikuttaakses on mentävä ihmistä lähelle.” \nShowtime 24\nLiput 17 €
URL:https://kurikanlakkitehdas.fi/tapahtuma/bradi/
LOCATION:Makasiinin Baari\, Laurintie 28\, Kurikka\, 61300\, Finland
CATEGORIES:Makasiinin Baari
ATTACH;FMTTYPE=image/jpeg:https://kurikanlakkitehdas.fi/wp-content/uploads/2022/11/ab6761610000e5ebbd1bc8f24fc36ac0b58a7a5f.jpg
END:VEVENT
END:VCALENDAR