BEGIN:VCALENDAR
VERSION:2.0
PRODID:-//Kurikan Lakkitehdas - ECPv6.15.20//NONSGML v1.0//EN
CALSCALE:GREGORIAN
METHOD:PUBLISH
X-WR-CALNAME:Kurikan Lakkitehdas
X-ORIGINAL-URL:https://kurikanlakkitehdas.fi
X-WR-CALDESC:Tapahtumat Kurikan Lakkitehdas
REFRESH-INTERVAL;VALUE=DURATION:PT1H
X-Robots-Tag:noindex
X-PUBLISHED-TTL:PT1H
BEGIN:VTIMEZONE
TZID:Europe/Helsinki
BEGIN:DAYLIGHT
TZOFFSETFROM:+0200
TZOFFSETTO:+0300
TZNAME:EEST
DTSTART:20220327T010000
END:DAYLIGHT
BEGIN:STANDARD
TZOFFSETFROM:+0300
TZOFFSETTO:+0200
TZNAME:EET
DTSTART:20221030T010000
END:STANDARD
BEGIN:DAYLIGHT
TZOFFSETFROM:+0200
TZOFFSETTO:+0300
TZNAME:EEST
DTSTART:20230326T010000
END:DAYLIGHT
BEGIN:STANDARD
TZOFFSETFROM:+0300
TZOFFSETTO:+0200
TZNAME:EET
DTSTART:20231029T010000
END:STANDARD
BEGIN:DAYLIGHT
TZOFFSETFROM:+0200
TZOFFSETTO:+0300
TZNAME:EEST
DTSTART:20240331T010000
END:DAYLIGHT
BEGIN:STANDARD
TZOFFSETFROM:+0300
TZOFFSETTO:+0200
TZNAME:EET
DTSTART:20241027T010000
END:STANDARD
END:VTIMEZONE
BEGIN:VEVENT
DTSTART;VALUE=DATE:20230415
DTEND;VALUE=DATE:20230416
DTSTAMP:20260421T203405
CREATED:20221220T095614Z
LAST-MODIFIED:20221220T095715Z
UID:6745-1681516800-1681603199@kurikanlakkitehdas.fi
SUMMARY:Jenni ja Juho
DESCRIPTION:Jenni ja Juho -yhtye syntyi vuonna 2018 Helsingissä yhdessä tuottaja Aleksi Haukkalan kanssa. \n– Soitamme tunteikasta iskelmäpoppia pilke silmäkulmassa. Kerromme aitoja tarinoita elämästä\, joihin ihmisten on helppo samaistua iästä tai sukupuolesta riippumatta.\nEnerginen lavashow\, iskevät tekstit ja tarttuvat melodiat takaavat sen\, ettei kukaan jää kylmäksi meidän keikoilla. \nAikomuksemme on valloittaa Suomen keikkalavat ja soittolistat tulevien vuosien aikana! \nJennin ja Juhon debyyttisingle ”Ujo poika” julkaistiin alkukesästä 2021 ja on striimannut mm. Spotifyissa jo kultalevyyn oikeuttavan yli 2 miljoonaa kertaa. \nShowtime 23\nLiput 15 €
URL:https://kurikanlakkitehdas.fi/tapahtuma/jenni-ja-juho/
LOCATION:Makasiinin Baari\, Laurintie 28\, Kurikka\, 61300\, Finland
CATEGORIES:Makasiinin Baari
ATTACH;FMTTYPE=image/jpeg:https://kurikanlakkitehdas.fi/wp-content/uploads/2022/12/image00006-1536x2048-1.jpeg
END:VEVENT
END:VCALENDAR