BEGIN:VCALENDAR
VERSION:2.0
PRODID:-//Kurikan Lakkitehdas - ECPv6.15.20//NONSGML v1.0//EN
CALSCALE:GREGORIAN
METHOD:PUBLISH
X-ORIGINAL-URL:https://kurikanlakkitehdas.fi
X-WR-CALDESC:Tapahtumat Kurikan Lakkitehdas
REFRESH-INTERVAL;VALUE=DURATION:PT1H
X-Robots-Tag:noindex
X-PUBLISHED-TTL:PT1H
BEGIN:VTIMEZONE
TZID:Europe/Helsinki
BEGIN:DAYLIGHT
TZOFFSETFROM:+0200
TZOFFSETTO:+0300
TZNAME:EEST
DTSTART:20220327T010000
END:DAYLIGHT
BEGIN:STANDARD
TZOFFSETFROM:+0300
TZOFFSETTO:+0200
TZNAME:EET
DTSTART:20221030T010000
END:STANDARD
BEGIN:DAYLIGHT
TZOFFSETFROM:+0200
TZOFFSETTO:+0300
TZNAME:EEST
DTSTART:20230326T010000
END:DAYLIGHT
BEGIN:STANDARD
TZOFFSETFROM:+0300
TZOFFSETTO:+0200
TZNAME:EET
DTSTART:20231029T010000
END:STANDARD
BEGIN:DAYLIGHT
TZOFFSETFROM:+0200
TZOFFSETTO:+0300
TZNAME:EEST
DTSTART:20240331T010000
END:DAYLIGHT
BEGIN:STANDARD
TZOFFSETFROM:+0300
TZOFFSETTO:+0200
TZNAME:EET
DTSTART:20241027T010000
END:STANDARD
END:VTIMEZONE
BEGIN:VEVENT
DTSTART;VALUE=DATE:20230401
DTEND;VALUE=DATE:20230402
DTSTAMP:20260421T203416
CREATED:20230322T191803Z
LAST-MODIFIED:20230322T191950Z
UID:8418-1680307200-1680393599@kurikanlakkitehdas.fi
SUMMARY:Lakkitehtaan olut-tasting 🍻
DESCRIPTION:Jo perinteeksi muodostunut Lakkitehtaan olut tasting.\n🍻\nLauantaina 1.4.2023 klo 18-20 Lakkitehtaan juhlasalissa\, rakennuksen kolmannessa kerroksessa.\n🍻\nTastingiin sisältyy neljän ruokalajin menu oluineen.\n🍻\nPanttilassa Panija on paikalla jutustelua ja olut kerrontaa silmällä pitäen. Kysy\, vastaus voi olla ihan mitä vain ❤ \nMenu\n🍺\nKulo Lager\, itse valmistettua täyslihanautamakkaraa kyytöstä\, leipurin perunaa\, dijon-kermaa\n🍺\nKulo Pisooshooffen\, itämaista kanaa\n🍺\nKulo Synninsumu\, ylikypsää porsaankylkeä mallas-bbq-kastikkeessa\n🍺\nKulo Rompalesnisu\, omena-valkosuklaa Mille feuille eli tuhatlehtinen\n🍺\nHinta 65 € \nLisätietoja: juha@kurikanlakkitehdas.fi tai 050 587 4541.\nKerro ”tilauksen kommentit”-kentässä mikäli haluat toiseen pöytäseurueeseen.\nVarausta tehdessäsi otathan huomioon\, että Lakkitehdas ei ole esteetön ja juhlasalimme sijaitsee kolmannessa kerroksessa. Valitettavasti meillä ei ole hissiä.
URL:https://kurikanlakkitehdas.fi/tapahtuma/lakkitehtaan-olut-tasting-%f0%9f%8d%bb/
LOCATION:Kurikan Lakkitehdas\, Koivistonkyläntie 74\, Panttila\, 61310
CATEGORIES:Kurikan lakkitehdas
ATTACH;FMTTYPE=image/jpeg:https://kurikanlakkitehdas.fi/wp-content/uploads/2023/03/tastingkuva.jpg
END:VEVENT
END:VCALENDAR