BEGIN:VCALENDAR
VERSION:2.0
PRODID:-//Kurikan Lakkitehdas - ECPv6.15.20//NONSGML v1.0//EN
CALSCALE:GREGORIAN
METHOD:PUBLISH
X-WR-CALNAME:Kurikan Lakkitehdas
X-ORIGINAL-URL:https://kurikanlakkitehdas.fi
X-WR-CALDESC:Tapahtumat Kurikan Lakkitehdas
REFRESH-INTERVAL;VALUE=DURATION:PT1H
X-Robots-Tag:noindex
X-PUBLISHED-TTL:PT1H
BEGIN:VTIMEZONE
TZID:Europe/Helsinki
BEGIN:DAYLIGHT
TZOFFSETFROM:+0200
TZOFFSETTO:+0300
TZNAME:EEST
DTSTART:20220327T010000
END:DAYLIGHT
BEGIN:STANDARD
TZOFFSETFROM:+0300
TZOFFSETTO:+0200
TZNAME:EET
DTSTART:20221030T010000
END:STANDARD
BEGIN:DAYLIGHT
TZOFFSETFROM:+0200
TZOFFSETTO:+0300
TZNAME:EEST
DTSTART:20230326T010000
END:DAYLIGHT
BEGIN:STANDARD
TZOFFSETFROM:+0300
TZOFFSETTO:+0200
TZNAME:EET
DTSTART:20231029T010000
END:STANDARD
BEGIN:DAYLIGHT
TZOFFSETFROM:+0200
TZOFFSETTO:+0300
TZNAME:EEST
DTSTART:20240331T010000
END:DAYLIGHT
BEGIN:STANDARD
TZOFFSETFROM:+0300
TZOFFSETTO:+0200
TZNAME:EET
DTSTART:20241027T010000
END:STANDARD
END:VTIMEZONE
BEGIN:VEVENT
DTSTART;VALUE=DATE:20230324
DTEND;VALUE=DATE:20230325
DTSTAMP:20260421T215555
CREATED:20230131T090503Z
LAST-MODIFIED:20230131T090842Z
UID:7201-1679616000-1679702399@kurikanlakkitehdas.fi
SUMMARY:NS.BLUES
DESCRIPTION:Ns.Blues on etelä-pohjalainen (Jalasjärvi / Seinäjoki ) bluesbändi\, joka on perustettu alkujaan vuonna1999 ja on siis saavuttanut eri kokoonpanoilla jo kunnioitettavan 23 vuoden iän ja kuten viini paranee vanhetessaan niin toivottavasti niin käy myös meille. \nBändin musiikki imee vaikutteita perinteisestä bluesista lievällä rock-vivahteella ryyditettynä. Ohjelmisto sisältää sekä covereita että myös bändin omaa tuotantoa jota on syntynyt kahden omakustannelevyn (Play my blues ja Cold Fire) verran. \nMikko Sillanterä\, kitara\, laulu (Jalasjärvi)  Pentti Pyymäki\, basso (Seinäjoki) Jorma Koistinen\, urut (Jalasjärvi) Juho Tenkula\, harppu (Jalasjärvi) Eero Pitkämäki\, rummut (Jalasjärvi) \nShowtime klo 22\nLiput 10€
URL:https://kurikanlakkitehdas.fi/tapahtuma/ns-blues/
LOCATION:Makasiinin Baari\, Laurintie 28\, Kurikka\, 61300\, Finland
CATEGORIES:Makasiinin Baari
ATTACH;FMTTYPE=image/jpeg:https://kurikanlakkitehdas.fi/wp-content/uploads/2023/01/Screenshot_20230119-121800_Samsung-Internet.jpg
END:VEVENT
END:VCALENDAR