BEGIN:VCALENDAR
VERSION:2.0
PRODID:-//Kurikan Lakkitehdas - ECPv6.15.20//NONSGML v1.0//EN
CALSCALE:GREGORIAN
METHOD:PUBLISH
X-WR-CALNAME:Kurikan Lakkitehdas
X-ORIGINAL-URL:https://kurikanlakkitehdas.fi
X-WR-CALDESC:Tapahtumat Kurikan Lakkitehdas
REFRESH-INTERVAL;VALUE=DURATION:PT1H
X-Robots-Tag:noindex
X-PUBLISHED-TTL:PT1H
BEGIN:VTIMEZONE
TZID:Europe/Helsinki
BEGIN:DAYLIGHT
TZOFFSETFROM:+0200
TZOFFSETTO:+0300
TZNAME:EEST
DTSTART:20220327T010000
END:DAYLIGHT
BEGIN:STANDARD
TZOFFSETFROM:+0300
TZOFFSETTO:+0200
TZNAME:EET
DTSTART:20221030T010000
END:STANDARD
BEGIN:DAYLIGHT
TZOFFSETFROM:+0200
TZOFFSETTO:+0300
TZNAME:EEST
DTSTART:20230326T010000
END:DAYLIGHT
BEGIN:STANDARD
TZOFFSETFROM:+0300
TZOFFSETTO:+0200
TZNAME:EET
DTSTART:20231029T010000
END:STANDARD
BEGIN:DAYLIGHT
TZOFFSETFROM:+0200
TZOFFSETTO:+0300
TZNAME:EEST
DTSTART:20240331T010000
END:DAYLIGHT
BEGIN:STANDARD
TZOFFSETFROM:+0300
TZOFFSETTO:+0200
TZNAME:EET
DTSTART:20241027T010000
END:STANDARD
END:VTIMEZONE
BEGIN:VEVENT
DTSTART;VALUE=DATE:20230317
DTEND;VALUE=DATE:20230318
DTSTAMP:20260421T215519
CREATED:20230222T082438Z
LAST-MODIFIED:20230222T082807Z
UID:7819-1679011200-1679097599@kurikanlakkitehdas.fi
SUMMARY:Everture
DESCRIPTION:Everture on Kokkolasta kotoisin oleva\, modernia melodista metallia soittava yhtye\, joka haluaa sanoituksillaan saada yleisön miettimään itseään ja elämää. Bändi on saanut alkunsa jäsenten halusta saada tehtyä helvetin hyvää musaa ja jättää sillä jälki maailmaan. \nEnsimmäinen single ”Benighted” julkaistiin elokuussa 2018 ja siitä lähtien singlet ovat päässeet useille Spotifyn kuratoimille listoille (Metallia Suomesta\, Heviä Treeneihin\, New Core ja New Blood). The River Flows-sinkun julkaisullaan bändi pääsi myös New Blood-soittolistan kanteen. Bändin 3. single ”Long Way Down” oli julkaisukuukautensa nopeiten striimimääriltään kasvanut metallibiisi Suomessa. \nViimeisin single ”Closure” on soinut YleX:llä ja Radio Cityllä sekä viimeiset 6 kuukautta Radio SuomiRockin Tuoreen Suomirockin listalla. \nDebyyttialbumin ”Emerge” julkaisi Inverse Records. Levy oli koko Suomen listalla sijalla 31. ja fyysisten myytyjen listalla sijalla 6. Levystä on antaneet hyvät arvostelut sekä Inferno\, Imperiumi ja useat ulkomaiset metallialan julkaisut. Biisien striimimäärä on jo rikkonut 1\,5 miljoonan rajan. \nBändi tähtää kansainvälisille lavoille tavoitteellisesti ja on mukana Music Finlandin Vientiartistijalostamossa. Bändi on keikkaillut mm. Nummirockissa. \nEverturen uusin single ”Evil Eyes” julkaistiin 10.2.2023. Videosta kuvattiin myös näyttävä musiikkivideo. Yhtyeen kakkosalbumi julkaistaan alkuvuodesta 2024. \nLiput ennakkoon 12 €\novelta 13 €
URL:https://kurikanlakkitehdas.fi/tapahtuma/everture/
LOCATION:Makasiinin Baari\, Laurintie 28\, Kurikka\, 61300\, Finland
CATEGORIES:Makasiinin Baari
ATTACH;FMTTYPE=image/jpeg:https://kurikanlakkitehdas.fi/wp-content/uploads/2023/02/Everture_Promo_2023_pysty-1.jpg
END:VEVENT
END:VCALENDAR