BEGIN:VCALENDAR
VERSION:2.0
PRODID:-//Kurikan Lakkitehdas - ECPv6.15.20//NONSGML v1.0//EN
CALSCALE:GREGORIAN
METHOD:PUBLISH
X-ORIGINAL-URL:https://kurikanlakkitehdas.fi
X-WR-CALDESC:Tapahtumat Kurikan Lakkitehdas
REFRESH-INTERVAL;VALUE=DURATION:PT1H
X-Robots-Tag:noindex
X-PUBLISHED-TTL:PT1H
BEGIN:VTIMEZONE
TZID:Europe/Helsinki
BEGIN:DAYLIGHT
TZOFFSETFROM:+0200
TZOFFSETTO:+0300
TZNAME:EEST
DTSTART:20220327T010000
END:DAYLIGHT
BEGIN:STANDARD
TZOFFSETFROM:+0300
TZOFFSETTO:+0200
TZNAME:EET
DTSTART:20221030T010000
END:STANDARD
BEGIN:DAYLIGHT
TZOFFSETFROM:+0200
TZOFFSETTO:+0300
TZNAME:EEST
DTSTART:20230326T010000
END:DAYLIGHT
BEGIN:STANDARD
TZOFFSETFROM:+0300
TZOFFSETTO:+0200
TZNAME:EET
DTSTART:20231029T010000
END:STANDARD
BEGIN:DAYLIGHT
TZOFFSETFROM:+0200
TZOFFSETTO:+0300
TZNAME:EEST
DTSTART:20240331T010000
END:DAYLIGHT
BEGIN:STANDARD
TZOFFSETFROM:+0300
TZOFFSETTO:+0200
TZNAME:EET
DTSTART:20241027T010000
END:STANDARD
END:VTIMEZONE
BEGIN:VEVENT
DTSTART;VALUE=DATE:20230304
DTEND;VALUE=DATE:20230305
DTSTAMP:20260421T215722
CREATED:20221127T150243Z
LAST-MODIFIED:20230304T163350Z
UID:6298-1677888000-1677974399@kurikanlakkitehdas.fi
SUMMARY:DJ Oku Luukkainen
DESCRIPTION:DJ Oku Luukkainen on Suomen suosituin ysäri-DJ ja hänet tunnetaan artistiuransa lisäksi pitkästä taipaleestaan radiojuontajana. Okun suurimpia hittejä ovat tuplaplatinaa striimannut – Hesaäijän\, Erika Vikmanin ja Dannyn kanssa esitetty – 7300 päivää (2019) sekä platinaa striimannut Ysäriboi (feat. Pasi ja Anssi & Portion Boys) (2018). Muita tunnettuja biisejä on Mentävä on\, Vedetään yli sekä Haddaway. Reippaasti yli 30 miljoonan striimiä kappaleillaan kerännyt DJ toimii parhaillaan 90- ja 2000-luvun hitteihin keskittyvän HitMix-radiokanavan juontajana. Okun energisessä keikkasetissä kuullaan omien biisien lisäksi myös hänen radio-ohjelmissaan paljon soitettua ysäriä sekä millennium lekoja. \nShowtime 23\nLiput 26 €
URL:https://kurikanlakkitehdas.fi/tapahtuma/dj-oku-luukkainen/
LOCATION:Makasiinin Baari\, Laurintie 28\, Kurikka\, 61300\, Finland
CATEGORIES:Makasiinin Baari
END:VEVENT
BEGIN:VEVENT
DTSTART;VALUE=DATE:20230304
DTEND;VALUE=DATE:20230305
DTSTAMP:20260421T215722
CREATED:20230103T142011Z
LAST-MODIFIED:20230103T142321Z
UID:7009-1677888000-1677974399@kurikanlakkitehdas.fi
SUMMARY:Oku Luukkainen - Tex Mex - etkot
DESCRIPTION:Tule viettämään Wanhalle Asemalle rentoa Tex Mex -iltaa ennen Oku Luukkaisen järisyttävää showta Makasiinilla. Liput Makasiinille myynnissä erikseen.  \nMenu:  \nnachoja ja salsaa\n*\ntortilla\njauhelihatäyte\nkanatäyte\nsalaatti\nkurkku\nquacamole\nhapankerma\nsweetchili maissi\nmarinoitua punasipulia\npaahdetut oliivit\npaistetut kasvikset\nvalkosipulimajoneesi\n*\nlime pannacotta \nHinta 29 €
URL:https://kurikanlakkitehdas.fi/tapahtuma/oku-luukkainen-tex-mex-etkot/
LOCATION:Wanha Asema\, Laurintie 28\, Kurikka\, 61300\, Suomi
CATEGORIES:Kurikan Wanha-asema
ATTACH;FMTTYPE=image/png:https://kurikanlakkitehdas.fi/wp-content/uploads/2023/01/TEXMEX.png
END:VEVENT
END:VCALENDAR