BEGIN:VCALENDAR
VERSION:2.0
PRODID:-//Kurikan Lakkitehdas - ECPv6.15.20//NONSGML v1.0//EN
CALSCALE:GREGORIAN
METHOD:PUBLISH
X-ORIGINAL-URL:https://kurikanlakkitehdas.fi
X-WR-CALDESC:Tapahtumat Kurikan Lakkitehdas
REFRESH-INTERVAL;VALUE=DURATION:PT1H
X-Robots-Tag:noindex
X-PUBLISHED-TTL:PT1H
BEGIN:VTIMEZONE
TZID:Europe/Helsinki
BEGIN:DAYLIGHT
TZOFFSETFROM:+0200
TZOFFSETTO:+0300
TZNAME:EEST
DTSTART:20220327T010000
END:DAYLIGHT
BEGIN:STANDARD
TZOFFSETFROM:+0300
TZOFFSETTO:+0200
TZNAME:EET
DTSTART:20221030T010000
END:STANDARD
BEGIN:DAYLIGHT
TZOFFSETFROM:+0200
TZOFFSETTO:+0300
TZNAME:EEST
DTSTART:20230326T010000
END:DAYLIGHT
BEGIN:STANDARD
TZOFFSETFROM:+0300
TZOFFSETTO:+0200
TZNAME:EET
DTSTART:20231029T010000
END:STANDARD
BEGIN:DAYLIGHT
TZOFFSETFROM:+0200
TZOFFSETTO:+0300
TZNAME:EEST
DTSTART:20240331T010000
END:DAYLIGHT
BEGIN:STANDARD
TZOFFSETFROM:+0300
TZOFFSETTO:+0200
TZNAME:EET
DTSTART:20241027T010000
END:STANDARD
END:VTIMEZONE
BEGIN:VEVENT
DTSTART;VALUE=DATE:20230214
DTEND;VALUE=DATE:20230215
DTSTAMP:20260421T233341
CREATED:20230103T132309Z
LAST-MODIFIED:20230103T142517Z
UID:7000-1676332800-1676419199@kurikanlakkitehdas.fi
SUMMARY:Ystävänpäivä päivällinen Wanhalla Asemalla
DESCRIPTION:Anna hetki aikaa arjen keskellä rakkaalle tai ystävälle Wanhan Aseman Ystävänpäivä päivällisellä tiistaina 14.1 klo 16-20:  \nalkujuoma  \nlempeän tulinen bataattikeitto\nfocaccio aseman yrttilevitteellä  \nylikypsää naudan rintaa ja punaviinikastiketta\nperunagratiini\nuunipunajuurta ja vuohenjuustoa  \ntiramisu\nkahvi\, tee \nHinta kahdelle henkilölle 60 €\nHinta yhdelle henkilölle 32 €
URL:https://kurikanlakkitehdas.fi/tapahtuma/ystavanpaiva-paivallinen-wanhalla-asemalla/
LOCATION:Wanha Asema\, Laurintie 28\, Kurikka\, 61300\, Suomi
CATEGORIES:Kurikan Wanha-asema
ATTACH;FMTTYPE=image/jpeg:https://kurikanlakkitehdas.fi/wp-content/uploads/2023/01/IMG-20230103-WA00061.jpg
END:VEVENT
END:VCALENDAR