BEGIN:VCALENDAR
VERSION:2.0
PRODID:-//Kurikan Lakkitehdas - ECPv6.15.20//NONSGML v1.0//EN
CALSCALE:GREGORIAN
METHOD:PUBLISH
X-WR-CALNAME:Kurikan Lakkitehdas
X-ORIGINAL-URL:https://kurikanlakkitehdas.fi
X-WR-CALDESC:Tapahtumat Kurikan Lakkitehdas
REFRESH-INTERVAL;VALUE=DURATION:PT1H
X-Robots-Tag:noindex
X-PUBLISHED-TTL:PT1H
BEGIN:VTIMEZONE
TZID:Europe/Helsinki
BEGIN:DAYLIGHT
TZOFFSETFROM:+0200
TZOFFSETTO:+0300
TZNAME:EEST
DTSTART:20210328T010000
END:DAYLIGHT
BEGIN:STANDARD
TZOFFSETFROM:+0300
TZOFFSETTO:+0200
TZNAME:EET
DTSTART:20211031T010000
END:STANDARD
BEGIN:DAYLIGHT
TZOFFSETFROM:+0200
TZOFFSETTO:+0300
TZNAME:EEST
DTSTART:20220327T010000
END:DAYLIGHT
BEGIN:STANDARD
TZOFFSETFROM:+0300
TZOFFSETTO:+0200
TZNAME:EET
DTSTART:20221030T010000
END:STANDARD
BEGIN:DAYLIGHT
TZOFFSETFROM:+0200
TZOFFSETTO:+0300
TZNAME:EEST
DTSTART:20230326T010000
END:DAYLIGHT
BEGIN:STANDARD
TZOFFSETFROM:+0300
TZOFFSETTO:+0200
TZNAME:EET
DTSTART:20231029T010000
END:STANDARD
END:VTIMEZONE
BEGIN:VEVENT
DTSTART;VALUE=DATE:20221225
DTEND;VALUE=DATE:20221226
DTSTAMP:20260422T020827
CREATED:20220919T185255Z
LAST-MODIFIED:20221225T110209Z
UID:4871-1671926400-1672012799@kurikanlakkitehdas.fi
SUMMARY:Bilebändi Goldfinger
DESCRIPTION:GoldfFinger on raikas bilebändi ja sähäkkä bilevaihteen nostattaja! Bändin hilpeät ammattimuusikot saa takapenkkiläisetkin hytkymään! Ohjelmisto on kotimaista ja ulkomaista poppia\, rockia ja discoa\, johon on valittu parhaat listahitit ja legendat 80-luvulta nykypäivään. Homma hoituu yksinkertaisesti niin hyvästä fiiliksestä ja musiikista\, että porukka bailaa ja laulaa mukana! Kotimaista musiikkia mm. Ellinooraa\, Haloo Helsinkiä\, Antti Tuiskua\, Kaija Koota\, Eppuja\, Kirkaa\, Leevareita\, Laura Voutilaista\, Tuure Kilpeläistä\, Roope Salmista\, Cheekiä\, Sannia… Ulkolaista musiikkia mm. Eurorythmics\, Modern Talking\, Pointer Sisters\, Sandra\, Abba\, Bon Jovi\, Uriah Heep\, Steppenwolf\, Chris Cornell… Showtime 24
URL:https://kurikanlakkitehdas.fi/tapahtuma/bilebandi-goldfinger/
LOCATION:Makasiinin Baari\, Laurintie 28\, Kurikka\, 61300\, Finland
CATEGORIES:Makasiinin Baari
ATTACH;FMTTYPE=image/jpeg:https://kurikanlakkitehdas.fi/wp-content/uploads/2022/09/295913035_3177232882605753_2368400253748900645_n.jpg
END:VEVENT
END:VCALENDAR