BEGIN:VCALENDAR
VERSION:2.0
PRODID:-//Kurikan Lakkitehdas - ECPv6.15.20//NONSGML v1.0//EN
CALSCALE:GREGORIAN
METHOD:PUBLISH
X-WR-CALNAME:Kurikan Lakkitehdas
X-ORIGINAL-URL:https://kurikanlakkitehdas.fi
X-WR-CALDESC:Tapahtumat Kurikan Lakkitehdas
REFRESH-INTERVAL;VALUE=DURATION:PT1H
X-Robots-Tag:noindex
X-PUBLISHED-TTL:PT1H
BEGIN:VTIMEZONE
TZID:Europe/Helsinki
BEGIN:DAYLIGHT
TZOFFSETFROM:+0200
TZOFFSETTO:+0300
TZNAME:EEST
DTSTART:20210328T010000
END:DAYLIGHT
BEGIN:STANDARD
TZOFFSETFROM:+0300
TZOFFSETTO:+0200
TZNAME:EET
DTSTART:20211031T010000
END:STANDARD
BEGIN:DAYLIGHT
TZOFFSETFROM:+0200
TZOFFSETTO:+0300
TZNAME:EEST
DTSTART:20220327T010000
END:DAYLIGHT
BEGIN:STANDARD
TZOFFSETFROM:+0300
TZOFFSETTO:+0200
TZNAME:EET
DTSTART:20221030T010000
END:STANDARD
BEGIN:DAYLIGHT
TZOFFSETFROM:+0200
TZOFFSETTO:+0300
TZNAME:EEST
DTSTART:20230326T010000
END:DAYLIGHT
BEGIN:STANDARD
TZOFFSETFROM:+0300
TZOFFSETTO:+0200
TZNAME:EET
DTSTART:20231029T010000
END:STANDARD
END:VTIMEZONE
BEGIN:VEVENT
DTSTART;VALUE=DATE:20221216
DTEND;VALUE=DATE:20221217
DTSTAMP:20260422T020827
CREATED:20221011T183402Z
LAST-MODIFIED:20221127T141721Z
UID:5285-1671148800-1671235199@kurikanlakkitehdas.fi
SUMMARY:Baddingtones Goes Makasiini
DESCRIPTION:BaddingTones Goes Makasiinin Baari\n– parhaat menobiisit vuosien varrelta\nPerjantai 16.12.2022\nShowtime klo 21:00 – 23:00\nWanhan Aseman joulupöytä katettuna koko päivän klo 20:00 saakka!\nBiografia: BaddingTones syntyi vuonna 2019 muutaman kaverin rakkaudesta Rauli ”Badding” Somerjoen musiikkia kohtaan. BaddingTonesin tarkoituksena on viedä eteenpäin soittamisen ja laulamisen ilosanomaa eri genreissä ja tyylilajeissa. Samalla tarjotaan nuorille mahdollisuuksia päästä kehittymään musiikin ja esiintymisen saralla yhdessä ammattimuusikoiden ja kokeneempien harrastajien kanssa.
URL:https://kurikanlakkitehdas.fi/tapahtuma/baddingtones-goes-makasiini/
LOCATION:Makasiinin Baari\, Laurintie 28\, Kurikka\, 61300\, Finland
CATEGORIES:Makasiinin Baari
END:VEVENT
END:VCALENDAR