BEGIN:VCALENDAR
VERSION:2.0
PRODID:-//Kurikan Lakkitehdas - ECPv6.15.20//NONSGML v1.0//EN
CALSCALE:GREGORIAN
METHOD:PUBLISH
X-WR-CALNAME:Kurikan Lakkitehdas
X-ORIGINAL-URL:https://kurikanlakkitehdas.fi
X-WR-CALDESC:Tapahtumat Kurikan Lakkitehdas
REFRESH-INTERVAL;VALUE=DURATION:PT1H
X-Robots-Tag:noindex
X-PUBLISHED-TTL:PT1H
BEGIN:VTIMEZONE
TZID:Europe/Helsinki
BEGIN:DAYLIGHT
TZOFFSETFROM:+0200
TZOFFSETTO:+0300
TZNAME:EEST
DTSTART:20210328T010000
END:DAYLIGHT
BEGIN:STANDARD
TZOFFSETFROM:+0300
TZOFFSETTO:+0200
TZNAME:EET
DTSTART:20211031T010000
END:STANDARD
BEGIN:DAYLIGHT
TZOFFSETFROM:+0200
TZOFFSETTO:+0300
TZNAME:EEST
DTSTART:20220327T010000
END:DAYLIGHT
BEGIN:STANDARD
TZOFFSETFROM:+0300
TZOFFSETTO:+0200
TZNAME:EET
DTSTART:20221030T010000
END:STANDARD
BEGIN:DAYLIGHT
TZOFFSETFROM:+0200
TZOFFSETTO:+0300
TZNAME:EEST
DTSTART:20230326T010000
END:DAYLIGHT
BEGIN:STANDARD
TZOFFSETFROM:+0300
TZOFFSETTO:+0200
TZNAME:EET
DTSTART:20231029T010000
END:STANDARD
END:VTIMEZONE
BEGIN:VEVENT
DTSTART;VALUE=DATE:20221203
DTEND;VALUE=DATE:20221204
DTSTAMP:20260422T020826
CREATED:20220926T085432Z
LAST-MODIFIED:20221127T141632Z
UID:5093-1670025600-1670111999@kurikanlakkitehdas.fi
SUMMARY:Not So Rock Big Band
DESCRIPTION:Koko kansan parhaat pikkujoulut ovat täällä. \nNot So Rock Big Band on täällä. Jo yli 10 vuotta Suomalaisia ihastuttanut ja vihastuttanut\nKurikan kuumin ja kauhein poikabändi viettää synttäreitään. Satoja keikkoja\, tuhansia kilometrejä miljoonia\ntölkkejä ja muutama nuottikin oikein silloin tällöin. \nJuhlakeikalla esiintymässä Not So Rock Big Band jossa yhtyeen tuttu puttujen heepojen lisäksi kokoonpanossa\nKurikka Horns eli torvisektio jossa puhkutaan ja puhalletaan\, taustaköörinä Kurikka Senoritas ja perkussiossa Taiga Hande. \nTule kuuntelemaan illan aikana kaikki tutut hitit ja hutit vuosien ajalta. \nIllan aloittaa Hola Chicas -tanssiryhmä jossa luvassa Twerk\, Salsa\, Street ja Heels mooveja. Tämä show ei jätä ketään kylmäksi tai kankeaksi \nTästä se joulu lähenee\, vietetään koko kansan pikkujoulut Baarilla \nHola Chicas klo 22.30\nNot So Rock 23\nLiput 15 €
URL:https://kurikanlakkitehdas.fi/tapahtuma/not-so-rock-big-band/
LOCATION:Makasiinin Baari\, Laurintie 28\, Kurikka\, 61300\, Finland
CATEGORIES:Makasiinin Baari
ATTACH;FMTTYPE=image/jpeg:https://kurikanlakkitehdas.fi/wp-content/uploads/2022/09/nsr-1.jpg
END:VEVENT
END:VCALENDAR