BEGIN:VCALENDAR
VERSION:2.0
PRODID:-//Kurikan Lakkitehdas - ECPv6.15.20//NONSGML v1.0//EN
CALSCALE:GREGORIAN
METHOD:PUBLISH
X-WR-CALNAME:Kurikan Lakkitehdas
X-ORIGINAL-URL:https://kurikanlakkitehdas.fi
X-WR-CALDESC:Tapahtumat Kurikan Lakkitehdas
REFRESH-INTERVAL;VALUE=DURATION:PT1H
X-Robots-Tag:noindex
X-PUBLISHED-TTL:PT1H
BEGIN:VTIMEZONE
TZID:Europe/Helsinki
BEGIN:DAYLIGHT
TZOFFSETFROM:+0200
TZOFFSETTO:+0300
TZNAME:EEST
DTSTART:20210328T010000
END:DAYLIGHT
BEGIN:STANDARD
TZOFFSETFROM:+0300
TZOFFSETTO:+0200
TZNAME:EET
DTSTART:20211031T010000
END:STANDARD
BEGIN:DAYLIGHT
TZOFFSETFROM:+0200
TZOFFSETTO:+0300
TZNAME:EEST
DTSTART:20220327T010000
END:DAYLIGHT
BEGIN:STANDARD
TZOFFSETFROM:+0300
TZOFFSETTO:+0200
TZNAME:EET
DTSTART:20221030T010000
END:STANDARD
BEGIN:DAYLIGHT
TZOFFSETFROM:+0200
TZOFFSETTO:+0300
TZNAME:EEST
DTSTART:20230326T010000
END:DAYLIGHT
BEGIN:STANDARD
TZOFFSETFROM:+0300
TZOFFSETTO:+0200
TZNAME:EET
DTSTART:20231029T010000
END:STANDARD
END:VTIMEZONE
BEGIN:VEVENT
DTSTART;VALUE=DATE:20221202
DTEND;VALUE=DATE:20221203
DTSTAMP:20260422T020826
CREATED:20221109T162857Z
LAST-MODIFIED:20221109T162857Z
UID:5841-1669939200-1670025599@kurikanlakkitehdas.fi
SUMMARY:Pannaanpas Panttilassa pikkujoulutkin vielä
DESCRIPTION:Pannaanpas Panttilassa pikkujoulutkin vielä! Perjantaina 2.12.2022 klo 18-24 \nBuffet-ruoka tarjolla klo 19-20.30 \nmenu: \nalkumalja  \nVihersalaatti\nAulangon tomaattisalaatti\nGraavisiika-omenatartar\nAurajuusto-päärynä-piparkakkusalaatti\nMarinoituja uunijuureksia\nHärkäpapuhummusta  \nYlikypsää porsaan niskaa omena-fenkolikastikeessa\npaahdettua perunaa ja juureksia  \nPannuleipää \nvaniljariisivanukas ja omena-rusina crumble  \nKlo 21 Kurikan Kaupunginorkesteri feat Henriikka Warm Bolt ja Kapellimestari Timo Kivistö  \nHinta 55 €
URL:https://kurikanlakkitehdas.fi/tapahtuma/pannaanpas-panttilassa-pikkujoulutkin-viela/
LOCATION:Kurikan Lakkitehdas\, Koivistonkyläntie 74\, Panttila\, 61310
CATEGORIES:Kurikan lakkitehdas
ATTACH;FMTTYPE=image/jpeg:https://kurikanlakkitehdas.fi/wp-content/uploads/2022/11/pannaanpikkujoulu-scaled.jpeg
END:VEVENT
END:VCALENDAR