BEGIN:VCALENDAR
VERSION:2.0
PRODID:-//Kurikan Lakkitehdas - ECPv6.15.20//NONSGML v1.0//EN
CALSCALE:GREGORIAN
METHOD:PUBLISH
X-ORIGINAL-URL:https://kurikanlakkitehdas.fi
X-WR-CALDESC:Tapahtumat Kurikan Lakkitehdas
REFRESH-INTERVAL;VALUE=DURATION:PT1H
X-Robots-Tag:noindex
X-PUBLISHED-TTL:PT1H
BEGIN:VTIMEZONE
TZID:Europe/Helsinki
BEGIN:DAYLIGHT
TZOFFSETFROM:+0200
TZOFFSETTO:+0300
TZNAME:EEST
DTSTART:20210328T010000
END:DAYLIGHT
BEGIN:STANDARD
TZOFFSETFROM:+0300
TZOFFSETTO:+0200
TZNAME:EET
DTSTART:20211031T010000
END:STANDARD
BEGIN:DAYLIGHT
TZOFFSETFROM:+0200
TZOFFSETTO:+0300
TZNAME:EEST
DTSTART:20220327T010000
END:DAYLIGHT
BEGIN:STANDARD
TZOFFSETFROM:+0300
TZOFFSETTO:+0200
TZNAME:EET
DTSTART:20221030T010000
END:STANDARD
BEGIN:DAYLIGHT
TZOFFSETFROM:+0200
TZOFFSETTO:+0300
TZNAME:EEST
DTSTART:20230326T010000
END:DAYLIGHT
BEGIN:STANDARD
TZOFFSETFROM:+0300
TZOFFSETTO:+0200
TZNAME:EET
DTSTART:20231029T010000
END:STANDARD
END:VTIMEZONE
BEGIN:VEVENT
DTSTART;VALUE=DATE:20221105
DTEND;VALUE=DATE:20221106
DTSTAMP:20260422T033839
CREATED:20221104T200000Z
LAST-MODIFIED:20221003T192829Z
UID:4037-1667606400-1667692799@kurikanlakkitehdas.fi
SUMMARY:Elonkerjuu
DESCRIPTION:ELONKERJUU yhtye etenee vuonna 2022 väkevästi kohti uusia kujeita ja konhootuksia. Kivijalka tukevasti lakeuksilla\, muistaen mistä on kotoisin.\nSinglet Ihollani aina ja Tulessa ( 2021 ) ovat soineet hienosti radiotaajuuksilla.\nYhtye on myynyt urallaan kultaa\, platinaa ja huikeat quatroplatinaa sekä pokannut lukuisia Emma-palkintoja.\nPaikallisradioiden musiikkitoimittajat valitsivat yhtyeen XX-albumin vuoden levyksi 2019.\nNykyisessä kokoonpanossa soittavat Osku Ketola\, Simo Ralli\, Antero\, Naali ja Lenni Paarma \nShowtime 24 
URL:https://kurikanlakkitehdas.fi/tapahtuma/makasiinin-2-vuotisbileet/
LOCATION:Makasiinin Baari\, Laurintie 28\, Kurikka\, 61300\, Finland
CATEGORIES:Makasiinin Baari
ATTACH;FMTTYPE=image/jpeg:https://kurikanlakkitehdas.fi/wp-content/uploads/2022/11/296204287_3177220599273648_2478979971867755301_n.jpg
END:VEVENT
END:VCALENDAR